BEGIN:VCALENDAR
VERSION:2.0
PRODID:-//Go AlbaAdriatica - ECPv6.9.1//NONSGML v1.0//EN
CALSCALE:GREGORIAN
METHOD:PUBLISH
X-ORIGINAL-URL:https://goalbaadriatica.it
X-WR-CALDESC:Eventi per Go AlbaAdriatica
REFRESH-INTERVAL;VALUE=DURATION:PT1H
X-Robots-Tag:noindex
X-PUBLISHED-TTL:PT1H
BEGIN:VTIMEZONE
TZID:Europe/Rome
BEGIN:DAYLIGHT
TZOFFSETFROM:+0100
TZOFFSETTO:+0200
TZNAME:CEST
DTSTART:20260329T010000
END:DAYLIGHT
BEGIN:STANDARD
TZOFFSETFROM:+0200
TZOFFSETTO:+0100
TZNAME:CET
DTSTART:20261025T010000
END:STANDARD
END:VTIMEZONE
BEGIN:VEVENT
DTSTART;TZID=Europe/Rome:20260315T170000
DTEND;TZID=Europe/Rome:20260315T170000
DTSTAMP:20260423T185547
CREATED:20260312T130756Z
LAST-MODIFIED:20260312T130832Z
UID:9959-1773594000-1773594000@goalbaadriatica.it
SUMMARY:“Oltre lo specchio” – Incontro e spettacolo teatrale
DESCRIPTION:Un pomeriggio dedicato alla riflessione sul rapporto con sé stessi\, sull’identità e sul benessere psicologico. Domenica 15 marzo alle ore 17:00\, presso Villa Flaiani ad Alba Adriatica\, si terrà l’incontro “Oltre lo specchio”\, promosso da Spazio Lilla by Équipe Donna\, con il patrocinio del Comune di Alba Adriatica. \nL’iniziativa propone un momento di confronto con professionisti ed esperti che affronteranno tematiche legate alla percezione di sé\, alla salute mentale e al benessere psicofisico. Interverranno: \n\nProf.ssa Antonietta Casciotti\, Sindaca di Alba Adriatica\nDott.ssa Ilaria Di Sabatino\, psicoterapeuta responsabile Équipe Donna\nDott.ssa Daniela Faragalli\, psicologa referente Spazio Lilla\nDott.ssa Chiara Di Natale\, medico psichiatra\nDott.ssa Luisa Bellachioma\, biologa nutrizionista\nDott. Domenico Di Sante\, medico psichiatra\nDott.ssa Lucrezia Capriotti\, biologa nutrizionista\n\nA seguire sarà messo in scena lo spettacolo teatrale “Oltre la voce”\, un momento artistico e narrativo che approfondisce\, attraverso il linguaggio del teatro\, i temi dell’ascolto\, dell’identità e della consapevolezza personale. \nLa regia è affidata a Maria Egle Spotorno\, con testi di Daniela Faragalli e Luca Federici. Sul palco gli attori Anna Salvi\, Carla Di Rocco e Chiara Sensi\, con musiche di Luca Federici e Valerio Valerii. \n🎟️ Ingresso gratuito \nUn appuntamento che unisce dialogo\, approfondimento e teatro per stimolare una maggiore consapevolezza sul benessere psicologico e sul valore dell’ascolto di sé.
URL:https://goalbaadriatica.it/eventi/oltre-lo-specchio-incontro-e-spettacolo-teatrale/
LOCATION:Biblioteca Villa Flaiani\, Via Roma 32\, Alba Adriatica\, 64011\, Italy
CATEGORIES:Cultura,Sociale
ATTACH;FMTTYPE=image/jpeg:https://goalbaadriatica.it/wp-content/uploads/2026/03/Oltre-lo-Specchio.jpeg
END:VEVENT
END:VCALENDAR