BEGIN:VCALENDAR
VERSION:2.0
PRODID:-//Go AlbaAdriatica - ECPv6.9.1//NONSGML v1.0//EN
CALSCALE:GREGORIAN
METHOD:PUBLISH
X-WR-CALNAME:Go AlbaAdriatica
X-ORIGINAL-URL:https://goalbaadriatica.it
X-WR-CALDESC:Eventi per Go AlbaAdriatica
REFRESH-INTERVAL;VALUE=DURATION:PT1H
X-Robots-Tag:noindex
X-PUBLISHED-TTL:PT1H
BEGIN:VTIMEZONE
TZID:Europe/Rome
BEGIN:DAYLIGHT
TZOFFSETFROM:+0100
TZOFFSETTO:+0200
TZNAME:CEST
DTSTART:20240331T010000
END:DAYLIGHT
BEGIN:STANDARD
TZOFFSETFROM:+0200
TZOFFSETTO:+0100
TZNAME:CET
DTSTART:20241027T010000
END:STANDARD
END:VTIMEZONE
BEGIN:VEVENT
DTSTART;TZID=Europe/Rome:20240902T210000
DTEND;TZID=Europe/Rome:20240902T210000
DTSTAMP:20260423T132449
CREATED:20240616T081742Z
LAST-MODIFIED:20240708T125503Z
UID:2385-1725310800-1725310800@goalbaadriatica.it
SUMMARY:Vai col Ballo......il lunedi sotto le stelle
DESCRIPTION:Torna “VAI COL BALLO”.\nAnche quest’anno appuntamento fisso con ballo tutti i lunedì presso la Bambinopoli Comunale\, una serie di serate danzanti ad Ingresso Libero organizzate dal Comune di Alba Adriatica con la collaborazione di ASD Music&Dance Academy e l’Associazione Arte Viva\, patrocinate dall’AssoArtisti dell’Adriatico.
URL:https://goalbaadriatica.it/eventi/vai-col-ballo-3/
LOCATION:Parco Bambinopoli\, Via Lungomare Marconi 2\, Alba Adriatica\, TE\, 64011
CATEGORIES:Ballo,Intrattenimento
ATTACH;FMTTYPE=image/jpeg:https://goalbaadriatica.it/wp-content/uploads/2024/06/ballo.jpeg
END:VEVENT
END:VCALENDAR