BEGIN:VCALENDAR
VERSION:2.0
PRODID:-//Go AlbaAdriatica - ECPv6.9.1//NONSGML v1.0//EN
CALSCALE:GREGORIAN
METHOD:PUBLISH
X-ORIGINAL-URL:https://goalbaadriatica.it
X-WR-CALDESC:Eventi per Go AlbaAdriatica
REFRESH-INTERVAL;VALUE=DURATION:PT1H
X-Robots-Tag:noindex
X-PUBLISHED-TTL:PT1H
BEGIN:VTIMEZONE
TZID:Europe/Rome
BEGIN:DAYLIGHT
TZOFFSETFROM:+0100
TZOFFSETTO:+0200
TZNAME:CEST
DTSTART:20250330T010000
END:DAYLIGHT
BEGIN:STANDARD
TZOFFSETFROM:+0200
TZOFFSETTO:+0100
TZNAME:CET
DTSTART:20251026T010000
END:STANDARD
END:VTIMEZONE
BEGIN:VEVENT
DTSTART;TZID=Europe/Rome:20250712T180000
DTEND;TZID=Europe/Rome:20250712T180000
DTSTAMP:20260423T235614
CREATED:20250523T113741Z
LAST-MODIFIED:20250708T150418Z
UID:7935-1752343200-1752343200@goalbaadriatica.it
SUMMARY:Notte Colorata dei Bambini - 5^ edizione
DESCRIPTION:Sabato 12 luglio 2025\, dalle ore 18.00 – Lungomare Marconi\, tratto compreso tra via Toscana a Via trieste\n\nIl 12 luglio il Lungomare Marconi si trasformerà in un mondo di fantasia per la Notte Colorata dei Bambini. \nDalle ore 18.00\, spettacoli\, giochi interattivi\, laboratori creativi e animazione renderanno il lungomare un luogo incantato\, dove ogni bambino potrà vivere emozioni uniche\, sotto il cielo d’estate\, in un tripudio di colori e allegria. Una bellissima atmosfera di gioia\, divertimento ed arte per grandi e piccini con animazione per bambini ed artisti di strada. \n\nLA NOTTE COLORATA giunta alla quinta edizione\, si terrà nel tratto di lungomare compreso tra la Via Toscana via Trieste. Vi aspettiamo per vivere una serata magica tra colori\, magia\, musica e fantasia.\n\nProgramma della serata\nDalle ore 18:00: \n\nTruccabimbi e attività di animazione itinerante\nBaby dance\, bolle di sapone e giochi interattivi\nLaboratori creativi e sensoriali\n\nDalle ore 21:00: \n\nSpettacolo “Magica Giocoleria” con Andrea Rosatelli\nShow “Facce Buffe” con Marameo Clown\nSpettacolo “Pupazzi e Marionette” con Compagnia di Teatro di Strada\nSpettacolo finale con I Vagaband\, marching band itinerante che unisce musica e animazione\n\n\nPARATE E SPETTACOLI ITINERANTI (ore 21:00)\n\nChocoparade lato nord (zona via Trieste):\n\nCarro scenografico Willy Wonka e la fabbrica di cioccolato\nFiguranti\, coreografie musicali e distribuzione gratuita di cioccolatini Eurochocolate\n\n\nParata White lato sud (zona via Toscana):\n\nCarro con macchina scenica musicale\, figure fluttuanti e ballerine luminose\nEleganza e magia visiva attraverso luci\, trampoli e costumi bianchi\n\n\nWhite Party Ballon (Piazza Montale\, ore 23:15):\n\n\nPerformance visual e musicali con giochi di luce\nDanze coreografate e artisti in costume LED\nSpettacolo finale con atmosfere oniriche e futuristiche\n\n\n\n\nPOSTAZIONI ARTISTICHE (ore 21:00 – 23:30 circa)\n1. Strudel Bolla di Sapone (ore 21:30 – 22:30) \n\nBolle giganti\, sculture volanti e giochi visuali con sapone\n\n2. Sparkle – Spettacolo di fuoco (ore 22:05 – 23:15) \n\n\nEffetti di fuoco\, danza acrobatica\, costumi LED e contatto scenico \n\n\n3. Di Filippo Marionette (ore 21:00 – 22:30) \n\n\nTeatro gestuale\, marionette di legno\, comicità senza parole \n\n\n4. Teatro dei Burattini (ore 21:30 – 23:30) \n\n\nSpettacolo classico con burattini\, fiabe e interazione con il pubblico \n\n\n5. Ernesto Planas Roldan (ore 21:00 – 23:30) \n\n\nIllusionismo cubano\, comicità visiva\, “Magia Show” con cubi\, foulard e giochi di prestigio \n\n\n6. Antonio Tremani (ore 22:00 – 23:00) \n\n\nGiocoleria\, comicità visiva\, equilibrismo e virtuosismo \n\n\n7. Pazo Teatro (ore 22:30) \n\nReplica spettacolo clown/mimo della durata di 45 minuti\nComico poetico con gag visive e mimo teatrale\n\n8. Send Art – Spettacolo della sabbia (ore 22:00 – 23:30) \n\n\nNarrazione con disegni realizzati in diretta su sabbia e proiettati \n\n\n9. Kids Color Party – Kaos Party (ore 21:10 in poi) \n\nMini luna park con gonfiabili\, giochi giganti e animazione\nBolle\, mascotte\, truccabimbi\, baby dance\, mini pista\, tunnel e giostra fantasy\n\n10. Lella Truccabimbi (ore 21:00 in poi) \n\n\nPostazione make-up bimbi con disegni creativi e colorati \n\n\n\nINIZIATIVA SPECIALE\n\nPesca bambini Giochi Lisciani\n\n\nSi trova tra postazione 2 e 3\nPremi\, giochi e gadget firmati Lisciani Giochi\n\n\n\nL’ingresso è libero e le attività sono gratuite. In caso di maltempo\, la manifestazione sarà rinviata.
URL:https://goalbaadriatica.it/eventi/notte-colorata-dei-bambini-25/
LOCATION:Lungomare Marconi Sud (via Toscana-via Trieste)\, Via Lungomare G. Marconi 240\, Alba Adriatica\, 64011\, Italy
CATEGORIES:Bambini,Intrattenimento
ATTACH;FMTTYPE=image/jpeg:https://goalbaadriatica.it/wp-content/uploads/2025/05/NOTTE-COLORATA-DEI-BAMBINI_locandina.jpg
END:VEVENT
END:VCALENDAR