BEGIN:VCALENDAR
VERSION:2.0
PRODID:-//Go AlbaAdriatica - ECPv6.9.1//NONSGML v1.0//EN
CALSCALE:GREGORIAN
METHOD:PUBLISH
X-WR-CALNAME:Go AlbaAdriatica
X-ORIGINAL-URL:https://goalbaadriatica.it
X-WR-CALDESC:Eventi per Go AlbaAdriatica
REFRESH-INTERVAL;VALUE=DURATION:PT1H
X-Robots-Tag:noindex
X-PUBLISHED-TTL:PT1H
BEGIN:VTIMEZONE
TZID:Europe/Rome
BEGIN:DAYLIGHT
TZOFFSETFROM:+0100
TZOFFSETTO:+0200
TZNAME:CEST
DTSTART:20250330T010000
END:DAYLIGHT
BEGIN:STANDARD
TZOFFSETFROM:+0200
TZOFFSETTO:+0100
TZNAME:CET
DTSTART:20251026T010000
END:STANDARD
END:VTIMEZONE
BEGIN:VEVENT
DTSTART;TZID=Europe/Rome:20250806T180000
DTEND;TZID=Europe/Rome:20250806T180000
DTSTAMP:20260423T222702
CREATED:20250611T145942Z
LAST-MODIFIED:20250714T051952Z
UID:8133-1754503200-1754503200@goalbaadriatica.it
SUMMARY:Carnevalba Circus...aspettando il Carnevale Estivo
DESCRIPTION:Mercoledì 6 agosto 2025\, dalle ore 18.00 \nAlba Adriatica accoglie grandi e piccoli con ‘Carnevalba Circus’\, una giornata di festa che anticipa il Carnevale estivo. Animazione itinerante\, spettacoli circensi\, laboratori creativi e sorprese colorate invaderanno il Lungomare Marconi sud\, tra via Toscana e via Isonzo. \nL’evento è promosso dall’associazione Paidia. \nCosa troverai \n\n🎪 Spettacoli circensi\n🎉 Animazione itinerante\n🗿 Intrattenimento mimi e statue viventi\n🎈 Gonfiabili e giochi interattivi\n🎭 Performer e artisti in postazioni tematiche lungo il tratto sud del lungomare.\n\n\nUn pomeriggio di festa\, colore e sorrisi per tutta la famiglia! \n______________ \nATTENZIONE IL 6 AGOSTO NON CI SARÀ LA SFILATA DEI CARRI E DELLE MASCHERE PREVISTA PER IL GIORNO SUCCESSIVO\, IL 7 AGOSTO! \nInfo:  \n\nwww.carnevalba.it\nwww.facebook.com/carnevalba\nwww.instagram.com/carnevalba
URL:https://goalbaadriatica.it/eventi/carnevalba-circus-aspettando-il-carnevale-estivo/
LOCATION:Lungomare Marconi Sud (Via Toscana – Via Isonzo)\, Via Lungomare Marconi 362\, Alba Adriatica\, 64011\, Italy
CATEGORIES:Bambini,Intrattenimento,Ragazzi
ATTACH;FMTTYPE=image/jpeg:https://goalbaadriatica.it/wp-content/uploads/2025/06/Aspettando-il-Carnevale.jpeg
END:VEVENT
END:VCALENDAR