BEGIN:VCALENDAR
VERSION:2.0
PRODID:-//Go AlbaAdriatica - ECPv6.9.1//NONSGML v1.0//EN
CALSCALE:GREGORIAN
METHOD:PUBLISH
X-WR-CALNAME:Go AlbaAdriatica
X-ORIGINAL-URL:https://goalbaadriatica.it
X-WR-CALDESC:Eventi per Go AlbaAdriatica
REFRESH-INTERVAL;VALUE=DURATION:PT1H
X-Robots-Tag:noindex
X-PUBLISHED-TTL:PT1H
BEGIN:VTIMEZONE
TZID:Europe/Rome
BEGIN:DAYLIGHT
TZOFFSETFROM:+0100
TZOFFSETTO:+0200
TZNAME:CEST
DTSTART:20250330T010000
END:DAYLIGHT
BEGIN:STANDARD
TZOFFSETFROM:+0200
TZOFFSETTO:+0100
TZNAME:CET
DTSTART:20251026T010000
END:STANDARD
END:VTIMEZONE
BEGIN:VEVENT
DTSTART;TZID=Europe/Rome:20250830T160000
DTEND;TZID=Europe/Rome:20250830T160000
DTSTAMP:20260423T222701
CREATED:20250616T084047Z
LAST-MODIFIED:20250823T182307Z
UID:8170-1756569600-1756569600@goalbaadriatica.it
SUMMARY:Fuori Festa Bike – 2ª edizione
DESCRIPTION:Sabato 30 agosto 2025\, dalle ore 10.00 – Lungomare Marconi\, da via Toscana a via Abruzzo \nSul Lungomare Marconi\, si tiene la 2ª edizione di “Fuori Festa Bike”\, pedalata urbana organizzata dall’associazione Fuori Sella Bike. \nUn’iniziativa per tutti – famiglie\, sportivi e bambini – pensata per promuovere la mobilità sostenibile e chiudere la stagione con una giornata all’insegna della salute e della condivisione.
URL:https://goalbaadriatica.it/eventi/fuori-festa-bike-2a-edizione/
LOCATION:Lungomare Marconi (via Toscana-via Abruzzo)\, Via lungomare marconi 290\, Alba Adriatica\, TE\, 64011
CATEGORIES:Bambini,Intrattenimento,Musica,Ragazzi,Sagra
ATTACH;FMTTYPE=image/jpeg:https://goalbaadriatica.it/wp-content/uploads/2025/06/dccbdcf1-4deb-4d56-abd2-d84dee5b6666.jpeg
END:VEVENT
END:VCALENDAR