BEGIN:VCALENDAR
VERSION:2.0
PRODID:-//Go AlbaAdriatica - ECPv6.9.1//NONSGML v1.0//EN
CALSCALE:GREGORIAN
METHOD:PUBLISH
X-WR-CALNAME:Go AlbaAdriatica
X-ORIGINAL-URL:https://goalbaadriatica.it
X-WR-CALDESC:Eventi per Go AlbaAdriatica
REFRESH-INTERVAL;VALUE=DURATION:PT1H
X-Robots-Tag:noindex
X-PUBLISHED-TTL:PT1H
BEGIN:VTIMEZONE
TZID:Europe/Rome
BEGIN:DAYLIGHT
TZOFFSETFROM:+0100
TZOFFSETTO:+0200
TZNAME:CEST
DTSTART:20250330T010000
END:DAYLIGHT
BEGIN:STANDARD
TZOFFSETFROM:+0200
TZOFFSETTO:+0100
TZNAME:CET
DTSTART:20251026T010000
END:STANDARD
BEGIN:DAYLIGHT
TZOFFSETFROM:+0100
TZOFFSETTO:+0200
TZNAME:CEST
DTSTART:20260329T010000
END:DAYLIGHT
BEGIN:STANDARD
TZOFFSETFROM:+0200
TZOFFSETTO:+0100
TZNAME:CET
DTSTART:20261025T010000
END:STANDARD
END:VTIMEZONE
BEGIN:VEVENT
DTSTART;TZID=Europe/Rome:20251220T183000
DTEND;TZID=Europe/Rome:20251220T183000
DTSTAMP:20260424T011547
CREATED:20251205T192443Z
LAST-MODIFIED:20251205T192443Z
UID:9859-1766255400-1766255400@goalbaadriatica.it
SUMMARY:Saggio di Natale – Ginnastica Ritmica “Ritmica sotto l’albero”
DESCRIPTION:Saggio di Natale – Ginnastica Ritmica “Ritmica sotto l’albero”\nSabato 20 dicembre 2025\, alle ore 18:30 presso il Palazzetto dello Sport in Via degli Oleandri \nL’ASD Dimensione Fitness porta in scena il tradizionale saggio natalizio di ginnastica ritmica\, un appuntamento che ogni anno emoziona famiglie e appassionati. \nCoreografie\, musica\, eleganza e tanto impegno per un evento che celebra lo sport e la magia del Natale. \nIngresso libero fino a esaurimento posti.
URL:https://goalbaadriatica.it/eventi/saggio-di-natale-ginnastica-ritmica-ritmica-sotto-lalbero/
LOCATION:Palazzetto dello sport (Via degli Oleandri)\, Via degli Oleandri\, Alba Adriatica\, 64011\, Italy
CATEGORIES:Ballo,Bambini,Cultura,Musica,Ragazzi
ATTACH;FMTTYPE=image/png:https://goalbaadriatica.it/wp-content/uploads/2025/12/Saggio-Natale-Dimensione-Fitness.png
END:VEVENT
BEGIN:VEVENT
DTSTART;TZID=Europe/Rome:20251221T180000
DTEND;TZID=Europe/Rome:20251221T180000
DTSTAMP:20260424T011547
CREATED:20251205T194321Z
LAST-MODIFIED:20251205T194321Z
UID:9863-1766340000-1766340000@goalbaadriatica.it
SUMMARY:Concerto “Fine anno… in BAND!” – Music Play
DESCRIPTION:Concerto “Fine anno… in BAND!” – Music Play\n21 dicembre 2025 – ore 18:00\, Sala Polifunzionale in Via Bafile\, Alba Adriatica \nLa scuola di musica Music Play\, in collaborazione con il Conservatorio “G. Braga” di Teramo\, presenta il tradizionale spettacolo di fine anno: un concerto delle giovani band formate dagli allievi. \nUn evento che unisce musica\, entusiasmo e talento\, perfetto per immergersi nell’atmosfera natalizia e sostenere i nostri piccoli musicisti. \n🎶 Ingresso libero
URL:https://goalbaadriatica.it/eventi/concerto-fine-anno-in-band-music-play/
LOCATION:Sala Polifunzionale Via Bafile\, Via Bafile 71\, Alba Adriatica\, 64011\, Italy
CATEGORIES:Bambini,Concerti,Intrattenimento,Musica
ATTACH;FMTTYPE=image/png:https://goalbaadriatica.it/wp-content/uploads/2025/12/Fine-Anno-Band.png
END:VEVENT
BEGIN:VEVENT
DTSTART;TZID=Europe/Rome:20251223T193000
DTEND;TZID=Europe/Rome:20251223T193000
DTSTAMP:20260424T011547
CREATED:20251205T195255Z
LAST-MODIFIED:20251208T101829Z
UID:9866-1766518200-1766518200@goalbaadriatica.it
SUMMARY:Saggio di Natale – Ginnastica Ritmica “Ritmica sotto l’albero”
DESCRIPTION:Saggio Natalizio ASD Ritmica Aurea – “Lo Schiaccianoci e i Quattro Regni”\nMartedì 23 dicembre 2025 – ore 19:30\, presso il Palazzetto dello Sport\, in Via degli Oleandri \nLa Ritmica Aurea presenta il suo saggio di Natale ispirato al mondo incantato de Lo Schiaccianoci: un viaggio tra musica\, fantasia e movimenti eleganti interpretati dalle giovani ginnaste della società. \nUno spettacolo che unisce sport e teatro in pieno spirito natalizio. \n✨ Ingresso libero
URL:https://goalbaadriatica.it/eventi/saggio-di-natale-ginnastica-ritmica-ritmica-sotto-lalbero-2025/
LOCATION:Palazzetto dello sport (Via degli Oleandri)\, Via degli Oleandri\, Alba Adriatica\, 64011\, Italy
CATEGORIES:Ballo,Bambini,Cultura,Musica,Ragazzi
ATTACH;FMTTYPE=image/jpeg:https://goalbaadriatica.it/wp-content/uploads/2025/12/Saggio-Natale-Ritmica-Aurea.jpeg
END:VEVENT
BEGIN:VEVENT
DTSTART;TZID=Europe/Rome:20251226T153000
DTEND;TZID=Europe/Rome:20251226T153000
DTSTAMP:20260424T011547
CREATED:20251205T195943Z
LAST-MODIFIED:20251226T115313Z
UID:9868-1766763000-1766763000@goalbaadriatica.it
SUMMARY:Spettacolo di Magia – “Abrakadabra” con Ivan Mistereko
DESCRIPTION:Spettacolo di Magia – “Abrakadabra” con Ivan Mistereko\nEVENTO RINVIATO “CAUSA MALTEMPO” A DATA DA DEFINIRE\nNel pomeriggio di Santo Stefano la magia arriva nel cuore di Alba Adriatica! \nIl maestro dell’illusionismo Ivan Mistereko porta in scena Abrakadabra\, uno spettacolo ricco di sorprese\, effetti speciali\, trucchi spettacolari e momenti di puro stupore per grandi e bambini. \nUn appuntamento pensato per tutta la famiglia\, tra giochi di prestigio\, divertimento e quell’atmosfera natalizia che continua a incantare anche dopo il 25 dicembre. \n✨ Ingresso libero
URL:https://goalbaadriatica.it/eventi/spettacolo-di-magia-abrakadabra-con-ivan-mistereko/
LOCATION:Piazza del Popolo\, Piazza del Popolo\, Alba Adriatica\, TE\, 64011\, Italia
CATEGORIES:Bambini,Intrattenimento
ATTACH;FMTTYPE=image/png:https://goalbaadriatica.it/wp-content/uploads/2025/12/ABRAKADABRA_RINVIATO_1.png
END:VEVENT
BEGIN:VEVENT
DTSTART;TZID=Europe/Rome:20251229T153000
DTEND;TZID=Europe/Rome:20251230T190000
DTSTAMP:20260424T011547
CREATED:20251207T100204Z
LAST-MODIFIED:20251208T100231Z
UID:9874-1767022200-1767121200@goalbaadriatica.it
SUMMARY:Il Villaggio di Babbo Natale
DESCRIPTION:Il Villaggio di Babbo Natale – 29 e 30 dicembre 2025\nIn Piazza del Popolo\, ad Alba Adriatica\, dalle ore 15:30 \nLa magia del Natale continua ad Alba Adriatica con due pomeriggi interamente dedicati ai più piccoli (e non solo!). Lunedì 29 e martedi 30 dicembre\, Piazza del Popolo si trasforma nel coloratissimo Villaggio di Babbo Natale\, un luogo incantato dove giochi\, musica e personaggi natalizi accompagneranno grandi e bambini in un’atmosfera festosa e coinvolgente. \nUn programma ricco di attività divertenti e pensato per far vivere ai bambini un Natale speciale: \n\nTruccaBimbi 🎨\nBaby Dance 💃\nAnimazione e giochi di gruppo 🎈\nBolle di sapone 🫧\nLa Grande Casa di Babbo Natale\, dove i bambini potranno incontrarlo insieme ai suoi amici elfi 🎅✨\n\nE non è tutto: all’interno del Villaggio saranno presenti anche la pista sul ghiaccio e il Luna Park\, per rendere l’esperienza ancora più completa. \nDue giorni di puro divertimento\nIl Villaggio aprirà entrambi i giorni alle ore 15:30\, con animazione continua e tante sorprese per tutta la famiglia. \n\n🎟️ Ingresso libero \nUn appuntamento da non perdere per vivere insieme la magia del periodo natalizio!
URL:https://goalbaadriatica.it/eventi/il-villaggio-di-babbo-natale/
LOCATION:Piazza del Popolo\, Piazza del Popolo\, Alba Adriatica\, TE\, 64011\, Italia
CATEGORIES:Bambini,Intrattenimento,Musica,Ragazzi
ATTACH;FMTTYPE=image/jpeg:https://goalbaadriatica.it/wp-content/uploads/2025/12/Villaggio-babbo-Natale.jpeg
END:VEVENT
BEGIN:VEVENT
DTSTART;TZID=Europe/Rome:20260103T143000
DTEND;TZID=Europe/Rome:20260103T143000
DTSTAMP:20260424T011547
CREATED:20251230T083151Z
LAST-MODIFIED:20260101T204329Z
UID:9902-1767450600-1767450600@goalbaadriatica.it
SUMMARY:Presepe Vivente e Arrivo dei Re Magi
DESCRIPTION:Presepe Vivente e Arrivo dei Re Magi\nSabato 3 gennaio 2026\, Ore 14.30\, presso la Parrocchia Sant’Eufemia ad Alba Adriatica\, un appuntamento suggestivo e molto atteso\, pensato soprattutto per i più piccoli\, che apre il nuovo anno nel segno della tradizione e della magia del Natale. \nLa comunità parrocchiale propone il Presepe Vivente con l’arrivo dei Re Magi\, un momento emozionante che rievoca la Natività e accompagna bambini e famiglie nel racconto dell’Epifania. \nI più piccoli potranno consegnare la loro letterina e rivolgere ai Re Magi un desiderio speciale: \n✨ un dono spirituale 🎁 e uno materiale \nUn evento semplice ma ricco di significato\, capace di unire fede\, tradizione e partecipazione\, in un’atmosfera calda e coinvolgente per tutta la famiglia. \n👉 Ingresso libero
URL:https://goalbaadriatica.it/eventi/presepe-vivente-e-arrivo-dei-re-magi/
LOCATION:Parrocchia Sant’Eufemia\, Viale Vittoria 22\, Alba Adriatica\, 64011\, Italy
CATEGORIES:Bambini,Cultura,Intrattenimento,Sociale
ATTACH;FMTTYPE=image/jpeg:https://goalbaadriatica.it/wp-content/uploads/2025/12/Presepe-Vivente.jpeg
END:VEVENT
BEGIN:VEVENT
DTSTART;TZID=Europe/Rome:20260110T153000
DTEND;TZID=Europe/Rome:20260110T153000
DTSTAMP:20260424T011547
CREATED:20251230T085058Z
LAST-MODIFIED:20260107T142347Z
UID:9894-1768059000-1768059000@goalbaadriatica.it
SUMMARY:Arriva la Befana ad Alba Adriatica
DESCRIPTION:Arriva la Befana ad Alba Adriatica \n🎁🧹\nSabato 10 gennaio 2026\, a partire dalle ore 15:30\, Villa Flaiani si trasforma in un grande spazio di festa per celebrare l’Epifania insieme a grandi e piccoli. \nUn pomeriggio all’insegna del divertimento\, dell’animazione e della magia\, con tante attività pensate per le famiglie e per i bambini: \nProgramma dell’evento\n\nOre 15:30 – Apertura dell’evento e intrattenimento musicale\nOre 16:00-17:30 – Truccabimbi\, Animazione\, Baby dance e lo Spettacolo di Magia con il Mago ALEX\nOre 16:30 – Circus Show con le acrobate del “Circo Taglia Unica”\, spettacolo di grande impatto visivo\nOre 17:30 – Sfilata delle Befane e consegna dei regali\n\nLa Befana arriverà in piazza accompagnata dai suoi amici per regalare sorrisi\, sorprese e un momento speciale da condividere con tutta la famiglia. \n🎉 Evento gratuito \nUn appuntamento imperdibile per chiudere le festività natalizie con allegria e spirito di comunità\, nel cuore della città.
URL:https://goalbaadriatica.it/eventi/arriva-la-befana-ad-alba-adriatica/
LOCATION:Parco Villa Flaiani\, Via Roma 32\, Alba Adriatica\, TE\, 64011
CATEGORIES:Bambini,Intrattenimento,Musica,Ragazzi
ATTACH;FMTTYPE=image/png:https://goalbaadriatica.it/wp-content/uploads/2025/12/ARRIVA-LA-BEFANA_Locandina_EVENTO-RINVIATO_ok.png
END:VEVENT
END:VCALENDAR