BEGIN:VCALENDAR
VERSION:2.0
PRODID:-//Go AlbaAdriatica - ECPv6.9.1//NONSGML v1.0//EN
CALSCALE:GREGORIAN
METHOD:PUBLISH
X-WR-CALNAME:Go AlbaAdriatica
X-ORIGINAL-URL:https://goalbaadriatica.it
X-WR-CALDESC:Eventi per Go AlbaAdriatica
REFRESH-INTERVAL;VALUE=DURATION:PT1H
X-Robots-Tag:noindex
X-PUBLISHED-TTL:PT1H
BEGIN:VTIMEZONE
TZID:Europe/Rome
BEGIN:DAYLIGHT
TZOFFSETFROM:+0100
TZOFFSETTO:+0200
TZNAME:CEST
DTSTART:20240331T010000
END:DAYLIGHT
BEGIN:STANDARD
TZOFFSETFROM:+0200
TZOFFSETTO:+0100
TZNAME:CET
DTSTART:20241027T010000
END:STANDARD
END:VTIMEZONE
BEGIN:VEVENT
DTSTART;TZID=Europe/Rome:20240712T173000
DTEND;TZID=Europe/Rome:20240712T173000
DTSTAMP:20260423T163733
CREATED:20240616T071232Z
LAST-MODIFIED:20240708T124625Z
UID:1934-1720805400-1720805400@goalbaadriatica.it
SUMMARY:Favole in Pineta
DESCRIPTION:L’arte trasporterà i presenti in una dimensione magica\, permetterà di sognare ad occhi aperti e di viaggiare pur rimanendo fermi immergendoli in mondi fantastici.\nLa lettura\, il teatro ed il processo creativo posseggono un forte potere evocativo e rappresentano un momento altamente formativo per i bimbi\, gli adulti e per il loro mondo interiore\, la loro sfera emotiva e la creatività.\n\nNon perdere l’appuntamento “FAVOLE IN PINETA“\, tutti i venerdi a partire dal 5 luglio e sino al 30 agosto 2024.
URL:https://goalbaadriatica.it/eventi/favole-in-pineta-2/
LOCATION:Pineta Litoranea Nord\, Via Lungomare Marconi 210\, Alba Adriatica\, TE\, 64011
CATEGORIES:Bambini,Cultura
ATTACH;FMTTYPE=image/jpeg:https://goalbaadriatica.it/wp-content/uploads/2024/06/fiabe-e-favole-in-pineta.jpg
END:VEVENT
BEGIN:VEVENT
DTSTART;TZID=Europe/Rome:20240710T211500
DTEND;TZID=Europe/Rome:20240710T211500
DTSTAMP:20260423T163733
CREATED:20240616T071111Z
LAST-MODIFIED:20240710T064800Z
UID:1858-1720646100-1720646100@goalbaadriatica.it
SUMMARY:Ciak Bimbi - Rassegna cinematografica
DESCRIPTION:In onda “Il libro della giungla“. \nLa pantera Baghera scopre un bambino abbandonato\, Mowgli\, nella giungla e decide di affidarlo a una famiglia di lupi che lo alleva come un cucciolo. Quando ha 10 anni\, il ragazzino deve decidere se lasciare tutto per raggiungere il mondo degli umani. \n___________________ \nTutti i mercoledì a partire dal 26 giugno e sino al 28 agosto presso la Bambinopoli Comunale alle ore 21:15 riparte CIAKBIMBI\, la rassegna cinematografica giunta alla sua quinta edizione\, tra realtà e fantasia che ha affascinato bambini ed adolescenti.
URL:https://goalbaadriatica.it/eventi/ciak-bimbi-2/
LOCATION:Parco Bambinopoli\, Via Lungomare Marconi 2\, Alba Adriatica\, TE\, 64011
CATEGORIES:Bambini,Cinema
ATTACH;FMTTYPE=image/webp:https://goalbaadriatica.it/wp-content/uploads/2024/06/il-libro-della-giungla.webp
END:VEVENT
END:VCALENDAR