BEGIN:VCALENDAR
VERSION:2.0
PRODID:-//Go AlbaAdriatica - ECPv6.9.1//NONSGML v1.0//EN
CALSCALE:GREGORIAN
METHOD:PUBLISH
X-ORIGINAL-URL:https://goalbaadriatica.it
X-WR-CALDESC:Eventi per Go AlbaAdriatica
REFRESH-INTERVAL;VALUE=DURATION:PT1H
X-Robots-Tag:noindex
X-PUBLISHED-TTL:PT1H
BEGIN:VTIMEZONE
TZID:Europe/Rome
BEGIN:DAYLIGHT
TZOFFSETFROM:+0100
TZOFFSETTO:+0200
TZNAME:CEST
DTSTART:20250330T010000
END:DAYLIGHT
BEGIN:STANDARD
TZOFFSETFROM:+0200
TZOFFSETTO:+0100
TZNAME:CET
DTSTART:20251026T010000
END:STANDARD
END:VTIMEZONE
BEGIN:VEVENT
DTSTART;TZID=Europe/Rome:20250714T213000
DTEND;TZID=Europe/Rome:20250714T213000
DTSTAMP:20260421T120219
CREATED:20250526T163149Z
LAST-MODIFIED:20250619T110512Z
UID:7951-1752528600-1752528600@goalbaadriatica.it
SUMMARY:Buon Compleanno Alba Adriatica - Beatles Tribute Band
DESCRIPTION:Lunedì 14 luglio 2025\, ore 21.30 – Piazzetta Sant’Egidio\, Lungomare Marconi \nAlba Adriatica festeggia il suo compleanno con una serata indimenticabile: lunedì 14 luglio alle ore 21.30\, nella Piazzetta Sant’Egidio\, si terrà il concerto dei BeatBox\, una delle tribute band più apprezzate a livello nazionale. \nSarà un viaggio emozionante attraverso i più grandi successi dei Beatles\, per celebrare insieme la città e le sue tradizioni musicali. \n\nScopri di più sui “The BeatBox”: www.thebeatboxbeatles.com
URL:https://goalbaadriatica.it/eventi/buon-compleanno-alba-adriatica-beatles-tribute-band/
LOCATION:Piazza S.Egidio (Lungomare Marconi)\, Via Lungomare Marconi 350\, Alba Adriatica\, TE\, 64011
CATEGORIES:Concerti,Intrattenimento,Musica
ATTACH;FMTTYPE=image/png:https://goalbaadriatica.it/wp-content/uploads/2025/05/Beatbox_14-Luglio_Alba-Adriatica_1.png
END:VEVENT
BEGIN:VEVENT
DTSTART;TZID=Europe/Rome:20250718T210000
DTEND;TZID=Europe/Rome:20250718T210000
DTSTAMP:20260421T120219
CREATED:20250526T163702Z
LAST-MODIFIED:20250526T163702Z
UID:7955-1752872400-1752872400@goalbaadriatica.it
SUMMARY:Festa della Musica - Dance Tarantella
DESCRIPTION:Venerdì 18 e 19 luglio 2025\, dalle ore 21.00 – Piazza del Popolo\, due serate all’insegna del divertimento e della musica. \nSi parte venerdì 18 luglio\, la musica popolare del Sud Italia sarà protagonista della Notte della Taranta ad Alba Adriatica. \nPiazza del Popolo ospiterà spettacoli dal vivo\, ritmi travolgenti e balli tradizionali che faranno vibrare il cuore di tutti i presenti\, in una notte che unirà cultura\, energia e tradizione.
URL:https://goalbaadriatica.it/eventi/festa-della-musica-dance-tarantella/
LOCATION:Piazza del Popolo\, Piazza del Popolo\, Alba Adriatica\, TE\, 64011\, Italia
CATEGORIES:Ballo,Concerti,Intrattenimento,Musica
ATTACH;FMTTYPE=image/jpeg:https://goalbaadriatica.it/wp-content/uploads/2025/05/Festa-della-Musica.jpg
END:VEVENT
BEGIN:VEVENT
DTSTART;TZID=Europe/Rome:20250719T210000
DTEND;TZID=Europe/Rome:20250719T210000
DTSTAMP:20260421T120219
CREATED:20250526T163916Z
LAST-MODIFIED:20250526T163916Z
UID:7959-1752958800-1752958800@goalbaadriatica.it
SUMMARY:Festa della Musica - Nostalgia '90
DESCRIPTION:Venerdì 18 e 19 luglio 2025\, dalle ore 21.00 – Piazza del Popolo\, due serate all’insegna del divertimento e della musica. \nChiude il Festival musicale\, Sabato 19 luglio\, dando spazio ai nostalgici degli anni ’90 con il Format Anni ’90 più entusiasmante d’Italia! \nPiazza del Popolo si trasformerà in una grande discoteca a cielo aperto\, con dj set\, coreografie e musica per rivivere i grandi successi che hanno fatto ballare un’intera generazione.
URL:https://goalbaadriatica.it/eventi/festa-della-musica-nostalgia-90/
LOCATION:Piazza del Popolo\, Piazza del Popolo\, Alba Adriatica\, TE\, 64011\, Italia
CATEGORIES:Ballo,Concerti,Intrattenimento,Musica
ATTACH;FMTTYPE=image/jpeg:https://goalbaadriatica.it/wp-content/uploads/2025/05/Festa-della-Musica.jpg
END:VEVENT
BEGIN:VEVENT
DTSTART;TZID=Europe/Rome:20250724T210000
DTEND;TZID=Europe/Rome:20250724T210000
DTSTAMP:20260421T120219
CREATED:20250526T164602Z
LAST-MODIFIED:20250717T194822Z
UID:9461-1753390800-1753390800@goalbaadriatica.it
SUMMARY:La Vedova Allegra – Operetta in Villa
DESCRIPTION:24 luglio 2025 – Ore 21:15 \nParco di Villa Flaiani – Via Roma\, Alba Adriatica \nIngresso gratuito \nAll’interno della rassegna “Note d’in…canto in Villa”\, il Parco di Villa Flaiani ospita La Vedova Allegra\, celebre operetta di Franz Lehar proposta in un coinvolgente adattamento drammaturgico a cura di Paolo Santarelli. \nUn evento di grande fascino\, che vedrà protagonisti artisti lirici di livello nazionale e una raffinata messa in scena con narrazione\, musica dal vivo e corpo di ballo. Lo spettacolo è a cura della Compagnia Lirica Incontri d’Opera – C.L.I.O. \nCast \n\nHanna Glawari (Soprano): Patrizia Perozzi\nDanilo Danilowitsch (Tenore): Tommaso Mangifesta\nMirko Zeta (Baritono): Davide Bartolucci\nCamille de Rossillon (Tenore): Carlo Giacchetta\nPianoforte: Davide Martelli\nCorpo di ballo: Natalia Ciarrocchi e Claudio Casavecchia\nNarrazione\, regia e costumi: Paolo Santarelli\n\nL’evento è patrocinato dalla Città di Alba Adriatica e promosso dalla Pro Loco Spiaggia d’Argento.
URL:https://goalbaadriatica.it/eventi/la-vedova-allegra-operetta-in-villa/
LOCATION:Parco Villa Flaiani\, Via Roma 32\, Alba Adriatica\, TE\, 64011
CATEGORIES:Concerti,Cultura,Musica,Teatro
ATTACH;FMTTYPE=image/jpeg:https://goalbaadriatica.it/wp-content/uploads/2025/05/La-Vedova-Allegra_Villa-Flaiani-1.jpeg
END:VEVENT
BEGIN:VEVENT
DTSTART;TZID=Europe/Rome:20250727T210000
DTEND;TZID=Europe/Rome:20250727T210000
DTSTAMP:20260421T120219
CREATED:20250526T170216Z
LAST-MODIFIED:20250721T124402Z
UID:8037-1753650000-1753650000@goalbaadriatica.it
SUMMARY:Armonie d’estate – Concerto
DESCRIPTION:Domenica 27 luglio 2025\, ore 21.00 \nDomenica 27 luglio\, le note risuonano nel cuore di Alba Adriatica con il concerto ‘Armonie d’estate’. Un’esibizione che unisce musica classica e sonorità moderne\, eseguita da giovani musicisti del territorio e guest d’eccezione. \nUna serata emozionante in una cornice suggestiva\, pensata per unire le generazioni e rendere la musica accessibile a tutti. Ingresso libero.
URL:https://goalbaadriatica.it/eventi/armonie-destate-concerto/
LOCATION:Auditorium Scuola “E. Fermi”\, Via Saffi\, Alba Adriatica\, 64011\, Italy
CATEGORIES:Concerti,Cultura,Musica
ATTACH;FMTTYPE=image/jpeg:https://goalbaadriatica.it/wp-content/uploads/2025/05/Concerto-Armonie-dEstate.jpeg
END:VEVENT
END:VCALENDAR