BEGIN:VCALENDAR
VERSION:2.0
PRODID:-//Go AlbaAdriatica - ECPv6.9.1//NONSGML v1.0//EN
CALSCALE:GREGORIAN
METHOD:PUBLISH
X-ORIGINAL-URL:https://goalbaadriatica.it
X-WR-CALDESC:Eventi per Go AlbaAdriatica
REFRESH-INTERVAL;VALUE=DURATION:PT1H
X-Robots-Tag:noindex
X-PUBLISHED-TTL:PT1H
BEGIN:VTIMEZONE
TZID:Europe/Rome
BEGIN:DAYLIGHT
TZOFFSETFROM:+0100
TZOFFSETTO:+0200
TZNAME:CEST
DTSTART:20250330T010000
END:DAYLIGHT
BEGIN:STANDARD
TZOFFSETFROM:+0200
TZOFFSETTO:+0100
TZNAME:CET
DTSTART:20251026T010000
END:STANDARD
END:VTIMEZONE
BEGIN:VEVENT
DTSTART;TZID=Europe/Rome:20250628T211500
DTEND;TZID=Europe/Rome:20250628T211500
DTSTAMP:20260423T121426
CREATED:20250516T123630Z
LAST-MODIFIED:20250625T081400Z
UID:7804-1751145300-1751145300@goalbaadriatica.it
SUMMARY:Concerto di Fine Anno – Piccolo Coro Amadeus
DESCRIPTION:Sabato 28 giugno 2025\, ore 21.15 – Piazza Quasimodo\, Lungomare Marconi \nIl Piccolo Coro Amadeus saluterà l’anno scolastico con un concerto emozionante in Piazza Quasimodo. \nSabato 28 giugno\, alle ore 21.15\, i piccoli cantori porteranno sul palco canzoni\, sorrisi e tanta energia positiva.
URL:https://goalbaadriatica.it/eventi/concerto-di-fine-anno-piccolo-coro-amadeus/
LOCATION:Piazza Quasimodo (Lungomare Marconi)\, Via Lungomare Marconi 268\, Alba Adriatica\, TE\, 64011
CATEGORIES:Bambini,Concerti,Cultura,Musica,Ragazzi
ATTACH;FMTTYPE=image/jpeg:https://goalbaadriatica.it/wp-content/uploads/2025/05/Concerto-Fine-Anno-Piccolo-Coro.jpg
END:VEVENT
END:VCALENDAR