BEGIN:VCALENDAR
VERSION:2.0
PRODID:-//Go AlbaAdriatica - ECPv6.9.1//NONSGML v1.0//EN
CALSCALE:GREGORIAN
METHOD:PUBLISH
X-WR-CALNAME:Go AlbaAdriatica
X-ORIGINAL-URL:https://goalbaadriatica.it
X-WR-CALDESC:Eventi per Go AlbaAdriatica
REFRESH-INTERVAL;VALUE=DURATION:PT1H
X-Robots-Tag:noindex
X-PUBLISHED-TTL:PT1H
BEGIN:VTIMEZONE
TZID:Europe/Rome
BEGIN:DAYLIGHT
TZOFFSETFROM:+0100
TZOFFSETTO:+0200
TZNAME:CEST
DTSTART:20250330T010000
END:DAYLIGHT
BEGIN:STANDARD
TZOFFSETFROM:+0200
TZOFFSETTO:+0100
TZNAME:CET
DTSTART:20251026T010000
END:STANDARD
END:VTIMEZONE
BEGIN:VEVENT
DTSTART;TZID=Europe/Rome:20250622T100000
DTEND;TZID=Europe/Rome:20250622T100000
DTSTAMP:20260424T202949
CREATED:20250516T121331Z
LAST-MODIFIED:20250616T080909Z
UID:7779-1750586400-1750586400@goalbaadriatica.it
SUMMARY:Infiorata del Corpus Domini
DESCRIPTION:Domenica 22 giugno 2025 – Viale della Vittoria\, Parrocchia Sant’Eufemia \nLa tradizione dell’Infiorata del Corpus Domini torna a colorare Viale della Vittoria. \nStraordinarie composizioni floreali realizzate a mano accompagneranno la processione religiosa\, trasformando la città in un tappeto profumato di fede e bellezza.
URL:https://goalbaadriatica.it/eventi/infiorata-del-corpus-domini/
LOCATION:Viale della Vittoria\, Viale della Vittoria\, Alba Adriatica\, TE\, 64011
CATEGORIES:Cultura,Intrattenimento
ATTACH;FMTTYPE=image/jpeg:https://goalbaadriatica.it/wp-content/uploads/2025/05/Infiorata-del-Corpus-Domini-2.jpeg
END:VEVENT
END:VCALENDAR