BEGIN:VCALENDAR
VERSION:2.0
PRODID:-//Go AlbaAdriatica - ECPv6.9.1//NONSGML v1.0//EN
CALSCALE:GREGORIAN
METHOD:PUBLISH
X-WR-CALNAME:Go AlbaAdriatica
X-ORIGINAL-URL:https://goalbaadriatica.it
X-WR-CALDESC:Eventi per Go AlbaAdriatica
REFRESH-INTERVAL;VALUE=DURATION:PT1H
X-Robots-Tag:noindex
X-PUBLISHED-TTL:PT1H
BEGIN:VTIMEZONE
TZID:Europe/Rome
BEGIN:DAYLIGHT
TZOFFSETFROM:+0100
TZOFFSETTO:+0200
TZNAME:CEST
DTSTART:20260329T010000
END:DAYLIGHT
BEGIN:STANDARD
TZOFFSETFROM:+0200
TZOFFSETTO:+0100
TZNAME:CET
DTSTART:20261025T010000
END:STANDARD
END:VTIMEZONE
BEGIN:VEVENT
DTSTART;TZID=Europe/Rome:20260307T100000
DTEND;TZID=Europe/Rome:20260307T100000
DTSTAMP:20260424T073433
CREATED:20260306T095104Z
LAST-MODIFIED:20260306T095104Z
UID:9956-1772877600-1772877600@goalbaadriatica.it
SUMMARY:Otto Marzo: Donne e Diritti
DESCRIPTION:In occasione della Giornata Internazionale della Donna\, Alba Adriatica ospita un momento di riflessione e confronto dedicato ai temi dei diritti\, dell’uguaglianza e della tutela delle donne. \nL’incontro\, dal titolo “Otto Marzo: Donne e Diritti”\, vedrà la partecipazione di esperte e professioniste impegnate quotidianamente nella promozione della cultura del rispetto e nel contrasto alla violenza di genere. \nInterverranno: \n\nLaura Di Teodoro\, coordinatrice del Centro Antiviolenza Minerva\nDiana Giuliani\, presidente Comitato Pari Opportunità dell’Ordine degli Avvocati di Teramo\nAmelide Francia\, presidente Zona A V Circoscrizione Lions Distretto 108 A\nLaura Di Filippo\, docente di criminologia presso l’Università di Teramo\n\nA seguire si terrà la cerimonia di donazione al Centro Antiviolenza Minerva da parte dei Lions Club del territorio e l’inaugurazione del nuovo sportello del Centro Antiviolenza Minerva ad Alba Adriatica\, un importante presidio a sostegno delle donne. \n📅 Sabato 7 marzo 2026\, alle ore 10:00 presso Villa Flaiani – Via Roma 32 ad Alba Adriatica \nUn appuntamento dedicato alla consapevolezza\, al dialogo e alla promozione dei diritti delle donne.
URL:https://goalbaadriatica.it/eventi/otto-marzo-donne-e-diritti/
LOCATION:Biblioteca Villa Flaiani\, Via Roma 32\, Alba Adriatica\, 64011\, Italy
CATEGORIES:Cultura,Sociale
ATTACH;FMTTYPE=image/jpeg:https://goalbaadriatica.it/wp-content/uploads/2026/03/8marzo_dionne-e-diritti.jpeg
END:VEVENT
END:VCALENDAR