BEGIN:VCALENDAR
VERSION:2.0
PRODID:-//Go AlbaAdriatica - ECPv6.9.1//NONSGML v1.0//EN
CALSCALE:GREGORIAN
METHOD:PUBLISH
X-WR-CALNAME:Go AlbaAdriatica
X-ORIGINAL-URL:https://goalbaadriatica.it
X-WR-CALDESC:Eventi per Go AlbaAdriatica
REFRESH-INTERVAL;VALUE=DURATION:PT1H
X-Robots-Tag:noindex
X-PUBLISHED-TTL:PT1H
BEGIN:VTIMEZONE
TZID:Europe/Rome
BEGIN:DAYLIGHT
TZOFFSETFROM:+0100
TZOFFSETTO:+0200
TZNAME:CEST
DTSTART:20240331T010000
END:DAYLIGHT
BEGIN:STANDARD
TZOFFSETFROM:+0200
TZOFFSETTO:+0100
TZNAME:CET
DTSTART:20241027T010000
END:STANDARD
END:VTIMEZONE
BEGIN:VEVENT
DTSTART;TZID=Europe/Rome:20241214T210000
DTEND;TZID=Europe/Rome:20241214T210000
DTSTAMP:20260424T124623
CREATED:20241205T164845Z
LAST-MODIFIED:20241215T092954Z
UID:5701-1734210000-1734210000@goalbaadriatica.it
SUMMARY:Stella di Natale - Il saggio di Ginnastica ritmica
DESCRIPTION:🎄✨ Stelle di Natale: il Saggio di Ginnastica Ritmica ✨🎄 \nSabato 14 dicembre 2024\, dalle ore 21:00 presso il Palazzetto dello Sport\, Via degli Oleandri\, ad Alba Adriatica\, un’emozionante serata dedicata alla bellezza e alla grazia della ginnastica ritmica. \nLe atlete della Dimensione Fitness porteranno in scena uno spettacolo natalizio ricco di emozioni e magia! 🤸‍♀️🌟 \nNon perderti questo appuntamento speciale all’interno degli appuntamenti del Natale di Alba Adriatica.
URL:https://goalbaadriatica.it/eventi/stella-di-natale-il-saggio-di-ginnastica-ritmica/
LOCATION:Palazzetto dello sport (Via degli Oleandri)\, Via degli Oleandri\, Alba Adriatica\, 64011\, Italy
CATEGORIES:Ballo,Bambini,Fitness,Intrattenimento,Musica
ATTACH;FMTTYPE=image/jpeg:https://goalbaadriatica.it/wp-content/uploads/2024/12/2024-12-14_Dimensione-Fitness.jpg
END:VEVENT
END:VCALENDAR