BEGIN:VCALENDAR
VERSION:2.0
PRODID:-//Go AlbaAdriatica - ECPv6.9.1//NONSGML v1.0//EN
CALSCALE:GREGORIAN
METHOD:PUBLISH
X-ORIGINAL-URL:https://goalbaadriatica.it
X-WR-CALDESC:Eventi per Go AlbaAdriatica
REFRESH-INTERVAL;VALUE=DURATION:PT1H
X-Robots-Tag:noindex
X-PUBLISHED-TTL:PT1H
BEGIN:VTIMEZONE
TZID:Europe/Rome
BEGIN:DAYLIGHT
TZOFFSETFROM:+0100
TZOFFSETTO:+0200
TZNAME:CEST
DTSTART:20250330T010000
END:DAYLIGHT
BEGIN:STANDARD
TZOFFSETFROM:+0200
TZOFFSETTO:+0100
TZNAME:CET
DTSTART:20251026T010000
END:STANDARD
END:VTIMEZONE
BEGIN:VEVENT
DTSTART;TZID=Europe/Rome:20250418T000000
DTEND;TZID=Europe/Rome:20250418T000000
DTSTAMP:20260424T073037
CREATED:20250317T112753Z
LAST-MODIFIED:20250516T100602Z
UID:7435-1744934400-1744934400@goalbaadriatica.it
SUMMARY:“Sport Senza Confini” – Eventi Multisportivi
DESCRIPTION:⚽ Sport Senza Confini: Tornei Multisportivi 🏀 \nDal 18 aprile al 15 giugno\, Alba Adriatica ospiterà la 13ª edizione di “Sport Senza Confini”\, un circuito di eventi multisportivi che valorizza il territorio e promuove il turismo sportivo. \n🏐 Tornei e competizioni in diverse discipline \n🏄 Sport all’aria aperta tra mare\, spiaggia e impianti sportivi \n🌍 Atleti da tutta Italia per un evento imperdibile \nUna grande occasione per vivere lo sport e il divertimento in un contesto unico. Ti aspettiamo per tifare e partecipare! 💪🎉 \n\nPresentazione ufficiale Evento \nmercoledì 2 aprile 2025 – ore 11:00 – Villa Flaiani
URL:https://goalbaadriatica.it/eventi/sport-senza-confini-eventi-multisportivi/
CATEGORIES:Fitness,Intrattenimento,Sport
ATTACH;FMTTYPE=image/jpeg:https://goalbaadriatica.it/wp-content/uploads/2025/03/Sport-Senza-Confini_2025.jpeg
END:VEVENT
BEGIN:VEVENT
DTSTART;TZID=Europe/Rome:20250421T090000
DTEND;TZID=Europe/Rome:20250421T090000
DTSTAMP:20260424T073037
CREATED:20250317T112627Z
LAST-MODIFIED:20250328T142244Z
UID:7505-1745226000-1745226000@goalbaadriatica.it
SUMMARY:Camminata delle 2 Chiese
DESCRIPTION:Vivi una Pasquetta speciale con il Cammino delle 2 Chiese\, una suggestiva passeggiata per famiglie tra natura\, storia e spiritualità! \nUn itinerario di circa 5 km andata e ritorno\, adatto a tutte le età\, che collega due piccole chiese rurali: San Vincenzo Ferreri e Sant’Antonio Abate\, attraversando paesaggi agricoli\, querceti secolari\, edifici storici e luoghi della memoria contadina. \n🟢 Cosa ti aspetta lungo il percorso: \n\n10 punti di interesse storico e naturalistico\nVisita al Vecchio Forte\nDegustazione della colazione contadina “Lu Sdijun”\nMomento spirituale con la Santa Messa alle 11:30\nArea picnic\, street food\, animazione e spettacoli per tutti\n\n🎒 Un’occasione per scoprire le radici del territorio\, condividere un’esperienza autentica e festeggiare insieme nella cornice della Festa Patronale di San Vincenzo Ferreri. \n📲 Prenota il tuo posto! \nConferma la partecipazione entro il 16 aprile via WhatsApp al 348 7346450 (indicando: “Cammino delle 2 Chiese – n. X partecipanti”) \nOppure scrivi a: associazionevecchioforte@gmail.com \n🌐 Seguici su Facebook: Associazione Vecchio Forte
URL:https://goalbaadriatica.it/eventi/camminata-delle-2-chiese/
LOCATION:Contrada Casasanta\, Via del Vecchio Forte\, Alba Adriatica\, 64011\, Italy
CATEGORIES:Fitness,Intrattenimento,Sport
ATTACH;FMTTYPE=image/png:https://goalbaadriatica.it/wp-content/uploads/2025/03/Cammino-delle-2-Chiese_Casasanta.png
END:VEVENT
END:VCALENDAR