BEGIN:VCALENDAR
VERSION:2.0
PRODID:-//Go AlbaAdriatica - ECPv6.9.1//NONSGML v1.0//EN
CALSCALE:GREGORIAN
METHOD:PUBLISH
X-WR-CALNAME:Go AlbaAdriatica
X-ORIGINAL-URL:https://goalbaadriatica.it
X-WR-CALDESC:Eventi per Go AlbaAdriatica
REFRESH-INTERVAL;VALUE=DURATION:PT1H
X-Robots-Tag:noindex
X-PUBLISHED-TTL:PT1H
BEGIN:VTIMEZONE
TZID:Europe/Rome
BEGIN:DAYLIGHT
TZOFFSETFROM:+0100
TZOFFSETTO:+0200
TZNAME:CEST
DTSTART:20240331T010000
END:DAYLIGHT
BEGIN:STANDARD
TZOFFSETFROM:+0200
TZOFFSETTO:+0100
TZNAME:CET
DTSTART:20241027T010000
END:STANDARD
END:VTIMEZONE
BEGIN:VEVENT
DTSTART;TZID=Europe/Rome:20240921T080000
DTEND;TZID=Europe/Rome:20240922T230000
DTSTAMP:20260424T181505
CREATED:20240616T082530Z
LAST-MODIFIED:20240708T125546Z
UID:2397-1726905600-1727046000@goalbaadriatica.it
SUMMARY:Quadrangolare di pallavolo
DESCRIPTION:Serie A maschile
URL:https://goalbaadriatica.it/eventi/quadrangolare-di-pallavolo/
LOCATION:Palazzetto dello sport (Via degli Oleandri)\, Via degli Oleandri\, Alba Adriatica\, 64011\, Italy
CATEGORIES:Fitness,Sport
ATTACH;FMTTYPE=image/png:https://goalbaadriatica.it/wp-content/uploads/2024/06/pallavolo.png
END:VEVENT
END:VCALENDAR