BEGIN:VCALENDAR
VERSION:2.0
PRODID:-//Go AlbaAdriatica - ECPv6.9.1//NONSGML v1.0//EN
CALSCALE:GREGORIAN
METHOD:PUBLISH
X-ORIGINAL-URL:https://goalbaadriatica.it
X-WR-CALDESC:Eventi per Go AlbaAdriatica
REFRESH-INTERVAL;VALUE=DURATION:PT1H
X-Robots-Tag:noindex
X-PUBLISHED-TTL:PT1H
BEGIN:VTIMEZONE
TZID:Europe/Rome
BEGIN:DAYLIGHT
TZOFFSETFROM:+0100
TZOFFSETTO:+0200
TZNAME:CEST
DTSTART:20250330T010000
END:DAYLIGHT
BEGIN:STANDARD
TZOFFSETFROM:+0200
TZOFFSETTO:+0100
TZNAME:CET
DTSTART:20251026T010000
END:STANDARD
END:VTIMEZONE
BEGIN:VEVENT
DTSTART;TZID=Europe/Rome:20250503T080000
DTEND;TZID=Europe/Rome:20250503T180000
DTSTAMP:20260424T073815
CREATED:20250427T134519Z
LAST-MODIFIED:20250428T140107Z
UID:7556-1746259200-1746295200@goalbaadriatica.it
SUMMARY:Trofeo Aurea – Gara di ginnastica ritmica
DESCRIPTION:Sabato 3 maggio 2025\, dalle ore 8.00 alle 18.00 – Palazzetto dello Sport\, via degli Oleandri \nSabato 3 maggio\, il Palazzetto dello Sport di Alba Adriatica ospita il “Trofeo Aurea”\, una giornata dedicata alla grazia e alla tecnica della ginnastica ritmica. \nL’evento coinvolgerà decine di atlete in gara per le categorie individuali e a squadre\, in una competizione che unisce eleganza\, disciplina e passione. \nUn appuntamento da non perdere per appassionati\, famiglie e curiosi che vogliono scoprire il fascino di questa disciplina sportiva.
URL:https://goalbaadriatica.it/eventi/trofeo-aurea-gara-ginnastica-ritmica/
LOCATION:Palazzetto dello sport (Via degli Oleandri)\, Via degli Oleandri\, Alba Adriatica\, 64011\, Italy
CATEGORIES:Ballo,Fitness,Intrattenimento,Ragazzi,Sport
ATTACH;FMTTYPE=image/jpeg:https://goalbaadriatica.it/wp-content/uploads/2025/04/trofeo-Aurea1.jpg
END:VEVENT
END:VCALENDAR