BEGIN:VCALENDAR
VERSION:2.0
PRODID:-//Go AlbaAdriatica - ECPv6.9.1//NONSGML v1.0//EN
CALSCALE:GREGORIAN
METHOD:PUBLISH
X-WR-CALNAME:Go AlbaAdriatica
X-ORIGINAL-URL:https://goalbaadriatica.it
X-WR-CALDESC:Eventi per Go AlbaAdriatica
REFRESH-INTERVAL;VALUE=DURATION:PT1H
X-Robots-Tag:noindex
X-PUBLISHED-TTL:PT1H
BEGIN:VTIMEZONE
TZID:Europe/Rome
BEGIN:DAYLIGHT
TZOFFSETFROM:+0100
TZOFFSETTO:+0200
TZNAME:CEST
DTSTART:20250330T010000
END:DAYLIGHT
BEGIN:STANDARD
TZOFFSETFROM:+0200
TZOFFSETTO:+0100
TZNAME:CET
DTSTART:20251026T010000
END:STANDARD
END:VTIMEZONE
BEGIN:VEVENT
DTSTART;TZID=Europe/Rome:20250523T090000
DTEND;TZID=Europe/Rome:20250525T180000
DTSTAMP:20260424T073421
CREATED:20250428T134558Z
LAST-MODIFIED:20250512T110607Z
UID:7585-1747990800-1748196000@goalbaadriatica.it
SUMMARY:Coppa del Pulcino – Tornei di calcio giovanile
DESCRIPTION:Da venerdì 23 a domenica 25 maggio 2025 – Campi sportivi V. Rosini e L. Vallese \nTorna uno degli appuntamenti più attesi del calcio giovanile: la Coppa del Pulcino. \nDa venerdì 23 a domenica 25 maggio\, le squadre delle categorie più giovani si sfideranno nei campi sportivi V. Rosini e L. Vallese\, tra entusiasmo\, gioco di squadra e tante emozioni. \nUn’occasione per sostenere i campioni di domani\, in un’atmosfera festosa e piena di energia. \n\nScopri di più: https://sportintour.it/evento/coppa-del-pulcino-2025/
URL:https://goalbaadriatica.it/eventi/coppa-del-pulcino-tornei-di-calcio-giovanile/
LOCATION:Campo Sportivo Luca Vallese\, SP9c\, 19\, Alba Adriatica TE\, 64011\, Italy
CATEGORIES:Bambini,Fitness,Sport
ATTACH;FMTTYPE=image/png:https://goalbaadriatica.it/wp-content/uploads/2025/04/coppa-del-pulcino.png
END:VEVENT
END:VCALENDAR