BEGIN:VCALENDAR
VERSION:2.0
PRODID:-//Go AlbaAdriatica - ECPv6.9.1//NONSGML v1.0//EN
CALSCALE:GREGORIAN
METHOD:PUBLISH
X-ORIGINAL-URL:https://goalbaadriatica.it
X-WR-CALDESC:Eventi per Go AlbaAdriatica
REFRESH-INTERVAL;VALUE=DURATION:PT1H
X-Robots-Tag:noindex
X-PUBLISHED-TTL:PT1H
BEGIN:VTIMEZONE
TZID:Europe/Rome
BEGIN:DAYLIGHT
TZOFFSETFROM:+0100
TZOFFSETTO:+0200
TZNAME:CEST
DTSTART:20250330T010000
END:DAYLIGHT
BEGIN:STANDARD
TZOFFSETFROM:+0200
TZOFFSETTO:+0100
TZNAME:CET
DTSTART:20251026T010000
END:STANDARD
END:VTIMEZONE
BEGIN:VEVENT
DTSTART;TZID=Europe/Rome:20250613T090000
DTEND;TZID=Europe/Rome:20250615T180000
DTSTAMP:20260424T062614
CREATED:20250516T120254Z
LAST-MODIFIED:20250613T123554Z
UID:7740-1749805200-1750010400@goalbaadriatica.it
SUMMARY:5ª Vibrata Cup e 5ª Riviera delle Palme – Tornei giovanili di calcio
DESCRIPTION:Da venerdì 13 a domenica 15 giugno 2025 – Campi sportivi V. Rosini e L. Vallese \nDal 13 al 15 giugno\, Alba Adriatica si conferma capitale del calcio giovanile ospitando la 5ª Vibrata Cup e la 5ª Riviera delle Palme. \nNei campi sportivi V. Rosini e L. Vallese\, centinaia di giovani calciatori si sfideranno in tornei avvincenti\, all’insegna dei valori dello sport\, della correttezza e dell’amicizia. \nScopri di più: https://sportintour.it/evento/vibrata-cup-5-edizione-2025/
URL:https://goalbaadriatica.it/eventi/5a-vibrata-cup-e-5a-riviera-delle-palme-tornei-giovanili-di-calcio/
LOCATION:Campo Sportivo Valeria Rosini\, Via degli Oleandri 38\, Alba Adriatica\, 64011\, Italy
CATEGORIES:Fitness,Intrattenimento,Sport
ATTACH;FMTTYPE=image/jpeg:https://goalbaadriatica.it/wp-content/uploads/2025/05/vibrata-cup-2025_1.jpg
END:VEVENT
BEGIN:VEVENT
DTSTART;TZID=Europe/Rome:20250615T090000
DTEND;TZID=Europe/Rome:20250621T180000
DTSTAMP:20260424T062614
CREATED:20250516T120631Z
LAST-MODIFIED:20250613T071811Z
UID:7760-1749978000-1750528800@goalbaadriatica.it
SUMMARY:Alba Summer Camp – Stage di basket e minibasket
DESCRIPTION:Da domenica 15 a sabato 21 giugno 2025\, dalle ore 9.00 alle 18.00 – Campo basket via Olimpica \nUna settimana dedicata alla pallacanestro per bambini e ragazzi! \nDal 15 al 21 giugno\, il Campo basket di via Olimpica ospita l’Alba Summer Camp\, stage formativo di basket e minibasket. \nAllenamenti\, giochi e tanto divertimento sotto la guida di istruttori qualificati\, per migliorare tecnica\, spirito di squadra e amicizia.
URL:https://goalbaadriatica.it/eventi/alba-summer-camp-stage-di-basket-e-minibasket/
LOCATION:Centro Sportivo Atheletic United (Via Olimpica)\, Via Olimpica 14\, Alba Adriatica\, 64011\, Italy
CATEGORIES:Fitness,Intrattenimento,Sport
ATTACH;FMTTYPE=image/jpeg:https://goalbaadriatica.it/wp-content/uploads/2025/05/Alba-Summer-Camp-–-Stage-di-basket-e-minibasket.jpg
END:VEVENT
BEGIN:VEVENT
DTSTART;TZID=Europe/Rome:20250615T170000
DTEND;TZID=Europe/Rome:20250615T170000
DTSTAMP:20260424T062614
CREATED:20250516T120731Z
LAST-MODIFIED:20250613T071817Z
UID:7756-1750006800-1750006800@goalbaadriatica.it
SUMMARY:Pedaliamo per la Vita – Passeggiata in bicicletta
DESCRIPTION:Domenica 15 giugno 2025\, partenza ore 17.00 – Piazza del Popolo \nTorna anche quest’anno l’attesissimo appuntamento con “Pedaliamo per la Vita”\, la pedalata amatoriale dedicata alla solidarietà e alla prevenzione\, promossa dall’Inter Club di Alba Adriatica. \nUn evento pensato per tutti – grandi e piccoli – per trascorrere un pomeriggio all’insegna del movimento\, del benessere e della condivisione. La partenza è prevista alle ore 17.00 da Piazza del Popolo\, con un percorso cittadino accessibile a tutti\, tra sport\, socialità e promozione della cultura della vita attiva. \n🎽 All’arrivo: rinfresco per tutti i partecipanti e gadget ufficiale dell’evento. \n👉 Per info e iscrizioni: contattare l’Inter Club Alba Adriatica – Facebook Inter Club \n📣 Partecipazione gratuita – non è una gara ma una festa a pedali!
URL:https://goalbaadriatica.it/eventi/pedaliamo-per-la-vita-passeggiata-in-bicicletta/
LOCATION:Piazza del Popolo\, Piazza del Popolo\, Alba Adriatica\, TE\, 64011\, Italia
CATEGORIES:Cultura,Fitness,Intrattenimento
ATTACH;FMTTYPE=image/jpeg:https://goalbaadriatica.it/wp-content/uploads/2025/05/3f291a4e-193f-45cf-9ce3-f1c4c897e547.jpg
END:VEVENT
END:VCALENDAR