BEGIN:VCALENDAR
VERSION:2.0
PRODID:-//Go AlbaAdriatica - ECPv6.9.1//NONSGML v1.0//EN
CALSCALE:GREGORIAN
METHOD:PUBLISH
X-ORIGINAL-URL:https://goalbaadriatica.it
X-WR-CALDESC:Eventi per Go AlbaAdriatica
REFRESH-INTERVAL;VALUE=DURATION:PT1H
X-Robots-Tag:noindex
X-PUBLISHED-TTL:PT1H
BEGIN:VTIMEZONE
TZID:Europe/Rome
BEGIN:DAYLIGHT
TZOFFSETFROM:+0100
TZOFFSETTO:+0200
TZNAME:CEST
DTSTART:20250330T010000
END:DAYLIGHT
BEGIN:STANDARD
TZOFFSETFROM:+0200
TZOFFSETTO:+0100
TZNAME:CET
DTSTART:20251026T010000
END:STANDARD
END:VTIMEZONE
BEGIN:VEVENT
DTSTART;TZID=Europe/Rome:20250902T070000
DTEND;TZID=Europe/Rome:20250902T070000
DTSTAMP:20260424T022209
CREATED:20250617T090108Z
LAST-MODIFIED:20250625T081434Z
UID:8199-1756796400-1756796400@goalbaadriatica.it
SUMMARY:Ginnastica per il Benessere
DESCRIPTION:Martedì\, 2 settembre 2025 – dalle ore 7.00 – Parco Bambinopoli \nUltimo appuntamento della stagione con ‘Ginnastica per il Benessere’: martedì 2 settembre\, alle ore 7.00\, al Parco Bambinopoli. \nUn’occasione per salutare l’estate e mantenere viva l’abitudine al movimento. \nLa partecipazione è gratuita e aperta a tutti.
URL:https://goalbaadriatica.it/eventi/ginnastica-per-il-benessere-settembre-2025/
LOCATION:Parco Bambinopoli\, Via Lungomare Marconi 2\, Alba Adriatica\, TE\, 64011
CATEGORIES:Fitness
ATTACH;FMTTYPE=image/jpeg:https://goalbaadriatica.it/wp-content/uploads/2025/05/Ginnastica-Benessere.jpeg
END:VEVENT
END:VCALENDAR