BEGIN:VCALENDAR
VERSION:2.0
PRODID:-//Go AlbaAdriatica - ECPv6.9.1//NONSGML v1.0//EN
CALSCALE:GREGORIAN
METHOD:PUBLISH
X-ORIGINAL-URL:https://goalbaadriatica.it
X-WR-CALDESC:Eventi per Go AlbaAdriatica
REFRESH-INTERVAL;VALUE=DURATION:PT1H
X-Robots-Tag:noindex
X-PUBLISHED-TTL:PT1H
BEGIN:VTIMEZONE
TZID:Europe/Rome
BEGIN:DAYLIGHT
TZOFFSETFROM:+0100
TZOFFSETTO:+0200
TZNAME:CEST
DTSTART:20250330T010000
END:DAYLIGHT
BEGIN:STANDARD
TZOFFSETFROM:+0200
TZOFFSETTO:+0100
TZNAME:CET
DTSTART:20251026T010000
END:STANDARD
END:VTIMEZONE
BEGIN:VEVENT
DTSTART;TZID=Europe/Rome:20250903T070000
DTEND;TZID=Europe/Rome:20250905T070000
DTSTAMP:20260424T005612
CREATED:20250617T091251Z
LAST-MODIFIED:20250623T123503Z
UID:8207-1756882800-1757055600@goalbaadriatica.it
SUMMARY:Yoga in Pineta – Salute e Benessere nella natura
DESCRIPTION:Mercoledì 3 e venerdì 5 settembre 2025 – ore 07:00\, Pineta litoranea Nord \nCon le ultime due sessioni di settembre si conclude il ciclo stagionale di Yoga in Pineta\, a cura dell’associazione ASD Time To Move. \nGli incontri\, aperti a praticanti di ogni livello\, si terranno nella cornice rilassante della pineta litoranea nord. Un’occasione per salutare l’estate con respiro consapevole\, movimento dolce e connessione con l’ambiente naturale.
URL:https://goalbaadriatica.it/eventi/yoga-in-pineta-salute-e-benessere-nella-natura-settembre-25/
LOCATION:Pineta Litoranea Nord\, Via Lungomare Marconi 210\, Alba Adriatica\, TE\, 64011
CATEGORIES:Fitness,Intrattenimento
ATTACH;FMTTYPE=image/png:https://goalbaadriatica.it/wp-content/uploads/2025/06/locandina-yoga-in-pineta.png
END:VEVENT
END:VCALENDAR