BEGIN:VCALENDAR
VERSION:2.0
PRODID:-//Go AlbaAdriatica - ECPv6.9.1//NONSGML v1.0//EN
CALSCALE:GREGORIAN
METHOD:PUBLISH
X-ORIGINAL-URL:https://goalbaadriatica.it
X-WR-CALDESC:Eventi per Go AlbaAdriatica
REFRESH-INTERVAL;VALUE=DURATION:PT1H
X-Robots-Tag:noindex
X-PUBLISHED-TTL:PT1H
BEGIN:VTIMEZONE
TZID:Europe/Rome
BEGIN:DAYLIGHT
TZOFFSETFROM:+0100
TZOFFSETTO:+0200
TZNAME:CEST
DTSTART:20250330T010000
END:DAYLIGHT
BEGIN:STANDARD
TZOFFSETFROM:+0200
TZOFFSETTO:+0100
TZNAME:CET
DTSTART:20251026T010000
END:STANDARD
END:VTIMEZONE
BEGIN:VEVENT
DTSTART;TZID=Europe/Rome:20250906T100000
DTEND;TZID=Europe/Rome:20250907T100000
DTSTAMP:20260424T022222
CREATED:20250618T111230Z
LAST-MODIFIED:20250829T141641Z
UID:8211-1757152800-1757239200@goalbaadriatica.it
SUMMARY:Campionati Italiani assoluti di Triathlon
DESCRIPTION:Campionati Italiani di Triathlon Olimpico – Alba Adriatica 2025\n6 – 7 settembre 2025\, Lungomare Marconi e vie cittadine \nAlba Adriatica ospita i Campionati Italiani di Triathlon Olimpico: un appuntamento di grande prestigio sportivo che porterà in città atleti da tutta Italia per due giornate di gare e spettacolo tra mare\, sport e adrenalina. \n  \nIl programma prevede: \n\nSabato 6 settembre: gare riservate alle categorie Elite e U23\nDomenica 7 settembre: competizioni Age Group No Draft\n\nUn weekend che trasformerà la riviera abruzzese in un palcoscenico unico\, tra passione\, sfide e grande energia. \n📌 Iscrizioni aperte fino al 27 agosto (Elite/U23) e al 28 agosto (Age Group) sul sito ufficiale 👉 www.adriaticseries.it. \n________________________\nStrade chiuse per sabato 6 e domenica 7: https://adriaticseries.it/wp-content/uploads/2025/08/Adriatic-Series-2025-Alba-Adriatica-Volantino-Residenti.pdf \nScreenshot\nScreenshot
URL:https://goalbaadriatica.it/eventi/campionati-italiani-assoluti-di-triathlon-2025/
LOCATION:Lungomare Marconi\, Lungomare Marconi\, Alba Adriatica\, TE\, 64011\, Italia
CATEGORIES:Fitness,Intrattenimento,Sport
ATTACH;FMTTYPE=image/jpeg:https://goalbaadriatica.it/wp-content/uploads/2025/06/Triathlon_alba_1.jpg
END:VEVENT
END:VCALENDAR