BEGIN:VCALENDAR
VERSION:2.0
PRODID:-//Go AlbaAdriatica - ECPv6.9.1//NONSGML v1.0//EN
CALSCALE:GREGORIAN
METHOD:PUBLISH
X-ORIGINAL-URL:https://goalbaadriatica.it
X-WR-CALDESC:Eventi per Go AlbaAdriatica
REFRESH-INTERVAL;VALUE=DURATION:PT1H
X-Robots-Tag:noindex
X-PUBLISHED-TTL:PT1H
BEGIN:VTIMEZONE
TZID:Europe/Rome
BEGIN:DAYLIGHT
TZOFFSETFROM:+0100
TZOFFSETTO:+0200
TZNAME:CEST
DTSTART:20240331T010000
END:DAYLIGHT
BEGIN:STANDARD
TZOFFSETFROM:+0200
TZOFFSETTO:+0100
TZNAME:CET
DTSTART:20241027T010000
END:STANDARD
END:VTIMEZONE
BEGIN:VEVENT
DTSTART;TZID=Europe/Rome:20240802T173000
DTEND;TZID=Europe/Rome:20240802T173000
DTSTAMP:20260424T193354
CREATED:20240616T073832Z
LAST-MODIFIED:20240725T163124Z
UID:1959-1722619800-1722619800@goalbaadriatica.it
SUMMARY:Carnevalba - XXXI Carnevale Estivo di Alba Adriatica
DESCRIPTION:Il Carnevale sul Mare\, XXXI Edizione. \nNella giornata del 2 agosto 2024 a partire dalle ore 17:30\, tutto il lungomare di Alba Adriatica sarà convertito in un’enorme isola pedonale lungo il quale si alterneranno spettacoli ed intrattenimento per famiglie in attesa della sfilata di 8 carri allegorici provenienti dalle vicine comunità e ben 8 gruppi mascherati organizzati dalle contrade albensi e le mascherate folkloristiche di Sarnano e Pineto e il coloratissimo Carnevale Storico di Misterbianco. \nUna festa che proseguirà fino a notte inoltrata con colori\, musica e intrattenimento; infatti dj set\, band ed artisti si esibiranno per accompagnare la carovana in maschera. TreKilometridiFesta! \nInfo: www.carnevalba.it \n\n\n  \nPROGRAMMA \nORE 17.00 \nBack stage preparazione sfilata (Lungomare Sud); \n\n\n\n\nORE 17.30 – 20.30 \nAnimazione per famiglie\, gonfiabili\, spettacoli con bolle di sapone\, giochi in legno\, lego giganti baby dance\, trucca-bimbi e intrattenimento su tutto il Lungomare Marconi; \n\n\n\n\n—————SFILATA————— \nORE 20.45 \nPartenza della sfilata dei carri e dei gruppi mascherati che saluterà il pubblico e taglierà il nastro di partenza in Piazzetta Arno (Lungomare Sud). \n\nLa carovana mascherata partirà dal Lungomare Sud (confine) e percorrerà tutto il Lungomare da Sud verso Nord\, con arrivo al confine di Alba Adriatica;\nIn contemporanea: Partenza dei gruppi mascherati tradizionali e folkloristici percorreranno il Lungomare in senso opposto\, con arrivo al confine Sud di Alba Adriatica;\nLa carovana di carri e le maschere s’incontreranno al Centro del Lungomare\, proseguendo ciascuna nella loro direzione e raggiungendo i due palchi a Nord e a Sud.\n\n\n\n\n\nORE 22.00 (Palco Nord) \n\n\n\n\nInizio musica e intrattenimento presso la Rotonda Nilo\, con l’animazione delle Scuole di Danza e i Dj di Radio Azzurra (Lungomare Nord); \n\n\nORE 22.00 (Palco Sud) \n\n\n\n\nMusica dal vivo anni 70-80-90\, con il coloratissimo gruppo de “I Varie Età” in Piazza Arno (Lungomare Sud)\, con conclusione alle ore 00:30. \n\n\n\n\n\n\n—————ARRIVI————— \nORE 23.30 (data arrivo presunta)  \n\nArrivo dei carri e dei gruppi mascherati in Rotonda Nilo (Lungomare Nord);\nArrivo delle maschere di MisterBianco\, La Racchia di Sarnano e gli altri gruppi folkloristici (Lungomare Sud).\n\n—————FESTA————— \n\n\n\n\nORE 00:00 (Palco Nord) \nEsibizione dell’ospite d’onore Federica Carta\, direttamente dal talent Amici e Sanremo; \n\n\n\n\nORE 00.30 (Palco Nord) \nInizio del travolgente Show “Autoreverse” con Brunello Dj e Valentina di Radio Azzurra e lo spettacolo con i performer di Evolution Art (Lungomare Nord). \nORE 00.00 (Palco Sud) \nDalle 00:30 in  poi la musica di Angelino DJ per continuare a far festa in Piazza Arno\, insieme agli amici del Carnevale Storico di Misterbianco e la Racchia di Sarnano. \n 
URL:https://goalbaadriatica.it/eventi/carnevalba/
LOCATION:Lungomare Marconi\, Lungomare Marconi\, Alba Adriatica\, TE\, 64011\, Italia
CATEGORIES:Bambini,Concerti,Intrattenimento,Musica
ATTACH;FMTTYPE=image/png:https://goalbaadriatica.it/wp-content/uploads/2024/06/Locandina-Carnevalba-2024-1.png
END:VEVENT
BEGIN:VEVENT
DTSTART;TZID=Europe/Rome:20240805T210000
DTEND;TZID=Europe/Rome:20240805T210000
DTSTAMP:20260424T193354
CREATED:20240616T074319Z
LAST-MODIFIED:20240708T125055Z
UID:2441-1722891600-1722891600@goalbaadriatica.it
SUMMARY:Vai col Ballo...il lunedi sotto le stelle
DESCRIPTION:Torna “VAI COL BALLO”.\nAnche quest’anno appuntamento fisso con ballo tutti i lunedì presso la Bambinopoli Comunale\, una serie di serate danzanti ad Ingresso Libero organizzate dal Comune di Alba Adriatica con la collaborazione di ASD Music&Dance Academy e l’Associazione Arte Viva\, patrocinate dall’AssoArtisti dell’Adriatico.
URL:https://goalbaadriatica.it/eventi/vai-col-ballo-4/
LOCATION:Parco Bambinopoli\, Via Lungomare Marconi 2\, Alba Adriatica\, TE\, 64011
CATEGORIES:Ballo,Intrattenimento
ATTACH;FMTTYPE=image/jpeg:https://goalbaadriatica.it/wp-content/uploads/2024/06/ballo.jpeg
END:VEVENT
BEGIN:VEVENT
DTSTART;TZID=Europe/Rome:20240809T213000
DTEND;TZID=Europe/Rome:20240809T213000
DTSTAMP:20260424T193354
CREATED:20240616T074831Z
LAST-MODIFIED:20240727T154250Z
UID:2354-1723239000-1723239000@goalbaadriatica.it
SUMMARY:Galà della Moda-18^ edizione
DESCRIPTION:Eccoci qui! Pronti per un nuovo grande appuntamento. Quest’anno il Galà della Moda compie 18 anni!\n\nVi diamo appuntamento il 9 agosto alle ore 21:15 sul Lungomare Piazza Quasimodo per il XVIII Galá della Moda Città di Alba Adriatica\, che sarà condotto da Antonella Ciocca con la direzione artistica dello stilista Loris Danesi.\nUn evento da non perdere\, curato nei minimi dettagli. La musica\, la creatività\, le luci e l’atmosfera contribuiranno a creare uno spettacolo coinvolgente al quale farà da cornice il numeroso pubblico che sono certa confermerà il suo apprezzamento alla XVIII edizione.
URL:https://goalbaadriatica.it/eventi/gala-della-moda/
LOCATION:Piazza Quasimodo (Lungomare Marconi)\, Via Lungomare Marconi 268\, Alba Adriatica\, TE\, 64011
CATEGORIES:Intrattenimento
ATTACH;FMTTYPE=image/jpeg:https://goalbaadriatica.it/wp-content/uploads/2024/06/GalaModa.jpeg
END:VEVENT
BEGIN:VEVENT
DTSTART;TZID=Europe/Rome:20240810T190000
DTEND;TZID=Europe/Rome:20240810T190000
DTSTAMP:20260424T193354
CREATED:20240616T074816Z
LAST-MODIFIED:20240708T125222Z
UID:2359-1723316400-1723316400@goalbaadriatica.it
SUMMARY:Torneo di Burraco
DESCRIPTION:
URL:https://goalbaadriatica.it/eventi/torneo-di-burraco/
LOCATION:Anfiteatro via Duca D’Aosta\, Via Duca d'Aosta\, Alba Adriatica\, TE\, 64011
CATEGORIES:Cultura,Intrattenimento
ATTACH;FMTTYPE=image/jpeg:https://goalbaadriatica.it/wp-content/uploads/2024/06/burraco.jpeg
END:VEVENT
BEGIN:VEVENT
DTSTART;TZID=Europe/Rome:20240810T210000
DTEND;TZID=Europe/Rome:20240810T210000
DTSTAMP:20260424T193354
CREATED:20240616T074917Z
LAST-MODIFIED:20240807T093843Z
UID:2357-1723323600-1723323600@goalbaadriatica.it
SUMMARY:Libri in Villa
DESCRIPTION:Nella splendida cornice di Villa Flajani presso la Biblioteca Comunale di Alba Adriatica “Domenico Pantone”\, Antonella Ciocca conduce Libri in Villa\, appuntamento con la letteratura che vedrà la presentazione di 2 libri: \n\nL’opera di AndreinaMoretti\, scrittrice rosetana\, da sempre impegnata a contrastare qualsiasi forma di violenza\, presenta il libro dal titolo“NEL GUSCIO DELLA NOCE”. Un libro intenso\, che affronta una tematica difficile\, con estremo rispetto e la necessaria cautela.\nLa raccolta HEFRA amarsi amarse: la raccolta di poesie d’amore di Hebe Munoz e Francesco Nigri.\n\n\nInterveranno anche l’attrice Emanuela Tittocchia e la Soprano Consuelo Giuliano. \nL’evento è organizzato per sensibilizzare la campagna contro la violenza sulle donne. \nL’ingresso è libero
URL:https://goalbaadriatica.it/eventi/libri-in-villa/
LOCATION:Parco Villa Flaiani\, Via Roma 32\, Alba Adriatica\, TE\, 64011
CATEGORIES:Cultura,Intrattenimento
ATTACH;FMTTYPE=image/jpeg:https://goalbaadriatica.it/wp-content/uploads/2024/06/Libri-in-villa.jpg
END:VEVENT
BEGIN:VEVENT
DTSTART;TZID=Europe/Rome:20240812T210000
DTEND;TZID=Europe/Rome:20240812T210000
DTSTAMP:20260424T193354
CREATED:20240616T075022Z
LAST-MODIFIED:20240708T125231Z
UID:2442-1723496400-1723496400@goalbaadriatica.it
SUMMARY:Vai col Ballo...il lunedi sotto le stelle
DESCRIPTION:Torna “VAI COL BALLO”.\nAnche quest’anno appuntamento fisso con ballo tutti i lunedì presso la Bambinopoli Comunale\, una serie di serate danzanti ad Ingresso Libero organizzate dal Comune di Alba Adriatica con la collaborazione di ASD Music&Dance Academy e l’Associazione Arte Viva\, patrocinate dall’AssoArtisti dell’Adriatico.
URL:https://goalbaadriatica.it/eventi/vai-col-ballo-5/
LOCATION:Parco Bambinopoli\, Via Lungomare Marconi 2\, Alba Adriatica\, TE\, 64011
CATEGORIES:Ballo,Intrattenimento
ATTACH;FMTTYPE=image/jpeg:https://goalbaadriatica.it/wp-content/uploads/2024/06/ballo.jpeg
END:VEVENT
BEGIN:VEVENT
DTSTART;TZID=Europe/Rome:20240814T213000
DTEND;TZID=Europe/Rome:20240814T213000
DTSTAMP:20260424T193354
CREATED:20240616T075629Z
LAST-MODIFIED:20240708T125257Z
UID:2362-1723671000-1723671000@goalbaadriatica.it
SUMMARY:“Aspettando Ferragosto” - Concerto E. Ruggeri
DESCRIPTION:Enrico Ruggeri in concerto. \nOspite d’eccezione di quest’anno nella notte più attesa dell’estate sarà Enrico Ruggeri\, con il suo concerto “Parole e musica”.\nUna performance acustica dell’artista milanese\, ripercorre i suoi grandi successi\, anche attraverso aneddoti e ricordi\, oltre ai riferimenti al suo ultimo libro “40 vite\, senza fermarmi mai”\, ma anche molti brani che Ruggeri ha scritto per alcune celebri interpreti femminili\, una fra tutte Fiorella Mannoia. \n  \n 
URL:https://goalbaadriatica.it/eventi/aspettando-ferragosto/
LOCATION:Piazza del Popolo\, Piazza del Popolo\, Alba Adriatica\, TE\, 64011\, Italia
CATEGORIES:Concerti,Intrattenimento,Musica
ATTACH;FMTTYPE=image/jpeg:https://goalbaadriatica.it/wp-content/uploads/2024/06/concerto-Enrico-Ruggieri.jpg
END:VEVENT
BEGIN:VEVENT
DTSTART;TZID=Europe/Rome:20240819T210000
DTEND;TZID=Europe/Rome:20240819T210000
DTSTAMP:20260424T193354
CREATED:20240616T080025Z
LAST-MODIFIED:20240708T125317Z
UID:2443-1724101200-1724101200@goalbaadriatica.it
SUMMARY:Vai col Ballo...il lunedi sotto le stelle
DESCRIPTION:Torna “VAI COL BALLO”.\nAnche quest’anno appuntamento fisso con ballo tutti i lunedì presso la Bambinopoli Comunale\, una serie di serate danzanti ad Ingresso Libero organizzate dal Comune di Alba Adriatica con la collaborazione di ASD Music&Dance Academy e l’Associazione Arte Viva\, patrocinate dall’AssoArtisti dell’Adriatico.
URL:https://goalbaadriatica.it/eventi/vai-col-ballo-6/
LOCATION:Parco Bambinopoli\, Via Lungomare Marconi 2\, Alba Adriatica\, TE\, 64011
CATEGORIES:Ballo,Intrattenimento
ATTACH;FMTTYPE=image/jpeg:https://goalbaadriatica.it/wp-content/uploads/2024/06/ballo.jpeg
END:VEVENT
BEGIN:VEVENT
DTSTART;TZID=Europe/Rome:20240823T190000
DTEND;TZID=Europe/Rome:20240823T190000
DTSTAMP:20260424T193354
CREATED:20240616T080522Z
LAST-MODIFIED:20240814T064757Z
UID:2370-1724439600-1724439600@goalbaadriatica.it
SUMMARY:Mazzini Sound - Seconda edizione
DESCRIPTION:Prendi il tuo calice\, gusta i vini del territorio\, cena lungo il viale e goditi tutta la musica live.  \nAlba Adriatica si illumina per Il “Mazzini Sound 2024”\, il festival che unisce la grande musica alle eccellenze vitivinicole del territorio. \n“Mazzini Sound” è un percorso sonoro ed eno-gastronomico tra degustazione di vini regionali e specialità di ristoranti e truck food; un evento ricco di armonie\, arte e gusto. \n\nPer questa seconda edizione abbiamo reso tutto ancora più magico! Vino\, Musica e Cibo saranno i protagonisti dell’evento più atteso dell’estate. Dalle ore 19:00 in poi.\n\nProgramma ed Info: www.mazzinisound.it\n\n\n\nHai una band? Vorresti esibirti al Mazzini Sound? \n\n\nInviaci la tua musica e candidati al palco emergenti: uno spazio dedicato al tuo talento e alla tua passione.\n\n\nScrivici all’indirizzo email info@mazzinisound.it
URL:https://goalbaadriatica.it/eventi/mazzini-sound/
LOCATION:Viale Mazzini\, Viale Mazzini\, Alba Adriatica\, TE\, 64011
CATEGORIES:Intrattenimento,Musica,Sagra
ATTACH;FMTTYPE=image/png:https://goalbaadriatica.it/wp-content/uploads/2024/06/Screenshot-2024-07-19-at-10.14.54.png
END:VEVENT
BEGIN:VEVENT
DTSTART;TZID=Europe/Rome:20240826T210000
DTEND;TZID=Europe/Rome:20240826T210000
DTSTAMP:20260424T193354
CREATED:20240616T080728Z
LAST-MODIFIED:20240708T125410Z
UID:2444-1724706000-1724706000@goalbaadriatica.it
SUMMARY:Vai col Ballo...il lunedi sotto le stelle
DESCRIPTION:Torna “VAI COL BALLO”.\nAnche quest’anno appuntamento fisso con ballo tutti i lunedì presso la Bambinopoli Comunale\, una serie di serate danzanti ad Ingresso Libero organizzate dal Comune di Alba Adriatica con la collaborazione di ASD Music&Dance Academy e l’Associazione Arte Viva\, patrocinate dall’AssoArtisti dell’Adriatico.
URL:https://goalbaadriatica.it/eventi/vai-col-ballo-7/
LOCATION:Parco Bambinopoli\, Via Lungomare Marconi 2\, Alba Adriatica\, TE\, 64011
CATEGORIES:Ballo,Intrattenimento
ATTACH;FMTTYPE=image/jpeg:https://goalbaadriatica.it/wp-content/uploads/2024/06/ballo.jpeg
END:VEVENT
BEGIN:VEVENT
DTSTART;TZID=Europe/Rome:20240830T180000
DTEND;TZID=Europe/Rome:20240916T233000
DTSTAMP:20260424T193354
CREATED:20240616T081247Z
LAST-MODIFIED:20240828T101211Z
UID:2379-1725040800-1726529400@goalbaadriatica.it
SUMMARY:Festa Patronale di Sant'Eufemia V.M.
DESCRIPTION:della Città di Alba Adriatica in onere di Sant’Eufemia V.M. \nDal 30 agosto al 16 settembre\, 4 appuntamenti da non perdere. \n\nVenerdi 30 e Sabato 31 Agosto\, dalle ore 15:30 fino a mezzanotte\, con attività per bambini\, mercatini\, stand eno-gastronomici e musica con i concerti della Montepulciano Band e della coverband degli U2 “Achtung Babies”.\nDomenica 1 settembre\, sia parte alle ore 08:00 con la SS Messa e la Processione\, poi nel pomeriggio giochi ed intrattenimento prima del consueto appuntamento appuntamento con la SS Messa delle 16:45 e per concludere la chiusura della “Sagra dei Maccheroncini al sugo di papera” ed il concerto serale.\nIl 16 settembre\, ci ritroviamo tutti in piazza per festeggiare insieme il giorno della nostra Patrona con una messa alle 08:00 del mattino ed una alle 17:00 a cui seguirà la Processione accompagnata dalla Banda di Mosciano Sant’Angelo. Dalle 19:30 in poi apertura stand e concerto musicale dello “Stefania Fazzini Group”\, con estrazione della Lotteria in piazza alle ore 22:30.\n\n\nVi aspettiamo!
URL:https://goalbaadriatica.it/eventi/festa-patronale/
LOCATION:Piazza IV Novembre\, Piazza IV Novembre\, Alba Adriatica\, TE\, 64011\, Italia
CATEGORIES:Cultura,Intrattenimento,Sagra
ATTACH;FMTTYPE=image/jpeg:https://goalbaadriatica.it/wp-content/uploads/2024/06/patrono.jpeg
END:VEVENT
END:VCALENDAR