BEGIN:VCALENDAR
VERSION:2.0
PRODID:-//Go AlbaAdriatica - ECPv6.9.1//NONSGML v1.0//EN
CALSCALE:GREGORIAN
METHOD:PUBLISH
X-ORIGINAL-URL:https://goalbaadriatica.it
X-WR-CALDESC:Eventi per Go AlbaAdriatica
REFRESH-INTERVAL;VALUE=DURATION:PT1H
X-Robots-Tag:noindex
X-PUBLISHED-TTL:PT1H
BEGIN:VTIMEZONE
TZID:Europe/Rome
BEGIN:DAYLIGHT
TZOFFSETFROM:+0100
TZOFFSETTO:+0200
TZNAME:CEST
DTSTART:20250330T010000
END:DAYLIGHT
BEGIN:STANDARD
TZOFFSETFROM:+0200
TZOFFSETTO:+0100
TZNAME:CET
DTSTART:20251026T010000
END:STANDARD
END:VTIMEZONE
BEGIN:VEVENT
DTSTART;TZID=Europe/Rome:20250301T150000
DTEND;TZID=Europe/Rome:20250301T150000
DTSTAMP:20260424T101216
CREATED:20250213T155345Z
LAST-MODIFIED:20250304T140051Z
UID:6993-1740841200-1740841200@goalbaadriatica.it
SUMMARY:Carnevale in Villa 2025
DESCRIPTION:  \nCarnevale in Villa – Sabato 1 Marzo \nVivi la magia del Carnevale con la festa in maschera per grandi e piccini! \nNon perdere la possibilità di partecipare a un evento colorato e divertente che si terrà sabato 1 marzo dalle 15:00 alle 22:00 presso Villa Flaiani\, Alba Adriatica. \nSarà premiata la maschera più bella! \n🎉 Programma dell’evento: \n\nOre 15:00: Apertura della festa con musica\, animazione e divertenti punti di intrattenimento in tutta la villa (truccabimbi\, animazione\, spettacoli e artisti di strada).\nOre 15:30: Show del Mago Ventriloquo “Alex”.\nOre 16:30: Continuano le magie con lo spettacolo del “Mago Ivan”.\nDalle 16:00 alle 21:00: Musica e DJ Set in Via Risorgimento nella zona “foodtruck”\, dove le famiglie possono gustare ottimo cibo e bevande.\nDalle 17:30 alle 18:30: Animazione e spettacolo di fachiro sul palco principale.\nOre 18:00: “Sweet zone” con zucchero filato in omaggio per tutti!\n\n🎶 Non mancare a questo evento unico che riunisce divertimento\, musica e magia\, con intrattenimenti per tutte le età! \nIn caso di maltempo\, la manifestazione si terrà martedì 4 marzo alle 15:00.
URL:https://goalbaadriatica.it/eventi/carnevale-in-villa-2025/
LOCATION:Parco Villa Flaiani\, Via Roma 32\, Alba Adriatica\, TE\, 64011
CATEGORIES:Ballo,Bambini,Intrattenimento,Musica
ATTACH;FMTTYPE=image/png:https://goalbaadriatica.it/wp-content/uploads/2025/02/Carnevale-in-Villa-2025-POST-1080x1350-1.png
END:VEVENT
BEGIN:VEVENT
DTSTART;TZID=Europe/Rome:20250302T180000
DTEND;TZID=Europe/Rome:20250302T180000
DTSTAMP:20260424T101216
CREATED:20250224T151216Z
LAST-MODIFIED:20250304T140104Z
UID:7311-1740938400-1740938400@goalbaadriatica.it
SUMMARY:Concerto di Musica da Camera
DESCRIPTION:I Cameristi dell’ISA – Concerto di Musica da Camera \nDomenica 2 marzo\, alle ore 18.00\, non perdere l’appuntamento con “I Cameristi dell’ISA” presso l’Auditorium della Scuola Media “E. Fermi” di Alba Adriatica. \nL’evento\, parte della Stagione dei Concerti dell’Istituzione Sinfonica Abruzzese\, vedrà esibirsi un gruppo di artisti di spicco: Ettore Pellegrino e Antonio Scolletta (violino)\, Luigi Gagliano (viola)\, Andrea Crisante (violoncello) e Gianluca Sulli (clarinetto). \nIl programma del concerto include il Quintetto in si minore per clarinetto e archi op. 115 di Johannes Brahms e la prima esecuzione assoluta di “Scene in movimento” di Raffaele Molinelli\, una commissione esclusiva dell’ISA. \nUn’occasione imperdibile per gli amanti della musica classica e della cultura! Biglietti disponibili su Ciaotickets o presso il botteghino il giorno del concerto. \n\nDove: Auditorium Scuola Media “E. Fermi”\, Alba Adriatica\nOrario: 2 marzo\, ore 18.00\nBiglietti: Intero €12\,00 | Ridotto over 65 €10\,00 | Ridotto under 26 €5\,00\n\nTi aspettiamo per una serata di musica indimenticabile!
URL:https://goalbaadriatica.it/eventi/concerto-musica-da-camera/
LOCATION:Auditorium Scuola “E. Fermi”\, Via Saffi\, Alba Adriatica\, 64011\, Italy
CATEGORIES:Concerti,Cultura,Intrattenimento,Musica,Teatro
ATTACH;FMTTYPE=image/jpeg:https://goalbaadriatica.it/wp-content/uploads/2025/02/I-Cameristi-dellISA.jpeg
END:VEVENT
BEGIN:VEVENT
DTSTART;TZID=Europe/Rome:20250320T100000
DTEND;TZID=Europe/Rome:20250320T100000
DTSTAMP:20260424T101216
CREATED:20250317T112329Z
LAST-MODIFIED:20250317T112449Z
UID:7458-1742464800-1742464800@goalbaadriatica.it
SUMMARY:Nati per Leggere Val Vibrata - Marzo 2025
DESCRIPTION:Nati per Leggere Val Vibrata – Letture per bambini 0-6 anni! \nUn’iniziativa speciale per stimolare la lettura fin da piccoli! Sabato 15 febbraio\, un evento gratuito dedicato a famiglie con bambini da 0 a 6 anni\, pensato per promuovere la lettura condivisa e la cultura del libro. \n\nQuando: Sabato 20 marzo\, ore 10:00\nDove: Biblioteca Comunale\, Via Roma 32\, Alba Adriatica\n\nPrenotazione obbligatoria! Invia una mail a natiperleggerevalvibrata@gmail.com indicando il nome e l’età del bambino/a\, specificando la data e il luogo dell’evento nell’oggetto. \nUn’opportunità imperdibile per i più piccoli di scoprire il mondo dei libri in compagnia di mamma e papà\, in un ambiente accogliente e stimolante! Non mancare!
URL:https://goalbaadriatica.it/eventi/nati-per-leggere-val-vibrata-marzo-2025/
LOCATION:Biblioteca Villa Flaiani\, Via Roma 32\, Alba Adriatica\, 64011\, Italy
CATEGORIES:Cultura,Intrattenimento,Lettura
ATTACH;FMTTYPE=image/jpeg:https://goalbaadriatica.it/wp-content/uploads/2025/03/NatiPerLeggere_20-03-25.jpg
END:VEVENT
BEGIN:VEVENT
DTSTART;TZID=Europe/Rome:20250320T150000
DTEND;TZID=Europe/Rome:20250320T150000
DTSTAMP:20260424T101216
CREATED:20250317T112446Z
LAST-MODIFIED:20250317T115416Z
UID:7431-1742482800-1742482800@goalbaadriatica.it
SUMMARY:Convegno sull’Intelligenza Artificiale
DESCRIPTION:🤖 Scopriamo l’Intelligenza Artificiale 🤖 \nIl 20 marzo alle 15:00\, presso l’Auditorium della Scuola Enrico Fermi\, i Lions Club Val Vibrata organizzano un convegno sull’Intelligenza Artificiale. Un tema attuale e affascinante! \nUn seminario gratuito “𝐈𝐧𝐭𝐞𝐥𝐥𝐢𝐠𝐞𝐧𝐳𝐚 𝐀𝐫𝐭𝐢𝐟𝐢𝐜𝐢𝐚𝐥𝐞: 𝐎𝐩𝐩𝐨𝐫𝐭𝐮𝐧𝐢𝐭à 𝐩𝐞𝐫 𝐦𝐞𝐠𝐥𝐢𝐨 𝐏𝐫𝐨𝐠𝐞𝐭𝐭𝐚𝐫𝐞\, 𝐈𝐧𝐬𝐞𝐠𝐧𝐚𝐫𝐞\, 𝐂𝐨𝐦𝐮𝐧𝐢𝐜𝐚𝐫𝐞”.Un momento di approfondimento sui temi dell’IA applicata alla comunicazione\, alla progettazione e alla formazione. \nTra i relatori anche: Francesco Di Costanzo\, Sergio Talamo e Massimiliano Laurini.
URL:https://goalbaadriatica.it/eventi/convegno-sullintelligenza-artificiale/
LOCATION:Auditorium Scuola “E. Fermi”\, Via Saffi\, Alba Adriatica\, 64011\, Italy
CATEGORIES:Cultura,Intrattenimento
ATTACH;FMTTYPE=image/jpeg:https://goalbaadriatica.it/wp-content/uploads/2025/03/convegno-AI_marzo25.jpg
END:VEVENT
END:VCALENDAR