BEGIN:VCALENDAR
VERSION:2.0
PRODID:-//Go AlbaAdriatica - ECPv6.9.1//NONSGML v1.0//EN
CALSCALE:GREGORIAN
METHOD:PUBLISH
X-WR-CALNAME:Go AlbaAdriatica
X-ORIGINAL-URL:https://goalbaadriatica.it
X-WR-CALDESC:Eventi per Go AlbaAdriatica
REFRESH-INTERVAL;VALUE=DURATION:PT1H
X-Robots-Tag:noindex
X-PUBLISHED-TTL:PT1H
BEGIN:VTIMEZONE
TZID:Europe/Rome
BEGIN:DAYLIGHT
TZOFFSETFROM:+0100
TZOFFSETTO:+0200
TZNAME:CEST
DTSTART:20250330T010000
END:DAYLIGHT
BEGIN:STANDARD
TZOFFSETFROM:+0200
TZOFFSETTO:+0100
TZNAME:CET
DTSTART:20251026T010000
END:STANDARD
END:VTIMEZONE
BEGIN:VEVENT
DTSTART;TZID=Europe/Rome:20251024T000000
DTEND;TZID=Europe/Rome:20251026T000000
DTSTAMP:20260423T220754
CREATED:20251023T191123Z
LAST-MODIFIED:20251023T191123Z
UID:9800-1761264000-1761436800@goalbaadriatica.it
SUMMARY:Campionato Individuale Gold – Ginnastica Ritmica
DESCRIPTION:Venerdi 24\, sabato 25 e domenica 26 ottobre 2025\, presso il Palazzetto dello Sport – Via degli Oleandri\, Alba Adriatica un nuovo grande evento sportivo nazionale: il Campionato Individuale Gold Allieve – Zona Tecnica 4/5\, organizzato dalla ASD Ritmica Aurea con il patrocinio della Città di Alba Adriatica e della Federazione Ginnastica d’Italia. \nTre giornate di competizione ad altissimo livello\, in cui le migliori giovani ginnaste del centro-sud Italia si confronteranno nelle varie specialità della ginnastica ritmica\, tra eleganza\, precisione e talento. \nL’evento per l’occasione ospiterà atlete\, tecnici e famiglie provenienti da più regioni italiane\, trasformando la città in un punto di riferimento per la ginnastica ritmica. \nPer informazioni: ritmicaaurea@gmail.com \nUn appuntamento da non perdere per gli appassionati di sport e per chi ama la bellezza della disciplina artistica. \n🎟️ Ingresso a pagamento – pubblico ammesso
URL:https://goalbaadriatica.it/eventi/campionato-individuale-gold-ginnastica-ritmica/
LOCATION:Palazzetto dello sport (Via degli Oleandri)\, Via degli Oleandri\, Alba Adriatica\, 64011\, Italy
CATEGORIES:Ballo,Fitness,Intrattenimento,Musica,Ragazzi,Sport
ATTACH;FMTTYPE=image/jpeg:https://goalbaadriatica.it/wp-content/uploads/2025/10/Campionato-Mondiale-GOLD_Palazzetto-Sport-Alba-Adriatica.jpg
END:VEVENT
BEGIN:VEVENT
DTSTART;TZID=Europe/Rome:20251024T210000
DTEND;TZID=Europe/Rome:20251024T210000
DTSTAMP:20260423T220754
CREATED:20251023T191603Z
LAST-MODIFIED:20251023T191715Z
UID:9804-1761339600-1761339600@goalbaadriatica.it
SUMMARY:Stagione Concertistica d’Autunno 2025 – “Jazz Landscapes!”
DESCRIPTION:Venerdì 24 ottobre 2025\, alle ore 21:00\, presso l’Auditorium Istituto Comprensivo “E. Fermi” di Alba Adriatica\, prosegue la Stagione Concertistica d’Autunno 2025 dell’Orchestra da Camera “Benedetto Marcello”\, con un nuovo imperdibile appuntamento dedicato al jazz. \nSul palco dell’Auditorium dell’Istituto Comprensivo “E. Fermi” si esibirà il Sunrise String Jazz Quartet\, composto da: \n\nAnna Glibchuk – violino\nMarcello Maria Pozzi – violino\nDaniel Calzone – viola\nNicholas Stellati – violoncello\n\nLo spettacolo\, dal titolo “Jazz Landscapes!”\, condurrà il pubblico in un viaggio musicale attraverso i paesaggi sonori del jazz\, reinterpretati con eleganza e intensità dal quartetto d’archi. \nDirezione artistica a cura di Gianfranco Lupidii\, con il sostegno del Ministero della Cultura\, della Fondazione Tercas\, della Provincia di Teramo e della Città di Alba Adriatica. \n📞 Info: 334 8314329 – 📧 info@benedettomarcello.it – 🎟️ Ingresso €10 – Biglietti su ciaotickets.com \nUn concerto che unisce tecnica\, passione e improvvisazione\, per una serata di grande musica e suggestione.
URL:https://goalbaadriatica.it/eventi/stagione-concertistica-dautunno-2025-jazz-landscapes/
LOCATION:Auditorium Scuola “E. Fermi”\, Via Saffi\, Alba Adriatica\, 64011\, Italy
CATEGORIES:Concerti,Cultura,Intrattenimento,Musica,Teatro
ATTACH;FMTTYPE=image/jpeg:https://goalbaadriatica.it/wp-content/uploads/2025/10/Concerto-Jazz_Auditorium-Alba-Adriatica.jpg
END:VEVENT
BEGIN:VEVENT
DTSTART;TZID=Europe/Rome:20251031T153000
DTEND;TZID=Europe/Rome:20251031T153000
DTSTAMP:20260423T220754
CREATED:20251022T163421Z
LAST-MODIFIED:20251023T192035Z
UID:9797-1761924600-1761924600@goalbaadriatica.it
SUMMARY:Halloween 2025 - Il Parco Stregato in Villa
DESCRIPTION:Venerdì 31 ottobre 2025 – dalle ore 15:30 \nTorna anche quest’anno uno degli appuntamenti più attesi dell’autunno ad Alba Adriatica: “Il Parco Stregato”\, l’evento di Halloween dedicato a famiglie\, bambini e ragazzi\, con animazioni\, spettacoli horror e stand enogastronomici. \nPer un pomeriggio\, Villa Flaiani si trasformerà in un vero e proprio villaggio delle streghe\, tra zucche\, costumi spaventosi\, musica\, laboratori e sorprese per tutte le età. \nUn’occasione per vivere insieme la magia di Halloween in un’atmosfera suggestiva e divertente\, immersa nella cornice del parco cittadino. \n👻 PROGRAMMA\n⭐️ Ore 15:30 – Apertura del Parco \nMostri\, il Cimitero\, il Carcere degli Zombi e la Strega Pazza ti aspettano per un pomeriggio da brivido. \n⭐️ Ore 16:15 – Animazione e Baby Dance \nMusica\, balli e tanto divertimento per i più piccoli. \n⭐️ Ore 17:15 – Spettacolo Horror \n“Non tutti i clown fanno ridere… alcuni fanno ridere da paura!” \n⭐️ Ore 18:15 – Animazione e Baby Dance \nUn nuovo momento di festa e movimento per grandi e piccoli. \n⭐️ Ore 19:00 – Parata dei Personaggi Horror \nUn corteo di mostri e creature spaventose attraverserà il parco in un’atmosfera suggestiva e coinvolgente. \n⭐️ Ore 19:15 – Spettacolo di Fuoco \nGran finale con performance infuocate e scenografiche per chiudere la serata in bellezza. \n\n🍔 AREA GASTRONOMICA\nDurante l’intera manifestazione sarà attiva un’area food con stand enogastronomici e truck food\, dove sarà possibile gustare: \n🍔 Hamburger – 🍟 Patatine – 🍻 Birra – 🥤 Bibite – 🧁 Frittelle farcite – 🍿 Pop corn – 🍬 Zucchero filato \n\n  \n🎟️ Ingresso libero \n\n📅 In caso di maltempo\, la manifestazione si terrà sabato 8 novembre 2025. \nVieni a scoprire il lato più divertente e “spaventoso” di Alba Adriatica: il Parco Stregato ti aspetta!
URL:https://goalbaadriatica.it/eventi/halloween-2025-il-parco-stregato-in-villa/
LOCATION:Parco Villa Flaiani\, Via Roma 32\, Alba Adriatica\, TE\, 64011
CATEGORIES:Bambini,Intrattenimento,Musica
ATTACH;FMTTYPE=image/jpeg:https://goalbaadriatica.it/wp-content/uploads/2025/10/Halloween-2025.jpeg
END:VEVENT
END:VCALENDAR