BEGIN:VCALENDAR
VERSION:2.0
PRODID:-//Go AlbaAdriatica - ECPv6.9.1//NONSGML v1.0//EN
CALSCALE:GREGORIAN
METHOD:PUBLISH
X-ORIGINAL-URL:https://goalbaadriatica.it
X-WR-CALDESC:Eventi per Go AlbaAdriatica
REFRESH-INTERVAL;VALUE=DURATION:PT1H
X-Robots-Tag:noindex
X-PUBLISHED-TTL:PT1H
BEGIN:VTIMEZONE
TZID:Europe/Rome
BEGIN:DAYLIGHT
TZOFFSETFROM:+0100
TZOFFSETTO:+0200
TZNAME:CEST
DTSTART:20240331T010000
END:DAYLIGHT
BEGIN:STANDARD
TZOFFSETFROM:+0200
TZOFFSETTO:+0100
TZNAME:CET
DTSTART:20241027T010000
END:STANDARD
BEGIN:DAYLIGHT
TZOFFSETFROM:+0100
TZOFFSETTO:+0200
TZNAME:CEST
DTSTART:20250330T010000
END:DAYLIGHT
BEGIN:STANDARD
TZOFFSETFROM:+0200
TZOFFSETTO:+0100
TZNAME:CET
DTSTART:20251026T010000
END:STANDARD
END:VTIMEZONE
BEGIN:VEVENT
DTSTART;TZID=Europe/Rome:20241207T180000
DTEND;TZID=Europe/Rome:20241207T180000
DTSTAMP:20260424T165954
CREATED:20241203T142012Z
LAST-MODIFIED:20241207T081522Z
UID:5483-1733594400-1733594400@goalbaadriatica.it
SUMMARY:Incontro con Lorenzo Guzzetti in Villa Flajani
DESCRIPTION:Incontro con l’autore\, in Villa Flajani\n\n\n \n\n\nSabato 7 dicembre alle ore 18:00\, la Biblioteca Comunale “Domenico Pantone” di Alba Adriatica ospita un evento speciale: la presentazione del romanzo “Si fa in due” di Lorenzo Guzzetti.\n\n\n \n\n\n🎤 Modera: Prof.ssa Simona Clementoni\, docente presso IIS G. Peano – C. Rosa.\n\n\n📖 L’autore Lorenzo Guzzetti ci guiderà attraverso le pagine del suo libro\, raccontandoci storie e curiosità.\n\n\n \n\n\nUn’occasione imperdibile per gli amanti della lettura e della cultura\, in una location suggestiva come Villa Flajani.\n\n\nTi aspettiamo per una serata all’insegna della cultura!\n\n____________\n\nSi fa in due\n\nNelle librerie\, edito da Nerosubianco\, il romanzo “Si fa in due”\, scritto da Lorenzo Guzzetti\, ex sindaco di Uboldo. Un progetto editoriale che entusiasma l’autore\, già pronto alla lunga e faticosa carrellata di presentazioni in scuole\, biblioteche e teatri.\n\nSinossi: “Marco Casati\, affermato manager e musicista\, viene convocato in Commissariato a Busto Arsizio dal vice questore Barbara Maestrelli per la notifica dell’atto di allontanamento della ‘denunciante’\, Chiara Micucci\, la sua compagna che sembra voler mettere la parola fine alla relazione con Marco. Queste due ore cambieranno la vita di Marco\, Chiara\, Sveva\, la ex di Marco\, della stessa Maestrelli. E di Giulia. Nell’arco di una mattinata\, Marco ricostruirà tutto il suo rapporto con Chiara\, le contraddizioni\, il primo schiaffo\, i social usati come arma\, le famiglie\, i tradimenti\, il narcisismo\, l’incapacità di stare e quell’ossimoro maledetto: la violenza nell’amore. Una relazione tossica che ha come alfabeto la violenza. Quando finisce allora questo gioco perverso? Quando si riesce a chiudere un amore tossico? Quando si muore. Quando uno dei due muore. O forse no”.\n________________\n\n\n\nChi è Lorenzo Guzzetti\nDa sindaco a scrittore il passo è breve. La storia di un ragazzo come tanti che ha la fortuna a 24 anni di diventare sindaco del suo paese\, Uboldo\, una comunità di 11.000 abitanti a pochi chilometri da Milano. Una storia di amore\, amicizia\, politica\, dieci anni di Italia raccontati con gli occhi di un sindaco e un ragazzo che diventa uomo dentro alle Istituzioni.\nLorenzo Guzzetti\, classe 1982\, opera nella sanità e nel Terzo Settore dove oggi dirige strutture sanitarie e socioassistenziali occupandosi di anziani\, malati psichiatrici e disabili. Nel 2007 è diventato uno dei sindaci più giovani di Italia a Uboldo (VA)\, poi riconfermato nel 2009 e nel 2014. Ha raccontato la sua esperienza nel libro “4382 – Dieci anni e più da sindaco”. Nel 2023 e nel 2024 ha scritto diversi articoli di approfondimento riguardanti il Terzo Settore sul quotidiano “il Riformista”. Dal 2023 conduce su InBlu una trasmissione radiofonica con l’amico Franco Colombo\, trattando temi di politica\, sport e costume. Con Andrea Ciccioni ha fondato nel 2011 l’associazione “Quelli che… con Luca” (www.quellicheconluca.org) che si occupa di finanziare la ricerca scientifica per combattere la leucemia infantile e con Don David Maria Riboldi\, cappellano del carcere di Busto Arsizio (VA)\, nel 2019 ha dato vita a “La Valle di Ezechiele”\, cooperativa sociale per il recupero dei carcerati attraverso il lavoro. Nel tempo libero ama scrivere\, suonare e cucinare per gli amici.
URL:https://goalbaadriatica.it/eventi/incontro-con-lorenzo-guzzetti-in-villa-flajani/
LOCATION:Parco Villa Flaiani\, Via Roma 32\, Alba Adriatica\, TE\, 64011
CATEGORIES:Cultura,Intrattenimento
ATTACH;FMTTYPE=image/jpeg:https://goalbaadriatica.it/wp-content/uploads/2024/12/2024-12-07_Si-fa-in-due_villa-flajani.jpg
END:VEVENT
BEGIN:VEVENT
DTSTART;TZID=Europe/Rome:20241207T180000
DTEND;TZID=Europe/Rome:20250106T180000
DTSTAMP:20260424T165954
CREATED:20241203T135706Z
LAST-MODIFIED:20241208T174223Z
UID:5430-1733594400-1736186400@goalbaadriatica.it
SUMMARY:Alba Christmas Village 2024
DESCRIPTION:“Magico Natale” \nEventi culturali – Eventi musicali – Magia e giochi per bambini e ragazzi \nBabbo Natale Park – Giostre per bambini – Pista sul ghiaccio \nCALENDARIO EVENTI \n7 Dicembre: \n\n ore 18.00 – Biblioteca Comunale “Villa Flajani”: Presentazione del libro “Si fa in due” di Lorenzo Guzzetti\n\n8 Dicembre: \n\n ore 15.30 – Piazza del Popolo: “Apertura Villaggio” Animazione con Elfi\, Nataline e Babbo Natale\n\n14 Dicembre: \n\nore 10.00 – Biblioteca Comunale “Villa Flajani”: “Laboratorio creativo sul Natale”\nore 16.00 – Piazza del Popolo: “Spettacolo di magia con Mago Alex e truccabimbi”\nore 18.00 – Biblioteca Comunale “Villa Flajani”: Presentazione del libro “La notte dei poeti” poesie di Paolo Carlo Rosati\nore 21.00 – Palazzetto dello Sport: “Saggio di Natale di ginnastica ritmica” dell’ASD Simone Fitness\n\n21 Dicembre \n\nore 16.00 – Piazza del Popolo: Concerto di Natale del Piccolo Coro Amadeus\n\n22 Dicembre \n\nore 18.00 – Sala Polifunzionale di Via Bafile: “Concerto di fine anno” dell’Associazione Music Play\nore 19.30 – Palazzetto dello Sport: “The Polar Express Saggio di Natale” dell’ASD Ritmica Aurea\n\n26 Dicembre \n\nore 16.00 – Piazza del Popolo: Animazione\, giochi e baby dance per bambini\n\n28 Dicembre \n\nore 16.00 – Piazza del Popolo: “Lo stupore del Natale” spettacolo di giocoleria e magia con equilibrio su pattini\n\n29 Dicembre \n\nore 16.00 – Pensione Eva: “Tomboliamo”\n\n31 Dicembre \n\nore 23.00 – Piazza del Popolo: “Aspettando il nuovo anno insieme”\n\n“La notte di Capodanno: Discoteca in Piazza” \n\nFesteggia il Nuovo Anno con noi!\n\nUna serata indimenticabile con “I Love Formentera – Dance Party”\, con Roberto Milani (Guest Dj) e Paolino (Guest Voice) direttamente da Radio 105. \nMusica\, spettacolo e divertimento con deejay\, vocalist e ballerini\, pronti a regalarti un Capodanno unico e pieno di energia! \n4 Gennaio \n\nore 16.00 – Piazza del Popolo: Spettacolo circense\nore 21.00 – Chiesa dell’Immacolata: “Concerto l’ensemble giovani musicisti” dell’Associazione Ars Nova\n\n6 Gennaio \n\nore 15.00 – Piazza del Popolo: “Arriva… la Befana”\n\n_____________________________________ \nGrande Novità 2024-2025: Babbo Natale Park \n\nUn’area pensata per incontri e momenti di condivisione\, perfetta per scattare selfie in famiglia e immergersi in un’atmosfera magica dal tipico sapore natalizio. \nL’allestimento sarà arricchito da scenografie spettacolari e strutture luminose che renderanno ogni visita un’esperienza indimenticabile. \n\n\n\n_____________________________________ \nSEGUICI SUI CANALI SOCIAL UFFICIALI DELL’ALBA CHRISTMAS VILLAGE: \n\nFACEBOOK: https://www.facebook.com/albachristmasvillage/\nINSTAGRAM: https://www.instagram.com/alba_christmasvillage/
URL:https://goalbaadriatica.it/eventi/alba-christmas-village-2024/
LOCATION:Piazza del Popolo\, Piazza del Popolo\, Alba Adriatica\, TE\, 64011\, Italia
CATEGORIES:Bambini,Concerti,Cultura,Intrattenimento,Musica,Sport
ATTACH;FMTTYPE=image/jpeg:https://goalbaadriatica.it/wp-content/uploads/2024/12/Alba-Christmas-Village_GoAlba_Calendario-Eventi-2024-OK-scaled.jpg
END:VEVENT
END:VCALENDAR