BEGIN:VCALENDAR
VERSION:2.0
PRODID:-//Go AlbaAdriatica - ECPv6.9.1//NONSGML v1.0//EN
CALSCALE:GREGORIAN
METHOD:PUBLISH
X-WR-CALNAME:Go AlbaAdriatica
X-ORIGINAL-URL:https://goalbaadriatica.it
X-WR-CALDESC:Eventi per Go AlbaAdriatica
REFRESH-INTERVAL;VALUE=DURATION:PT1H
X-Robots-Tag:noindex
X-PUBLISHED-TTL:PT1H
BEGIN:VTIMEZONE
TZID:Europe/Rome
BEGIN:DAYLIGHT
TZOFFSETFROM:+0100
TZOFFSETTO:+0200
TZNAME:CEST
DTSTART:20250330T010000
END:DAYLIGHT
BEGIN:STANDARD
TZOFFSETFROM:+0200
TZOFFSETTO:+0100
TZNAME:CET
DTSTART:20251026T010000
END:STANDARD
END:VTIMEZONE
BEGIN:VEVENT
DTSTART;TZID=Europe/Rome:20250518T080000
DTEND;TZID=Europe/Rome:20250518T200000
DTSTAMP:20260424T095658
CREATED:20250427T135355Z
LAST-MODIFIED:20250512T102554Z
UID:7580-1747555200-1747598400@goalbaadriatica.it
SUMMARY:Mercatino "Fiori e Sapori"
DESCRIPTION:Domenica 18 maggio 2025\, dalle ore 8.00 alle 20.00 – Lungomare Marconi\, da via Mazzini a via Turati \nProfumi di primavera\, colori e tradizioni enogastronomiche si incontrano nel mercatino “Fiori e Sapori”\, in programma domenica 18 maggio sul Lungomare Marconi. \nDalle ore 8.00 alle 20.00\, tra via Mazzini e via Turati\, sarà possibile passeggiare tra banchi di fiori\, piante\, creazioni artigianali e specialità tipiche del territorio. Un invito a riscoprire i sensi e sostenere la produzione locale.
URL:https://goalbaadriatica.it/eventi/mercatino-fiori-e-sapori/
LOCATION:Lungomare Marconi Nord (angolo via Turati)\, Via Lungomare Marconi 7\, Alba Adriatica\, TE\, 64011\, Italia
CATEGORIES:Intrattenimento,Mercatino,Shopping
ATTACH;FMTTYPE=image/jpeg:https://goalbaadriatica.it/wp-content/uploads/2025/04/Mercatino-Fiori-e-Sapori.jpeg
END:VEVENT
BEGIN:VEVENT
DTSTART;TZID=Europe/Rome:20250518T160000
DTEND;TZID=Europe/Rome:20250518T160000
DTSTAMP:20260424T095658
CREATED:20250428T134342Z
LAST-MODIFIED:20250512T110538Z
UID:7434-1747584000-1747584000@goalbaadriatica.it
SUMMARY:Incontro “Il Ciclo di vita della donna”
DESCRIPTION:🌸 Incontri sul Ciclo di Vita della Donna 🌸 \nVi aspettiamo presso la Biblioteca “D. Pantone” in Villa Flaiani per approfondire insieme le diverse fasi della vita femminile. Un percorso di consapevolezza e crescita. \n📅 Data: 18 maggio 2025 \n⏰ Orario: 16:00 – 18:00 \nDomenica 18 maggio 2025\, si terrà l’ultimo appuntamento del ciclo di incontri “Il Ciclo di Vita della Donna”\, a cura di équipedonna. Dopo aver esplorato i temi dell’adolescenza e della maternità\, l’evento conclusivo sarà dedicato alla menopausa\, un’importante fase della vita femminile che porta con sé cambiamenti fisici ed emotivi. \nL’incontro\, offrirà un’opportunità di approfondimento su argomenti fondamentali per il benessere della donna in questa fase della vita. Saranno trattati temi legati a: \n✔️ Cambiamenti ormonali e salute femminile \n✔️ Benessere psicofisico e gestione delle emozioni \n✔️ Alimentazione e stili di vita per una menopausa sana \n✔️ Prevenzione e cure per migliorare la qualità della vita \nL’evento è gratuito e aperto a tutte le donne interessate ad approfondire il tema con esperti del settore. \n🔗 Info e contatti: equipedonnahumana@gmail.com
URL:https://goalbaadriatica.it/eventi/incontro-il-ciclo-di-vita-della-donna/
LOCATION:Biblioteca Villa Flaiani\, Via Roma 32\, Alba Adriatica\, 64011\, Italy
CATEGORIES:Cultura,Intrattenimento
ATTACH;FMTTYPE=image/jpeg:https://goalbaadriatica.it/wp-content/uploads/2025/03/incontri-donna_villa-fliani_marzo-25.jpg
END:VEVENT
END:VCALENDAR