BEGIN:VCALENDAR
VERSION:2.0
PRODID:-//Go AlbaAdriatica - ECPv6.9.1//NONSGML v1.0//EN
CALSCALE:GREGORIAN
METHOD:PUBLISH
X-WR-CALNAME:Go AlbaAdriatica
X-ORIGINAL-URL:https://goalbaadriatica.it
X-WR-CALDESC:Eventi per Go AlbaAdriatica
REFRESH-INTERVAL;VALUE=DURATION:PT1H
X-Robots-Tag:noindex
X-PUBLISHED-TTL:PT1H
BEGIN:VTIMEZONE
TZID:Europe/Rome
BEGIN:DAYLIGHT
TZOFFSETFROM:+0100
TZOFFSETTO:+0200
TZNAME:CEST
DTSTART:20250330T010000
END:DAYLIGHT
BEGIN:STANDARD
TZOFFSETFROM:+0200
TZOFFSETTO:+0100
TZNAME:CET
DTSTART:20251026T010000
END:STANDARD
END:VTIMEZONE
BEGIN:VEVENT
DTSTART;TZID=Europe/Rome:20250604T090000
DTEND;TZID=Europe/Rome:20250608T090000
DTSTAMP:20260424T073137
CREATED:20250512T105059Z
LAST-MODIFIED:20250528T140519Z
UID:7858-1749027600-1749373200@goalbaadriatica.it
SUMMARY:“La Stratosferica” – Omaggio ai 50 anni della Lancia Stratos
DESCRIPTION:“La Stratosferica” – Omaggio ai 50 anni della Lancia Stratos \nUn evento speciale dedicato ai 50 anni della Lancia Stratos\, iconica automobile da competizione che ha segnato un’epoca nel mondo del rally. Un vero e proprio tributo a una leggenda delle quattro ruote\, per rivivere lo spirito delle competizioni anni ’70 e scoprire l’evoluzione del mito attraverso immagini\, suoni e motori. \nDal 4 all’8 giugno\, Piazza del Popolo sarà il centro nevralgico della manifestazione\, da cui partiranno sfilate\, incontri\, attività dinamiche e rievocazioni storiche del Rally TAC\, con 20 esemplari originali di Lancia Stratos guidati da equipaggi provenienti da tutta Europa. \nCinque giorni per celebrare design\, velocità e innovazione con un’esposizione straordinaria di modelli originali\, approfondimenti storici\, installazioni tematiche e momenti di incontro con appassionati\, collezionisti e addetti ai lavori. \n\nUn evento che unisce passione\, motori e territorio\, portando in piazza una parata emozionante di modelli iconici\, momenti culturali e occasioni d’incontro per appassionati e famiglie. \n\n🎨 Arte\, sport e memoria si fondono in una cinque giorni che include: \n\n\nSfilate e cronoscalate rievocate nei borghi teramani \n\n\nAttività al kartodromo di Sant’Egidio alla Vibrata \n\n\nWorkshop di guida rally con Alex Fiorio \n\n\nPresenza straordinaria di Cesare Fiorio \n\n\nPresentazione del libro “Stratosferico” di Cristiano Fiorio \n\n\nCena di gala a Villa Gattopardo \n\n\n\n\nTi aspettiamo per un viaggio nel tempo a motore acceso! \n\nScopri di più: https://www.lastratosferica.it/manifestazione-2025/
URL:https://goalbaadriatica.it/eventi/la-stratosferica-omaggio-ai-50-anni-della-lancia-stratos/
LOCATION:Piazza del Popolo\, Piazza del Popolo\, Alba Adriatica\, TE\, 64011\, Italia
CATEGORIES:Cultura,Intrattenimento
ATTACH;FMTTYPE=image/jpeg:https://goalbaadriatica.it/wp-content/uploads/2025/05/La-stratosferica_1.jpg
END:VEVENT
END:VCALENDAR