BEGIN:VCALENDAR
VERSION:2.0
PRODID:-//Go AlbaAdriatica - ECPv6.9.1//NONSGML v1.0//EN
CALSCALE:GREGORIAN
METHOD:PUBLISH
X-ORIGINAL-URL:https://goalbaadriatica.it
X-WR-CALDESC:Eventi per Go AlbaAdriatica
REFRESH-INTERVAL;VALUE=DURATION:PT1H
X-Robots-Tag:noindex
X-PUBLISHED-TTL:PT1H
BEGIN:VTIMEZONE
TZID:Europe/Rome
BEGIN:DAYLIGHT
TZOFFSETFROM:+0100
TZOFFSETTO:+0200
TZNAME:CEST
DTSTART:20250330T010000
END:DAYLIGHT
BEGIN:STANDARD
TZOFFSETFROM:+0200
TZOFFSETTO:+0100
TZNAME:CET
DTSTART:20251026T010000
END:STANDARD
END:VTIMEZONE
BEGIN:VEVENT
DTSTART;TZID=Europe/Rome:20250615T090000
DTEND;TZID=Europe/Rome:20250621T180000
DTSTAMP:20260424T085139
CREATED:20250516T120631Z
LAST-MODIFIED:20250613T071811Z
UID:7760-1749978000-1750528800@goalbaadriatica.it
SUMMARY:Alba Summer Camp – Stage di basket e minibasket
DESCRIPTION:Da domenica 15 a sabato 21 giugno 2025\, dalle ore 9.00 alle 18.00 – Campo basket via Olimpica \nUna settimana dedicata alla pallacanestro per bambini e ragazzi! \nDal 15 al 21 giugno\, il Campo basket di via Olimpica ospita l’Alba Summer Camp\, stage formativo di basket e minibasket. \nAllenamenti\, giochi e tanto divertimento sotto la guida di istruttori qualificati\, per migliorare tecnica\, spirito di squadra e amicizia.
URL:https://goalbaadriatica.it/eventi/alba-summer-camp-stage-di-basket-e-minibasket/
LOCATION:Centro Sportivo Atheletic United (Via Olimpica)\, Via Olimpica 14\, Alba Adriatica\, 64011\, Italy
CATEGORIES:Fitness,Intrattenimento,Sport
ATTACH;FMTTYPE=image/jpeg:https://goalbaadriatica.it/wp-content/uploads/2025/05/Alba-Summer-Camp-–-Stage-di-basket-e-minibasket.jpg
END:VEVENT
BEGIN:VEVENT
DTSTART;TZID=Europe/Rome:20250621T173000
DTEND;TZID=Europe/Rome:20250621T173000
DTSTAMP:20260424T085139
CREATED:20250516T121135Z
LAST-MODIFIED:20250613T142849Z
UID:7868-1750527000-1750527000@goalbaadriatica.it
SUMMARY:Cerimonia di consegna della Bandiera Blu FEE 2025
DESCRIPTION:Cerimonia di consegna della Bandiera Blu FEE 2025 \nVenerdì 21 giugno 2025\, ore 17.30 – Ufficio IAT\, Lungomare Marconi \nAnche quest’anno Alba Adriatica riceve l’ambita Bandiera Blu della FEE – Foundation for Environmental Education\, riconoscimento internazionale che premia la qualità ambientale delle spiagge\, la gestione sostenibile del territorio e l’eccellenza nei servizi turistici. \nLa cerimonia ufficiale di consegna si terrà venerdì 21 giugno alle ore 17.30 presso l’Ufficio IAT di Lungomare Marconi\, alla presenza delle autorità locali\, degli operatori del settore e della cittadinanza. \nUn traguardo che conferma l’impegno costante della città nella tutela del mare\, nella promozione della mobilità dolce e nella valorizzazione di un’accoglienza turistica responsabile e di qualità.
URL:https://goalbaadriatica.it/eventi/cerimonia-di-consegna-della-bandiera-blu-fee-2025/
LOCATION:IAT – Uff. Informazioni e Accoglienza Turistica\, Lungomare G. Marconi 1\, Alba Adriatica\, 64011\, Italy
CATEGORIES:Cultura,Intrattenimento
ATTACH;FMTTYPE=image/jpeg:https://goalbaadriatica.it/wp-content/uploads/2025/02/Bandiera-Blu.jpg
END:VEVENT
BEGIN:VEVENT
DTSTART;TZID=Europe/Rome:20250621T210000
DTEND;TZID=Europe/Rome:20250621T210000
DTSTAMP:20260424T085139
CREATED:20250516T121039Z
LAST-MODIFIED:20250620T051145Z
UID:8228-1750539600-1750539600@goalbaadriatica.it
SUMMARY:Vasco Tribute Night
DESCRIPTION:Vasco Tribute Night – Sabato 21 giugno 2025\, ore 21.00 – Piazza Montale\, Alba Adriatica \nUna serata all’insegna del rock italiano per celebrare la musica di uno degli artisti più amati di sempre: Vasco Rossi. Sabato 21 giugno 2025\, Piazza Montale ospita una doppia esibizione live con due tribute band d’eccezione: i KOM e i Liberi Liberi\, per un omaggio travolgente ai successi del Blasco. \nOspite speciale della serata sarà Mirco Salerni\, interprete carismatico e voce storica delle cover vaschiane\, pronto a coinvolgere il pubblico in un concerto emozionante\, vibrante e carico di energia. \nL’iniziativa\, promossa dal Comune di Alba Adriatica in collaborazione con l’Inter Club Alba Adriatica e l’Associazione La Pineta\, rientra nel programma di eventi estivi gratuiti e aperti a tutti\, pensati per offrire musica e spettacolo in una delle location più frequentate del litorale. \nIn scaletta: i grandi classici di Vasco Rossi\, da Albachiara a Sally\, da Gli spari sopra a Rewind\, in un crescendo di emozioni \nUn appuntamento da non perdere per gli amanti della buona musica dal vivo e per chi vuole vivere la notte con il cuore a tempo di rock! \nIngresso gratuito.
URL:https://goalbaadriatica.it/eventi/vasco-tribute-night/
LOCATION:Piazza Montale (Lungomare Marconi)\, Via Lungomare Marconi 236\, Alba Adriatica\, TE\, 64011
CATEGORIES:Concerti,Intrattenimento
ATTACH;FMTTYPE=image/jpeg:https://goalbaadriatica.it/wp-content/uploads/2025/05/Vasco-rossi-TributeBand.jpg
END:VEVENT
END:VCALENDAR