BEGIN:VCALENDAR
VERSION:2.0
PRODID:-//Go AlbaAdriatica - ECPv6.9.1//NONSGML v1.0//EN
CALSCALE:GREGORIAN
METHOD:PUBLISH
X-ORIGINAL-URL:https://goalbaadriatica.it
X-WR-CALDESC:Eventi per Go AlbaAdriatica
REFRESH-INTERVAL;VALUE=DURATION:PT1H
X-Robots-Tag:noindex
X-PUBLISHED-TTL:PT1H
BEGIN:VTIMEZONE
TZID:Europe/Rome
BEGIN:DAYLIGHT
TZOFFSETFROM:+0100
TZOFFSETTO:+0200
TZNAME:CEST
DTSTART:20250330T010000
END:DAYLIGHT
BEGIN:STANDARD
TZOFFSETFROM:+0200
TZOFFSETTO:+0100
TZNAME:CET
DTSTART:20251026T010000
END:STANDARD
END:VTIMEZONE
BEGIN:VEVENT
DTSTART;TZID=Europe/Rome:20250630T210000
DTEND;TZID=Europe/Rome:20250630T210000
DTSTAMP:20260424T060755
CREATED:20250516T124230Z
LAST-MODIFIED:20250625T081731Z
UID:7771-1751317200-1751317200@goalbaadriatica.it
SUMMARY:Vai col Ballo – Il lunedì sotto le stelle
DESCRIPTION:Lunedì 30 giugno 2025\, dalle ore 21.00 – Parco Bambinopoli \nTorna anche quest’estate “Vai col Ballo”\, l’appuntamento settimanale con la musica e il ballo libero sotto le stelle. \nOgni lunedì sera – 16\, 23 e 30 giugno – il Parco Bambinopoli ospiterà serate all’insegna del ritmo e del divertimento aperte a tutti\, in una cornice verde e rilassante.
URL:https://goalbaadriatica.it/eventi/vai-col-ballo-il-lunedi-sotto-le-stelle-30-06-25/
LOCATION:Parco Bambinopoli\, Via Lungomare Marconi 2\, Alba Adriatica\, TE\, 64011
CATEGORIES:Ballo,Intrattenimento
ATTACH;FMTTYPE=image/jpeg:https://goalbaadriatica.it/wp-content/uploads/2025/05/Vai-col-Ballo-25.jpeg
END:VEVENT
END:VCALENDAR