BEGIN:VCALENDAR
VERSION:2.0
PRODID:-//Go AlbaAdriatica - ECPv6.9.1//NONSGML v1.0//EN
CALSCALE:GREGORIAN
METHOD:PUBLISH
X-WR-CALNAME:Go AlbaAdriatica
X-ORIGINAL-URL:https://goalbaadriatica.it
X-WR-CALDESC:Eventi per Go AlbaAdriatica
REFRESH-INTERVAL;VALUE=DURATION:PT1H
X-Robots-Tag:noindex
X-PUBLISHED-TTL:PT1H
BEGIN:VTIMEZONE
TZID:Europe/Rome
BEGIN:DAYLIGHT
TZOFFSETFROM:+0100
TZOFFSETTO:+0200
TZNAME:CEST
DTSTART:20250330T010000
END:DAYLIGHT
BEGIN:STANDARD
TZOFFSETFROM:+0200
TZOFFSETTO:+0100
TZNAME:CET
DTSTART:20251026T010000
END:STANDARD
END:VTIMEZONE
BEGIN:VEVENT
DTSTART;TZID=Europe/Rome:20250701T180000
DTEND;TZID=Europe/Rome:20250729T180000
DTSTAMP:20260424T061512
CREATED:20250522T103911Z
LAST-MODIFIED:20250522T103911Z
UID:7900-1751392800-1753812000@goalbaadriatica.it
SUMMARY:Mercatino del Viale
DESCRIPTION:Nei giorni: Martedì 1\, 8\, 15\, 22 e 29 luglio 2025\, dalle ore 18.00 alle 24.00 – Viale della Vittoria \nOgni martedì di luglio\, Viale della Vittoria si anima con il tradizionale Mercatino del Viale. \nDalle ore 18.00 alle 24.00\, tra il verde degli alberi e la brezza marina\, sarà possibile passeggiare tra le bancarelle di artigianato creativo\, prodotti tipici locali e tante curiosità estive. \nUn appuntamento immancabile per vivere il lungomare in un’atmosfera rilassata e scoprire oggetti unici realizzati a mano.
URL:https://goalbaadriatica.it/eventi/mercatino-del-viale-luglio-25/
LOCATION:Viale della Vittoria\, Viale della Vittoria\, Alba Adriatica\, TE\, 64011
CATEGORIES:Intrattenimento,Mercatino,Shopping
ATTACH;FMTTYPE=image/jpeg:https://goalbaadriatica.it/wp-content/uploads/2024/06/mercatino-viale.jpg
END:VEVENT
BEGIN:VEVENT
DTSTART;TZID=Europe/Rome:20250702T070000
DTEND;TZID=Europe/Rome:20250730T070000
DTSTAMP:20260424T061512
CREATED:20250522T104011Z
LAST-MODIFIED:20250623T123447Z
UID:7902-1751439600-1753858800@goalbaadriatica.it
SUMMARY:Yoga in Pineta – Salute e Benessere nella natura
DESCRIPTION:Nei giorni: Mercoledì 2\, venerdì 4\, mercoledì 9\, venerdì 11\, mercoledì 16\, venerdì 18\, mercoledì 23\, venerdì 25 e mercoledì 30 luglio 2025 – ore 07:00\, Pineta litoranea nord \nDurante tutto luglio\, la Pineta litoranea nord diventa il luogo ideale per ritrovare equilibrio e serenità con gli incontri di Yoga in Pineta\, a cura dell’ASD Time To Move. \nOgni mercoledì e venerdì\, all’ombra degli alberi e al suono delle onde\, si svolgeranno sessioni di yoga accessibili a tutti: un’occasione preziosa per riconnettersi con se stessi e con la natura\, respirando l’energia dell’estate.
URL:https://goalbaadriatica.it/eventi/yoga-in-pineta-salute-e-benessere-nella-natura-luglio-25/
LOCATION:Pineta Litoranea Nord\, Via Lungomare Marconi 210\, Alba Adriatica\, TE\, 64011
CATEGORIES:Fitness,Intrattenimento
ATTACH;FMTTYPE=image/png:https://goalbaadriatica.it/wp-content/uploads/2025/06/locandina-yoga-in-pineta.png
END:VEVENT
BEGIN:VEVENT
DTSTART;TZID=Europe/Rome:20250725T100000
DTEND;TZID=Europe/Rome:20250725T100000
DTSTAMP:20260424T061512
CREATED:20250526T164705Z
LAST-MODIFIED:20250721T144351Z
UID:8032-1753437600-1753437600@goalbaadriatica.it
SUMMARY:Giornata Mondiale della Prevenzione dell’Annegamento
DESCRIPTION:Venerdì 25 luglio 2025 – Ore 10:00\, Spiaggia antistante Circolo Nautico Alba Adriatica A.S.D. \nIn occasione della Giornata Mondiale della Prevenzione dell’Annegamento\, promossa dall’Organizzazione Mondiale della Sanità e celebrata in tutti i Comuni Bandiera Blu\, la Città di Alba Adriatica organizza un appuntamento dedicato alla sensibilizzazione e alla sicurezza in mare. \nIl programma prevede: \n\nSimulazione di soccorso con recupero in acqua a cura della Croce Rossa Italiana\nPartecipazione del Circolo Nautico di Alba Adriatica A.S.D.\, della Cooperativa dei Bagnini di Salvamento Costa Sicura e della Protezione Civile Gran Sasso d’Italia (sezione. Lorenzo Cinì)\nAttività di sensibilizzazione ambientale “Città pulite” con l’Associazione Plastic Free Onlus\nConsegna dei posacenere tascabili per la tutela dell’ambiente\n\nL’iniziativa è parte del calendario nazionale degli eventi promossi dalla FEE Italia per la promozione della sicurezza in spiaggia e del rispetto del mare.
URL:https://goalbaadriatica.it/eventi/giornata-mondiale-della-prevenzione-dellannegamento/
LOCATION:Spiaggia antistante Circolo Nautico\, Via Lungomare Marconi 370\, Alba Adriatica\, TE\, 64011
CATEGORIES:Cultura,Intrattenimento
ATTACH;FMTTYPE=image/png:https://goalbaadriatica.it/wp-content/uploads/2025/05/Locandina-Giornata-25-Luglio-25_V4.png
END:VEVENT
END:VCALENDAR