BEGIN:VCALENDAR
VERSION:2.0
PRODID:-//Go AlbaAdriatica - ECPv6.9.1//NONSGML v1.0//EN
CALSCALE:GREGORIAN
METHOD:PUBLISH
X-WR-CALNAME:Go AlbaAdriatica
X-ORIGINAL-URL:https://goalbaadriatica.it
X-WR-CALDESC:Eventi per Go AlbaAdriatica
REFRESH-INTERVAL;VALUE=DURATION:PT1H
X-Robots-Tag:noindex
X-PUBLISHED-TTL:PT1H
BEGIN:VTIMEZONE
TZID:Europe/Rome
BEGIN:DAYLIGHT
TZOFFSETFROM:+0100
TZOFFSETTO:+0200
TZNAME:CEST
DTSTART:20250330T010000
END:DAYLIGHT
BEGIN:STANDARD
TZOFFSETFROM:+0200
TZOFFSETTO:+0100
TZNAME:CET
DTSTART:20251026T010000
END:STANDARD
END:VTIMEZONE
BEGIN:VEVENT
DTSTART;TZID=Europe/Rome:20250801T070000
DTEND;TZID=Europe/Rome:20250829T070000
DTSTAMP:20260424T051256
CREATED:20250604T082011Z
LAST-MODIFIED:20250623T123454Z
UID:8062-1754031600-1756450800@goalbaadriatica.it
SUMMARY:Yoga in Pineta – Salute e Benessere nella natura
DESCRIPTION:Nei giorni: Venerdì 1°\, Mercoledì 6\, Venerdì 8\, Mercoledì 13\, Venerdì 15\, Mercoledì 20\, Venerdì 22\, Mercoledì 27 e Venerdì 29 agosto 2025 – ore 07:00\, Pineta litoranea nord \nDurante tutto agosto\, la Pineta litoranea nord diventa il luogo ideale per ritrovare equilibrio e serenità con gli incontri di Yoga in Pineta\, a cura dell’ASD Time To Move. \nOgni mercoledì e venerdì\, all’ombra degli alberi e al suono delle onde\, si svolgeranno sessioni di yoga accessibili a tutti: un’occasione preziosa per riconnettersi con se stessi e con la natura\, respirando l’energia dell’estate.
URL:https://goalbaadriatica.it/eventi/yoga-in-pineta-salute-e-benessere-nella-natura-agosto-25/
LOCATION:Pineta Litoranea Nord\, Via Lungomare Marconi 210\, Alba Adriatica\, TE\, 64011
CATEGORIES:Fitness,Intrattenimento
ATTACH;FMTTYPE=image/png:https://goalbaadriatica.it/wp-content/uploads/2025/06/locandina-yoga-in-pineta.png
END:VEVENT
BEGIN:VEVENT
DTSTART;TZID=Europe/Rome:20250805T180000
DTEND;TZID=Europe/Rome:20250826T180000
DTSTAMP:20260424T051256
CREATED:20250611T144849Z
LAST-MODIFIED:20250611T144901Z
UID:8122-1754416800-1756231200@goalbaadriatica.it
SUMMARY:Mercatino del Viale
DESCRIPTION:Nei giorni: Martedì 5\, 12\, 19 e 26 agosto 2025\, dalle ore 18.00 alle 24.00 – Viale della Vittoria \nOgni martedì di agosto\, Viale della Vittoria si anima con il tradizionale Mercatino del Viale. \nDalle ore 18.00 alle 24.00\, tra il verde degli alberi e la brezza marina\, sarà possibile passeggiare tra le bancarelle di artigianato creativo\, prodotti tipici locali e tante curiosità estive. \nUn appuntamento immancabile per vivere il lungomare in un’atmosfera rilassata e scoprire oggetti unici realizzati a mano.
URL:https://goalbaadriatica.it/eventi/mercatino-del-viale-agosto-25/
LOCATION:Viale della Vittoria\, Viale della Vittoria\, Alba Adriatica\, TE\, 64011
CATEGORIES:Intrattenimento,Mercatino,Shopping
ATTACH;FMTTYPE=image/jpeg:https://goalbaadriatica.it/wp-content/uploads/2024/06/mercatino-viale.jpg
END:VEVENT
BEGIN:VEVENT
DTSTART;TZID=Europe/Rome:20250811T210000
DTEND;TZID=Europe/Rome:20250811T210000
DTSTAMP:20260424T051256
CREATED:20250613T161702Z
LAST-MODIFIED:20250625T081804Z
UID:8096-1754946000-1754946000@goalbaadriatica.it
SUMMARY:Vai col Ballo – Il lunedì sotto le stelle
DESCRIPTION:Lunedì 11 agosto 2025\, dalle ore 21.00 – Parco Bambinopoli \nAnche in agosto continuano le serate danzanti di Vai col Ballo\, ormai appuntamento fisso per residenti e turisti. \nOgni lunedì sera\, il Parco Bambinopoli si anima con musica dal vivo e balli di gruppo\, liscio e latino\, in un contesto familiare e rilassato\, curato dall’associazione Music & Dance Academy. Un momento per condividere energia\, movimento e sorrisi sotto le stelle. \nUn invito aperto a residenti\, turisti e amanti del ballo di ogni età.
URL:https://goalbaadriatica.it/eventi/vai-col-ballo-il-lunedi-sotto-le-stelle-11-08-25/
LOCATION:Parco Bambinopoli\, Via Lungomare Marconi 2\, Alba Adriatica\, TE\, 64011
CATEGORIES:Ballo,Intrattenimento
ATTACH;FMTTYPE=image/jpeg:https://goalbaadriatica.it/wp-content/uploads/2025/05/Vai-col-Ballo-25.jpeg
END:VEVENT
BEGIN:VEVENT
DTSTART;TZID=Europe/Rome:20250811T210000
DTEND;TZID=Europe/Rome:20250811T210000
DTSTAMP:20260424T051256
CREATED:20250615T082503Z
LAST-MODIFIED:20250808T142956Z
UID:8162-1754946000-1754946000@goalbaadriatica.it
SUMMARY:Presentazione del libro “Bios” – Incontro con l’autore
DESCRIPTION:Lunedì 11 agosto 2025\, ore 21.00 – Villa Flaiani \nNella suggestiva cornice di Villa Flaiani\, lunedì 11 agosto alle ore 21.00\, si terrà la presentazione del libro “Bios”\, una riflessione intensa sul senso della vita\, sul legame tra natura\, essere umano e destino. \nL’autore accompagnerà i presenti in un viaggio tra parole e pensiero\, alternando letture e dialogo con il pubblico\, in un clima intimo e partecipato. \nL’evento rientra nella programmazione culturale estiva di Alba Adriatica e intende promuovere la lettura e la scoperta di nuove voci del panorama letterario contemporaneo. \nAl termine dell’incontro sarà possibile dialogare con l’autore e acquistare copie del volume. \nIngresso libero fino a esaurimento posti.
URL:https://goalbaadriatica.it/eventi/presentazione-del-libro-bios-incontro-con-lautore/
LOCATION:Biblioteca Villa Flaiani\, Via Roma 32\, Alba Adriatica\, 64011\, Italy
CATEGORIES:Cultura,Intrattenimento,Lettura
ATTACH;FMTTYPE=image/jpeg:https://goalbaadriatica.it/wp-content/uploads/2025/06/Libro-Bios.jpeg
END:VEVENT
END:VCALENDAR