BEGIN:VCALENDAR
VERSION:2.0
PRODID:-//Go AlbaAdriatica - ECPv6.9.1//NONSGML v1.0//EN
CALSCALE:GREGORIAN
METHOD:PUBLISH
X-WR-CALNAME:Go AlbaAdriatica
X-ORIGINAL-URL:https://goalbaadriatica.it
X-WR-CALDESC:Eventi per Go AlbaAdriatica
REFRESH-INTERVAL;VALUE=DURATION:PT1H
X-Robots-Tag:noindex
X-PUBLISHED-TTL:PT1H
BEGIN:VTIMEZONE
TZID:Europe/Rome
BEGIN:DAYLIGHT
TZOFFSETFROM:+0100
TZOFFSETTO:+0200
TZNAME:CEST
DTSTART:20250330T010000
END:DAYLIGHT
BEGIN:STANDARD
TZOFFSETFROM:+0200
TZOFFSETTO:+0100
TZNAME:CET
DTSTART:20251026T010000
END:STANDARD
END:VTIMEZONE
BEGIN:VEVENT
DTSTART;TZID=Europe/Rome:20250909T180000
DTEND;TZID=Europe/Rome:20250909T180000
DTSTAMP:20260424T033540
CREATED:20250618T132002Z
LAST-MODIFIED:20250618T132757Z
UID:8205-1757440800-1757440800@goalbaadriatica.it
SUMMARY:Mercatino del Viale
DESCRIPTION:Mercatino del Viale – Ultimi due appuntamenti della stagione \nMartedì 2 e 9 settembre 2025\, dalle ore 18.00 alle 24.00 – Viale della Vittoria \nCon il mese di settembre si avviano alla conclusione anche gli appuntamenti con il Mercatino del Viale\, ogni martedì sera su Viale della Vittoria. \nArtigiani\, produttori locali\, hobbisti e appassionati daranno vita alle ultime due serate espositive\, tra profumi di fine estate e creazioni uniche da scoprire passeggiando. \nUn saluto alla stagione che unisce tradizione e vitalità.
URL:https://goalbaadriatica.it/eventi/mercatino-del-viale-agosto-09-09-25-2/
LOCATION:Parco Bambinopoli\, Via Lungomare Marconi 2\, Alba Adriatica\, TE\, 64011
CATEGORIES:Intrattenimento,Mercatino,Shopping
ATTACH;FMTTYPE=image/jpeg:https://goalbaadriatica.it/wp-content/uploads/2024/06/mercatino-viale.jpg
END:VEVENT
BEGIN:VEVENT
DTSTART;TZID=Europe/Rome:20250909T213000
DTEND;TZID=Europe/Rome:20250909T213000
DTSTAMP:20260424T033540
CREATED:20250618T132215Z
LAST-MODIFIED:20250627T163543Z
UID:9217-1757453400-1757453400@goalbaadriatica.it
SUMMARY:Reflex\, Istantanee del pensiero contemporaneo – 6^ edizione
DESCRIPTION:09 settembre\, Villa Flaiani – Alba Adriatica \nOre 21:15 – Ingresso gratuito \nUltimo appuntamento con Reflex – Istantanee del pensiero contemporaneo\, la rassegna culturale promossa dal Comune di Alba Adriatica in collaborazione con le associazioni del territorio. \nUltimo dei tre appuntamenti\, con una voce autorevole del panorama culturale italiano\, per riflettere insieme su grandi temi della contemporaneità attraverso parole\, pensieri e storie. \nUn format che coniuga divulgazione\, partecipazione e pensiero critico\, ormai diventato un punto di riferimento nel calendario estivo. \nProgramma: \n\n\nMartedì 9 settembre 2025 \nGiordano Bruno Guerri – “Povera santa\, povero assassino” \n\n\nL’incontro si terrà a Villa Flaiani con inizio alle ore 21:15. \nL’ingresso è gratuito fino a esaurimento posti.
URL:https://goalbaadriatica.it/eventi/reflex-6-edizione-09-settembre/
LOCATION:Parco Villa Flaiani\, Via Roma 32\, Alba Adriatica\, TE\, 64011
CATEGORIES:Cultura,Intrattenimento,Lettura
ATTACH;FMTTYPE=image/png:https://goalbaadriatica.it/wp-content/uploads/2025/05/Reflex-2025-POST-Evento-1080x1350-1.png
END:VEVENT
END:VCALENDAR