BEGIN:VCALENDAR
VERSION:2.0
PRODID:-//Go AlbaAdriatica - ECPv6.9.1//NONSGML v1.0//EN
CALSCALE:GREGORIAN
METHOD:PUBLISH
X-ORIGINAL-URL:https://goalbaadriatica.it
X-WR-CALDESC:Eventi per Go AlbaAdriatica
REFRESH-INTERVAL;VALUE=DURATION:PT1H
X-Robots-Tag:noindex
X-PUBLISHED-TTL:PT1H
BEGIN:VTIMEZONE
TZID:Europe/Rome
BEGIN:DAYLIGHT
TZOFFSETFROM:+0100
TZOFFSETTO:+0200
TZNAME:CEST
DTSTART:20250330T010000
END:DAYLIGHT
BEGIN:STANDARD
TZOFFSETFROM:+0200
TZOFFSETTO:+0100
TZNAME:CET
DTSTART:20251026T010000
END:STANDARD
END:VTIMEZONE
BEGIN:VEVENT
DTSTART;TZID=Europe/Rome:20250916T170000
DTEND;TZID=Europe/Rome:20250916T170000
DTSTAMP:20260424T033733
CREATED:20250618T133527Z
LAST-MODIFIED:20250825T122531Z
UID:8217-1758042000-1758042000@goalbaadriatica.it
SUMMARY:SS Messa e Santa Processione in onore di S. Eufemia
DESCRIPTION:Martedì 16 settembre 2025\, ore 17.00 – Santa Messa\, processione in Piazza IV Novembre\, spettacolo musicale Festa in Piazza e estrazione della lotteria. \nIn occasione della ricorrenza di S. Eufemia\, Patrona di Alba Adriatica\, lunedì 16 settembre si terrà la SS Messa e la Processione in suo onore. \nAlle ore 17.00 in Piazza IV Novembre la comunità si raccoglierà per rendere omaggio alla Santa\, in un evento religioso carico di significato e tradizione. \nVi aspettiamo!
URL:https://goalbaadriatica.it/eventi/ss-messa-e-santa-processione-in-onore-di-s-eufemia/
LOCATION:Piazza IV Novembre\, Piazza IV Novembre\, Alba Adriatica\, TE\, 64011\, Italia
CATEGORIES:Cultura,Intrattenimento
ATTACH;FMTTYPE=image/jpeg:https://goalbaadriatica.it/wp-content/uploads/2025/06/Festa-Patronale-S-Eufemia.jpg
END:VEVENT
END:VCALENDAR