BEGIN:VCALENDAR
VERSION:2.0
PRODID:-//Go AlbaAdriatica - ECPv6.9.1//NONSGML v1.0//EN
CALSCALE:GREGORIAN
METHOD:PUBLISH
X-ORIGINAL-URL:https://goalbaadriatica.it
X-WR-CALDESC:Eventi per Go AlbaAdriatica
REFRESH-INTERVAL;VALUE=DURATION:PT1H
X-Robots-Tag:noindex
X-PUBLISHED-TTL:PT1H
BEGIN:VTIMEZONE
TZID:Europe/Rome
BEGIN:DAYLIGHT
TZOFFSETFROM:+0100
TZOFFSETTO:+0200
TZNAME:CEST
DTSTART:20240331T010000
END:DAYLIGHT
BEGIN:STANDARD
TZOFFSETFROM:+0200
TZOFFSETTO:+0100
TZNAME:CET
DTSTART:20241027T010000
END:STANDARD
END:VTIMEZONE
BEGIN:VEVENT
DTSTART;TZID=Europe/Rome:20240727T150000
DTEND;TZID=Europe/Rome:20240727T150000
DTSTAMP:20260423T160617
CREATED:20240616T073006Z
LAST-MODIFIED:20240723T174957Z
UID:4204-1722092400-1722092400@goalbaadriatica.it
SUMMARY:Carro Summer Cup - FootVolley
DESCRIPTION:Ad Alba Adriatica il “Carro Summer Cup” di foot volley un torneo a squadre con i campioni dello sport e vip dello spettacolo. \nIl torneo si svolgerà sabato 27 luglio dalle ore 15. Ci saranno tanti big del calcio italiano. Dagli allenatori Serse Cosmi\, Walter Novellino e Stefano Colantuono\, Antonio Chimenti\, David Di Michele\, Valeri Bogjinov\, Mauro Milanese\, Francesco Flachi\, Daniele Portanova\, Simone Pepe con Morris Carrozzieri che farà da padrone di casa. Inoltre ci sarà la presenza di Aida Yespica\, Matteo Ciprietti\, Edoardo D’Addazio\, Nicolo Schira de La Gazzetta dello Sport\, Maurizio Compagnoni di Sky\, Roberto Alessi di Novella 2000 e da “Temptation Island” e “La Pupa e il Secchione”ci sarà Francesco Chiofalo. \nLa manifestazione è organizzata dalla Beach Sport\, Più Salute ed Al Faro beach\, con il patrocinio dell’amministrazione comunale e rientra in quel contenitore di eventi che vogliono promuovere la Spiaggia d’Argento – Bandiera Blu. I partecipanti saranno ospitati tutto il week end ad Alba Adriatica.
URL:https://goalbaadriatica.it/eventi/carro-summer-cup-footvolley/
LOCATION:Spiaggia Libera tra Al Faro e le Hawaii – Arena Beach\, Via Lungomare Marconi 192\, Alba Adriatica\, TE\, 64011
CATEGORIES:Intrattenimento,Sport
ATTACH;FMTTYPE=image/png:https://goalbaadriatica.it/wp-content/uploads/2024/06/Carro-Summer-Cup_Locandina-A4_Def.png
END:VEVENT
BEGIN:VEVENT
DTSTART;TZID=Europe/Rome:20240726T211500
DTEND;TZID=Europe/Rome:20240726T211500
DTSTAMP:20260423T160617
CREATED:20240616T072916Z
LAST-MODIFIED:20240722T122848Z
UID:4193-1722028500-1722028500@goalbaadriatica.it
SUMMARY:Albatraz - X edizione del Teatro Comico di Alba Adriatica
DESCRIPTION:Alba Adriatica. Atteso il pubblico delle grandi occasioni per la X edizione di Albatraz\, prigionieri della risata: la rassegna della comicità che monopolizzerà le tre serate nella Bambinopoli Comunale. \nUno show che vedrà alternarsi in scena alcuni dei migliori comici del panorama del cabaret italiano: questa sera vanno in scena Pino e gli Anticorpi. \nTre fantastiche serate del cartellone estivo organizzate dalla Pro Loco Spiaggia d’Argento e dall’assessorato al turismo del Comune di Alba Adriatica.
URL:https://goalbaadriatica.it/eventi/albatraz-2024-26-luglio/
LOCATION:Parco Bambinopoli\, Via Lungomare Marconi 2\, Alba Adriatica\, TE\, 64011
CATEGORIES:Intrattenimento,Teatro
ATTACH;FMTTYPE=image/jpeg:https://goalbaadriatica.it/wp-content/uploads/2024/06/albatraz.jpg
END:VEVENT
BEGIN:VEVENT
DTSTART;TZID=Europe/Rome:20240725T211500
DTEND;TZID=Europe/Rome:20240725T211500
DTSTAMP:20260423T160617
CREATED:20240616T072756Z
LAST-MODIFIED:20240721T213726Z
UID:1958-1721942100-1721942100@goalbaadriatica.it
SUMMARY:Albatraz - X edizione del Teatro Comico di Alba Adriatica
DESCRIPTION:Alba Adriatica. Atteso il pubblico delle grandi occasioni per la X edizione di Albatraz\, prigionieri della risata: la rassegna della comicità che monopolizzerà le tre serate nella Bambinopoli Comunale. \nUno show che vedrà alternarsi in scena alcuni dei migliori comici del panorama del cabaret italiano: questa sera vanno in scena il Magico Alivernini\, Giovanni Cacioppo e Pino Campagna. \nTre fantastiche serate del cartellone estivo organizzate dalla Pro Loco Spiaggia d’Argento e dall’assessorato al turismo del Comune di Alba Adriatica. \n  
URL:https://goalbaadriatica.it/eventi/albatraz-2024-25-luglio/
LOCATION:Parco Bambinopoli\, Via Lungomare Marconi 2\, Alba Adriatica\, TE\, 64011
CATEGORIES:Intrattenimento,Teatro
ATTACH;FMTTYPE=image/jpeg:https://goalbaadriatica.it/wp-content/uploads/2024/06/albatraz.jpg
END:VEVENT
BEGIN:VEVENT
DTSTART;TZID=Europe/Rome:20240722T210000
DTEND;TZID=Europe/Rome:20240722T210000
DTSTAMP:20260423T160618
CREATED:20240616T072305Z
LAST-MODIFIED:20240708T124813Z
UID:1894-1721682000-1721682000@goalbaadriatica.it
SUMMARY:Vai col Ballo...il lunedi sotto le stelle
DESCRIPTION:Torna “VAI COL BALLO”.\nAnche quest’anno appuntamento fisso con ballo tutti i lunedì presso la Bambinopoli Comunale\, una serie di serate danzanti ad Ingresso Libero organizzate dal Comune di Alba Adriatica con la collaborazione di ASD Music&Dance Academy e l’Associazione Arte Viva\, patrocinate dall’AssoArtisti dell’Adriatico.
URL:https://goalbaadriatica.it/eventi/vai-col-ballo-2-2-2-2/
LOCATION:Parco Bambinopoli\, Via Lungomare Marconi 2\, Alba Adriatica\, TE\, 64011
CATEGORIES:Ballo,Intrattenimento
ATTACH;FMTTYPE=image/jpeg:https://goalbaadriatica.it/wp-content/uploads/2024/06/ballo.jpeg
END:VEVENT
BEGIN:VEVENT
DTSTART;TZID=Europe/Rome:20240720T210000
DTEND;TZID=Europe/Rome:20240720T210000
DTSTAMP:20260423T160618
CREATED:20240616T072150Z
LAST-MODIFIED:20240713T152035Z
UID:1950-1721509200-1721509200@goalbaadriatica.it
SUMMARY:"Nostalgia '90" - Dance anni '90
DESCRIPTION:Lo show dance anni 90 più famoso in Italia con oltre 250 spettacoli ogni anno!\nUn dj Set esplosivo che vi riporterà nel magico ed indimenticabile mondo degli anni 90: dj set\, vocalist\, ballerine\, performer ed effetti speciali\, in un’ambientazione nostalgica anni 90\, che vi farà tornare indietro nel tempo.\nRiviviamo insieme una notte piena di ricordi ed energia!
URL:https://goalbaadriatica.it/eventi/nostalgia-90/
LOCATION:Piazza del Popolo\, Piazza del Popolo\, Alba Adriatica\, TE\, 64011\, Italia
CATEGORIES:Intrattenimento,Musica
ATTACH;FMTTYPE=image/jpeg:https://goalbaadriatica.it/wp-content/uploads/2024/06/nostalgia-90.jpg
END:VEVENT
BEGIN:VEVENT
DTSTART;TZID=Europe/Rome:20240715T210000
DTEND;TZID=Europe/Rome:20240715T210000
DTSTAMP:20260423T160618
CREATED:20240616T071425Z
LAST-MODIFIED:20240708T124655Z
UID:1892-1721077200-1721077200@goalbaadriatica.it
SUMMARY:Vai col Ballo...il lunedi sotto le stelle
DESCRIPTION:Torna “VAI COL BALLO”.\nAnche quest’anno appuntamento fisso con ballo tutti i lunedì presso la Bambinopoli Comunale\, una serie di serate danzanti ad Ingresso Libero organizzate dal Comune di Alba Adriatica con la collaborazione di ASD Music&Dance Academy e l’Associazione Arte Viva\, patrocinate dall’AssoArtisti dell’Adriatico.
URL:https://goalbaadriatica.it/eventi/vai-col-ballo-2-2-2/
LOCATION:Parco Bambinopoli\, Via Lungomare Marconi 2\, Alba Adriatica\, TE\, 64011
CATEGORIES:Ballo,Intrattenimento
ATTACH;FMTTYPE=image/jpeg:https://goalbaadriatica.it/wp-content/uploads/2024/06/ballo.jpeg
END:VEVENT
BEGIN:VEVENT
DTSTART;TZID=Europe/Rome:20240714T213000
DTEND;TZID=Europe/Rome:20240714T213000
DTSTAMP:20260423T160618
CREATED:20240616T071354Z
LAST-MODIFIED:20240708T124642Z
UID:1864-1720992600-1720992600@goalbaadriatica.it
SUMMARY:Concerto di Luca Barbarossa
DESCRIPTION:Buon compleanno Alba Adriatica. \nLuca Barbarossa ad Alba Adriatica per festeggiare il 68° compleanno della Città. Il cantautore romano\, accompagnato dalla Social Band\, sarà protagonista il 14 luglio sul Lungomare marconi Nord (angolo Via Turati). \nIl concerto prenderà il via alle ore 21.30. \nBarbarossa ha fatto il suo esordio come musicista di strada a metà degli anni Settanta\, ottenendo il successo popolare degli anni Ottanta e Novanta con brani come “Roma Spogliata”\, “Via Margutta”\, “L’amore rubato” e “Portami a ballare”\, canzone quest’ultima con cui ha vinto il Festival di Sanremo nel 1992. Nella cittadina ligure sarà presente per nove edizioni\, l’ultima nel 2018 con il brano “Passame er sale”.\nNel 2010 inizia a presentare su Rai Radio 2 il programma “Radio 2 Social Club“\, che va in onda nel fine settimana. Due anni dopo esordisce in televisione come conduttore insieme con Max Giusti\, su Raidue\, nel programma “Super Club”. Nel 2016 presenta il Concerto del Primo Maggio.\nNel 2021 pubblica il libro “Non perderti niente”. A giorni è attesa la pubblicazione del secondo libro “Cento storieper cento canzoni”.
URL:https://goalbaadriatica.it/eventi/concerto-di-luca-barbarossa/
LOCATION:Lungomare Marconi Nord (angolo via Turati)\, Via Lungomare Marconi 7\, Alba Adriatica\, TE\, 64011\, Italia
CATEGORIES:Concerti,Intrattenimento
ATTACH;FMTTYPE=image/jpeg:https://goalbaadriatica.it/wp-content/uploads/2024/06/barbarossa.jpg
END:VEVENT
BEGIN:VEVENT
DTSTART;TZID=Europe/Rome:20240712T180000
DTEND;TZID=Europe/Rome:20240712T180000
DTSTAMP:20260423T160618
CREATED:20240616T071342Z
LAST-MODIFIED:20240710T064636Z
UID:1862-1720807200-1720807200@goalbaadriatica.it
SUMMARY:Notte Colorata dei Bambini
DESCRIPTION:Il 12 luglio Il lungomare si colorerà di una bellissima atmosfera di gioia\, divertimento ed arte per grandi e piccini con animazione per bambini ed artisti di strada.\nLA NOTTE COLORATA giunta alla quarta edizione\, si terrà nel tratto di lungomare compreso tra la Rotonda Nilo e via Olimpica. Vi aspettiamo per vivere una serata magica tra colori\, magia\, musica e fantasia.\n\nINIZIO SPETTACOLI ORE 21:00 – DALLE ORE 18:00 PRESSO ROTONDA NILO (ANIMAZIONE\, BABY DANCE\, TRUCCABIMBI) \nSPETTACOLI ITINERANTI \n\nPARATA WHITE\n\nUn gruppo di Angeli in frack e trampoli si aggira per le vie della città accompagnati da una macchina scenica che diffonde musica\, due figure femminili alate fluttano tra il pubblico attraverso l’eleganza e la raffinatezza dei personaggi. PARATA WHITE è uno spettacolo itinerante che ricrea magiche atmosfere adatto a un pubblico di tutte le eta. \nGrazie ad una macchina scenica auto-amplificata\, la musica diventa importante elemento di coinvolgimento del pubblico. \n\nBARACCA DEI BUFFONI “TIPI DA SPIAGGIA”\n\nTipi da spiaggia è una performance itinerante in stile cartoon. I protagonisti sono l’eccentrica famiglia “Marino” guidata dall’insolito bagnino “Attilio” che\, in chiave comica e grottesca si cimentano in un assurdo viaggio alla ricerca del lido Baracca. La musica accompagna la performance ricreando l’atmosfera di un’estate senza tempo e senza fine dove il pubblico\, attraverso un gioco teatrale\, si ritroverà in una grande festa\, diventando\, nel finale\, parte integrante dello spettacolo\, spiaggia o tipi da spiaggia. \n\nDIXI FRIXI STREET BAND (street band itinerante)\n\nUna innovata band dixieland dedicata alla teatralità dei clowns BANDA BASSOTTI. Dixi Frixi portano\, nei loro spettacoli\, esperienze artistiche ricche di innovazioni e di estemporaneità con la consapevolezza di fare musica a 360°. \nSPETTACOLI SERALI \n\nPOSTAZIONE 1 “KAOS CIRCUS SHOW”: ORE 18:00 – 21:30 – 22:30\n\nDi fronte alla nostra scenografia tematica\, partira una esplosiva festa dove si divertiranno sia i piccoli che gli adulti presenti. KIDS DJ\, con musiche del momento e Remix scatenati\, arricchiti dalla presenza di sketch comici con il coinvolgimento del pubblico. Calorosissimi MEET & GREAT con vari personaggi dei cartoni\, films e favole per bambini\, ovvero le stupende mascotte. (Super Pigiamini\, Super Mario\, Minion\, Minnie e Topolino\, Hulk e tanti altri….. Balli\, giochi di gruppo divertenti e festa assicurata! Inserito in questo contesto un minishow presentato da uno staff professionale e brioso con GIOCOLERIE\, FUOCO e SPUTAFUOCO\, BALLERINA AGLI HULA HOP\, BOLLE DI SAPONE\, EQUILIBRISMI CON LE SPADE\, MAGIA \n\nPOSTAZIONE 2 “EL MUNDO COSTRINI”: ORE 22:00 – 23:30\n\nUn clown senza uguali ci mostra l’evoluzione dell’uomo e la sua assurdità. Si succedono scene esilaranti\, magia e fachirismo\, giungendo anche ad una parodia del circo contemporaneo. \nDivertente\, fresco\, leggero e fantasioso\, lo spettacolo diventa una cura che infonde dolcezza\, ma induce anche a riflettere profondamente sui mali dell’uomo. \n\nPOSTAZIONE 3 OTTO “KAOS CALMO” SPETTACOLO DI FUOCO:  ORE 21:00 – 22:30\n\nLo spettacolo inizia “A BOMBA” con un’esplosione di puro caos con la stella di fuoco e il contact staff. La terza traccia è dedicata solo ai doppi bastoni e bastone lungo in uno show di fuoco che difficilmente avrete avuto modo di vedere\, in quanto giocherò con 3 bastoni contemporaneamente e se credete che il “CAOS ” sia solo potenza e forza bruta nel mio ultimo pezzo vi dimostrerò il contrario\, ovvero il “CAOS CALMO” quello che ho dentro. \n\nPOSTAZIONE 4 “YURI LONGHI ACROBATA FUNAMBOLO”:  ORE 21 – 23:00\n\nFrutto di una specializzazione in giocoleria ed equilibrismo e di un continuo sperimentare dal vivo\, il “Bubble Street Cirkus” è uno show ad alta energia\, in cui la freschezza ed il brio della spontaneità si fondono insieme alla sicurezza e alla maestria maturate in oltre 20 anni di esperienza. Il gioco di complicita ed empatia con gli spettatori e la ricerca del virtuosismo tecnico nelle discipline circensi formano gli ingredienti principali di uno spettacolo effervescente e dinamico\, capace di coinvolgere\, stupire e divertire qualsiasi tipo di pubblico. \n\nPOSTAZIONE 5 “DUO 3 DIDANE”:  ORE 22 – 23:15\n\nSpettacolo ROMANTICOMICO AMOR PERIGNON adatto a tutta la famiglia. Se è vero che in amore vince chi fugge\, è anche vero che gli opposti si attraggono…Lei un’elegante tentatrice\, lui all’antica e un pò impacciato. Lei la rosa spinosa che ferisce chi cerca di afferrarla\, lui la mano che si ostina a voler coglierla. Una storia improbabile\, ma che\, inaspettatamente\, diventa possibile. \n\nPOSTAZIONE 6 “MISTER MUSTACHE”: ORE 21:30 – 23:00\n\nMister Mustache è personaggio comico mosso da un unico\, caparbio obiettivo: trovare l’amore. Vorrebbe essere galante ma risulta impacciato. Vorrebbe essere un novello Casanova\, ma di Casanova ha solo la rosa rossa\, e l’aria un po’ vintage. \nLo spettacolo racconta senza parole e a ritmo serrato un’esilarante storia d’amore. Lungo una via crucis di Imprevisti\, gaffe e tenaci tentativi di rimediare ad essi con pezze a colori. Grazie all’arte dell’arrangiarsi a bizzarre intuizioni e ad un provvidenziale rotolo di scotch adesivo il nostro eroe riuscirà a conquistare la sua amata. Ma nei sentieri dell’amore l’imprevisto è sempre in agguato… \n\nPOSTAZIONE 7 IVAN IL MAGO DELLE BOLLE: ORE 22:15 – 23:30\n\nQuando ti senti triste..Affacciati alla finestra e riempi il cielo di bolle di sapone. Uno spettacolo sorprendente\, ricco di infiniti colori. Lasciati trasportare dall’allegria di migliaia di bolle svolazzanti nel cielo… \n\nPOSTAZIONE 8 “JORDI BELTRAME”: ORE 21:45 – 23:15\n\nArtista poliedrico con un’esperienza oramai ventennale nel mondo nello spettacolo. \nNegli anni ha dato vita a diversi personaggi / performance\, passando dalle statue viventi al mimo\, al clown\, al teatro\, alla danza\, esibendosi da St. Petersburg a Dubai\, nei più rinomati festival di teatro di strada\, nelle piazze di mezza Europa come sui palcoscenici teatrali\, con diverse incursioni sul piccolo schermo\, adattandosi alle più disparate situazioni e riscuotendo sempre grande successo. \n\nPOSTAZIONE 9 “PALAMORTARA”… CIACH I BURATTINI: ORE 21:00 – 22:30\n\nIl magico mondo dei burattini presentato ed ideato da una famiglia circense che oltre alla più antica arte (quella del circo) porta da anni nelle piazze più grandi d’Italia\, nei teatri ed in tutte le situazioni di festa\, il bellissimo cinema i quali i protagonisti sono i BURATTINI. Innumerevoli storie e personaggi a partire dai più classici come PINOCCHIO alle più recenti realtà televisive…FROZEN\, IL PICCOLO BING\, MASHA & ORSO
URL:https://goalbaadriatica.it/eventi/notte-colorata-dei-bambini/
LOCATION:Lungomare Marconi\, Lungomare Marconi\, Alba Adriatica\, TE\, 64011\, Italia
CATEGORIES:Bambini,Intrattenimento
ATTACH;FMTTYPE=image/jpeg:https://goalbaadriatica.it/wp-content/uploads/2024/06/notte-colorata-bambini.jpeg
END:VEVENT
BEGIN:VEVENT
DTSTART;TZID=Europe/Rome:20240711T210000
DTEND;TZID=Europe/Rome:20240711T210000
DTSTAMP:20260423T160618
CREATED:20240708T123434Z
LAST-MODIFIED:20240708T124613Z
UID:3886-1720731600-1720731600@goalbaadriatica.it
SUMMARY:Amici in Band
DESCRIPTION:Amici in Band di giovanissimi cantanti compositori. \nLa grande musica pop e rock cantata e suonata da giovanissimi talenti sarà protagonista presso la Bambinopoli. \n 
URL:https://goalbaadriatica.it/eventi/amici-in-band/
LOCATION:Parco Bambinopoli\, Via Lungomare Marconi 2\, Alba Adriatica\, TE\, 64011
CATEGORIES:Intrattenimento,Musica
ATTACH;FMTTYPE=image/jpeg:https://goalbaadriatica.it/wp-content/uploads/2024/07/Amici-in-Band.jpeg
END:VEVENT
END:VCALENDAR