BEGIN:VCALENDAR
VERSION:2.0
PRODID:-//Go AlbaAdriatica - ECPv6.9.1//NONSGML v1.0//EN
CALSCALE:GREGORIAN
METHOD:PUBLISH
X-WR-CALNAME:Go AlbaAdriatica
X-ORIGINAL-URL:https://goalbaadriatica.it
X-WR-CALDESC:Eventi per Go AlbaAdriatica
REFRESH-INTERVAL;VALUE=DURATION:PT1H
X-Robots-Tag:noindex
X-PUBLISHED-TTL:PT1H
BEGIN:VTIMEZONE
TZID:Europe/Rome
BEGIN:DAYLIGHT
TZOFFSETFROM:+0100
TZOFFSETTO:+0200
TZNAME:CEST
DTSTART:20250330T010000
END:DAYLIGHT
BEGIN:STANDARD
TZOFFSETFROM:+0200
TZOFFSETTO:+0100
TZNAME:CET
DTSTART:20251026T010000
END:STANDARD
END:VTIMEZONE
BEGIN:VEVENT
DTSTART;TZID=Europe/Rome:20250511T170000
DTEND;TZID=Europe/Rome:20250511T170000
DTSTAMP:20260423T220729
CREATED:20250427T135046Z
LAST-MODIFIED:20250428T140339Z
UID:7572-1746982800-1746982800@goalbaadriatica.it
SUMMARY:Presentazione del libro “La mezzadria teramana”
DESCRIPTION:Domenica 11 maggio 2025\, ore 17.00 – Villa Flaiani \nUn viaggio nella storia e nelle tradizioni agricole del territorio teramano. Domenica 11 maggio\, alle ore 17.00\, presso la suggestiva cornice di Villa Flaiani\, si terrà la presentazione del libro “La mezzadria teramana”. \nUn’occasione per scoprire\, attraverso testimonianze e documenti\, un capitolo importante della memoria collettiva abruzzese\, raccontato con rigore storico e passione. \n\nL’autore \nConcetto Benizi \n\nConcetto Benizi\, nato a Colonnella (Te) l’8 febbraio 1945\, diplomato “Agrotecnico”\, residente a Martinsicuro\, ha svolto attività lavorativa presso il comune di Colonnella in qualità di funzionario responsabile del settore “Affari Generali ed Istituzionali”\, ora è in pensione. Si interessa di storia locale. Ha collaborato nella realizzazione del volume: Villa Rosa di Martinsicuro (2005). \nHa pubblicato i libri: \n\nGente delle campagne della Val Vibrata folklore\, miti e leggende (2009);\nIl Risorgimento a Colonnella. Frontiera nord orientale del regno borbonico\, (1859 – 1861). (2013);\nColonnella. Albo dei Sindaci. Dal 1806\, anno di nascita del comune moderno nell’Italia meridionale\, al 2016. Cenni storici e amministrativi. (2018).
URL:https://goalbaadriatica.it/eventi/presentazione-del-libro-la-mezzadria-teramana/
LOCATION:Biblioteca Villa Flaiani\, Via Roma 32\, Alba Adriatica\, 64011\, Italy
CATEGORIES:Cultura,Intrattenimento,Lettura
ATTACH;FMTTYPE=image/jpeg:https://goalbaadriatica.it/wp-content/uploads/2025/04/la-mezzadria-teramana.jpg
END:VEVENT
BEGIN:VEVENT
DTSTART;TZID=Europe/Rome:20250525T160000
DTEND;TZID=Europe/Rome:20250525T160000
DTSTAMP:20260423T220729
CREATED:20250428T134603Z
LAST-MODIFIED:20250521T142614Z
UID:7589-1748188800-1748188800@goalbaadriatica.it
SUMMARY:Sulle tracce del giallo – Racconti e misteri a Villa Flaiani
DESCRIPTION:Domenica 25 maggio 2025\, ore 16.00 – Villa Flaiani \nIntrighi\, misteri e storie avvincenti prendono vita a Villa Flaiani\, domenica 25 maggio alle ore 16.00\, con l’incontro “Sulle tracce del giallo”\, a cura dell’associazione Donne in Alba. \nUn viaggio tra narrativa\, passione per il mistero e cultura popolare\, con letture\, riflessioni e suggestioni ispirate al genere giallo. \nIngresso gratuito.
URL:https://goalbaadriatica.it/eventi/sulle-tracce-del-giallo-racconti-e-misteri-a-villa-flaiani/
LOCATION:Biblioteca Villa Flaiani\, Via Roma 32\, Alba Adriatica\, 64011\, Italy
CATEGORIES:Cultura,Lettura
ATTACH;FMTTYPE=image/jpeg:https://goalbaadriatica.it/wp-content/uploads/2025/04/Sulle-tracce-del-Giallo.jpg
END:VEVENT
BEGIN:VEVENT
DTSTART;TZID=Europe/Rome:20250531T170000
DTEND;TZID=Europe/Rome:20250531T170000
DTSTAMP:20260423T220729
CREATED:20250428T134707Z
LAST-MODIFIED:20250529T062837Z
UID:7592-1748710800-1748710800@goalbaadriatica.it
SUMMARY:Staffetta Letteraria – Evento conclusivo del mese
DESCRIPTION:Sabato 31 maggio 2025\, ore 17.00 – Villa Flaiani \nLa cultura corre… di mano in mano! Sabato 31 maggio\, alle ore 17.00\, Villa Flaiani ospita la Staffetta Letteraria\, evento promosso dall’associazione Donne in Alba. \nUn pomeriggio in cui libri\, parole e letture si alternano in una maratona di racconti\, riflessioni e condivisione. Un momento di comunità e partecipazione culturale\, per chi ama la lettura e crede nel potere delle storie.
URL:https://goalbaadriatica.it/eventi/staffetta-letteraria-evento-conclusivo-del-mese/
LOCATION:Biblioteca Villa Flaiani\, Via Roma 32\, Alba Adriatica\, 64011\, Italy
CATEGORIES:Cultura,Lettura
ATTACH;FMTTYPE=image/jpeg:https://goalbaadriatica.it/wp-content/uploads/2025/04/STAFFETTA-LETTERARIA.jpeg
END:VEVENT
END:VCALENDAR