BEGIN:VCALENDAR
VERSION:2.0
PRODID:-//Go AlbaAdriatica - ECPv6.9.1//NONSGML v1.0//EN
CALSCALE:GREGORIAN
METHOD:PUBLISH
X-ORIGINAL-URL:https://goalbaadriatica.it
X-WR-CALDESC:Eventi per Go AlbaAdriatica
REFRESH-INTERVAL;VALUE=DURATION:PT1H
X-Robots-Tag:noindex
X-PUBLISHED-TTL:PT1H
BEGIN:VTIMEZONE
TZID:Europe/Rome
BEGIN:DAYLIGHT
TZOFFSETFROM:+0100
TZOFFSETTO:+0200
TZNAME:CEST
DTSTART:20250330T010000
END:DAYLIGHT
BEGIN:STANDARD
TZOFFSETFROM:+0200
TZOFFSETTO:+0100
TZNAME:CET
DTSTART:20251026T010000
END:STANDARD
END:VTIMEZONE
BEGIN:VEVENT
DTSTART;TZID=Europe/Rome:20250601T210000
DTEND;TZID=Europe/Rome:20250601T210000
DTSTAMP:20260423T203812
CREATED:20250530T100436Z
LAST-MODIFIED:20250530T100436Z
UID:8002-1748811600-1748811600@goalbaadriatica.it
SUMMARY:Passeggiata Letteraria
DESCRIPTION:📚 Visioni Identitarie con Calvino e Pirandello \n🎭 Passeggiata Letteraria \n🗓 Domenica 1° giugno 2025\, ore 21.00 \n📍 Partenza dal Parco della Biblioteca Comunale “D. Pantone” – Villa Flaiani\, via Roma 32 \n🎟 Evento gratuito \nNell’ambito dell’iniziativa “Il Maggio dei Libri 2025”\, l’Associazione Culturale Knà APS\, in collaborazione con il Comune di Alba Adriatica\, presenta la passeggiata letteraria “Visioni Identitarie con Calvino e Pirandello”. \nUn percorso narrativo e teatrale che parte da Villa Flaiani\, attraversa la zona Ferro di Cavallo e si conclude presso la Biblioteca Comunale. Un’occasione unica per vivere la letteratura all’aperto\, tra parole\, luoghi e suggestioni legate ai due grandi autori del Novecento italiano.
URL:https://goalbaadriatica.it/eventi/passeggiata-letteraria/
LOCATION:Biblioteca Villa Flaiani\, Via Roma 32\, Alba Adriatica\, 64011\, Italy
CATEGORIES:Cultura,Lettura
ATTACH;FMTTYPE=image/jpeg:https://goalbaadriatica.it/wp-content/uploads/2025/05/Passeggiata-letteraria.jpg
END:VEVENT
BEGIN:VEVENT
DTSTART;TZID=Europe/Rome:20250615T213000
DTEND;TZID=Europe/Rome:20250615T213000
DTSTAMP:20260423T203812
CREATED:20250516T120858Z
LAST-MODIFIED:20250613T142817Z
UID:8148-1750023000-1750023000@goalbaadriatica.it
SUMMARY:Presentazione del volume “Giornale di bordo per tempi difficili” di Ermanno Bencivenga
DESCRIPTION:Domenica 15 giugno 2025 – Ore 21:30\, presso la Biblioteca Comunale “D. Pantone” in Villa Flaiani  ad Alba Adriatica\, in collaborazione con Di Felice Edizioni\, organizzano una serata culturale dedicata alla riflessione e al pensiero filosofico. \nSarà presentato il libro “Giornale di bordo per tempi difficili” di Ermanno Bencivenga\, filosofo e logico di fama internazionale\, autore di numerosi saggi tradotti in più lingue. \nProgramma della serata: \n\nSaluti istituzionali a cura di Francesca Di Matteo\, Assessora alla Cultura del Comune di Alba Adriatica\nDialogo con l’autore condotto da Valeria Di Felice\, editrice\n\nUn appuntamento da non perdere per gli amanti della filosofia\, della letteratura e del pensiero critico\, in una delle location più suggestive della città. \nIngresso libero fino a esaurimento posti.
URL:https://goalbaadriatica.it/eventi/presentazione-del-volume-giornale-di-bordo-per-tempi-difficili-di-ermanno-bencivenga/
LOCATION:Biblioteca Villa Flaiani\, Via Roma 32\, Alba Adriatica\, 64011\, Italy
CATEGORIES:Cultura,Intrattenimento,Lettura
ATTACH;FMTTYPE=image/jpeg:https://goalbaadriatica.it/wp-content/uploads/2025/06/presentazione-libro-giornale-di-bordo.jpg
END:VEVENT
BEGIN:VEVENT
DTSTART;TZID=Europe/Rome:20250628T180000
DTEND;TZID=Europe/Rome:20250628T180000
DTSTAMP:20260423T203813
CREATED:20250516T123558Z
LAST-MODIFIED:20250626T102149Z
UID:9052-1751133600-1751133600@goalbaadriatica.it
SUMMARY:Presentazione del romanzo “Non toccarmi l’anima con le mani sporche”
DESCRIPTION:Sabato 28 giugno alle ore 18:00\, la Biblioteca Comunale “Domenico Pantone” ospita un nuovo appuntamento con la letteratura: la presentazione del romanzo “Non toccarmi l’anima con le mani sporche” di Anthea Casciotti. \nUn dialogo profondo sul senso dell’anima\, della libertà interiore e del rispetto\, introdotto dai saluti istituzionali dell’Assessora alla Cultura Francesca Di Matteo e arricchito dal confronto con il Prof. Enrico Maria Marcelli\, poeta. \nUn’occasione per scoprire nuove voci della narrativa italiana e vivere la nostra città anche attraverso le parole.
URL:https://goalbaadriatica.it/eventi/presentazione-del-romanzo-non-toccarmi-lanima-con-le-mani-sporche/
LOCATION:Biblioteca Villa Flaiani\, Via Roma 32\, Alba Adriatica\, 64011\, Italy
CATEGORIES:Cultura,Intrattenimento,Lettura
ATTACH;FMTTYPE=image/jpeg:https://goalbaadriatica.it/wp-content/uploads/2025/06/Romanzo-non-toccarmi-lanima.jpg
END:VEVENT
END:VCALENDAR