BEGIN:VCALENDAR
VERSION:2.0
PRODID:-//Go AlbaAdriatica - ECPv6.9.1//NONSGML v1.0//EN
CALSCALE:GREGORIAN
METHOD:PUBLISH
X-WR-CALNAME:Go AlbaAdriatica
X-ORIGINAL-URL:https://goalbaadriatica.it
X-WR-CALDESC:Eventi per Go AlbaAdriatica
REFRESH-INTERVAL;VALUE=DURATION:PT1H
X-Robots-Tag:noindex
X-PUBLISHED-TTL:PT1H
BEGIN:VTIMEZONE
TZID:Europe/Rome
BEGIN:DAYLIGHT
TZOFFSETFROM:+0100
TZOFFSETTO:+0200
TZNAME:CEST
DTSTART:20250330T010000
END:DAYLIGHT
BEGIN:STANDARD
TZOFFSETFROM:+0200
TZOFFSETTO:+0100
TZNAME:CET
DTSTART:20251026T010000
END:STANDARD
END:VTIMEZONE
BEGIN:VEVENT
DTSTART;TZID=Europe/Rome:20250707T213000
DTEND;TZID=Europe/Rome:20250707T213000
DTSTAMP:20260423T192222
CREATED:20250522T104310Z
LAST-MODIFIED:20250704T054554Z
UID:7910-1751923800-1751923800@goalbaadriatica.it
SUMMARY:Reflex\, Istantanee del pensiero contemporaneo – 6^ edizione
DESCRIPTION:7 luglio\, Villa Flaiani – Alba Adriatica \nOre 21:15 – Ingresso gratuito \nTorna anche per l’estate 2025 Reflex – Istantanee del pensiero contemporaneo\, la rassegna culturale promossa dal Comune di Alba Adriatica in collaborazione con le associazioni del territorio. \nTre appuntamenti\, tre voci autorevoli del panorama culturale italiano\, per riflettere insieme su grandi temi della contemporaneità attraverso parole\, pensieri e storie. \nUn format che coniuga divulgazione\, partecipazione e pensiero critico\, ormai diventato un punto di riferimento nel calendario estivo. \nProgramma: \n\n\nLunedì 7 luglio 2025 \nGianrico Carofiglio – “Elogio dell’ignoranza e dell’errore” \n\n\nLunedì 28 luglio 2025 \nVito Mancuso – “La coscienza” \n\n\nMartedì 9 settembre 2025 \nGiordano Bruno Guerri – “Povera santa\, povero assassino” \n\n\nGli incontri si terranno a Villa Flaiani con inizio alle ore 21:15. \nL’ingresso è gratuito fino a esaurimento posti.
URL:https://goalbaadriatica.it/eventi/reflex-6-edizione/
LOCATION:Parco Villa Flaiani\, Via Roma 32\, Alba Adriatica\, TE\, 64011
CATEGORIES:Cultura,Intrattenimento,Lettura
ATTACH;FMTTYPE=image/png:https://goalbaadriatica.it/wp-content/uploads/2025/05/Reflex-2025-POST-Evento-1080x1350-1.png
END:VEVENT
BEGIN:VEVENT
DTSTART;TZID=Europe/Rome:20250720T210000
DTEND;TZID=Europe/Rome:20250720T210000
DTSTAMP:20260423T192222
CREATED:20250526T164014Z
LAST-MODIFIED:20250717T105124Z
UID:8030-1753045200-1753045200@goalbaadriatica.it
SUMMARY:Festa dei Lettori- Brindisi per i 15 anni della Di Felice Edizioni
DESCRIPTION:📚 Festa dei Lettori – Lunedì 21 luglio 2025 – Ore 21:30\nLa lettura come strumento di libertà e condivisione: Alba Adriatica celebra i lettori con una serata speciale fatta di racconti\, performance e ospiti d’eccezione. \nUna serata speciale dedicata alla lettura\, alla poesia e all’editoria indipendente per festeggiare il quindicennale della casa editrice Di Felice Edizioni\, punto di riferimento culturale nel panorama nazionale. \n📖 Saluti istituzionali: \n\nAntonietta Casciotti – Sindaca di Alba Adriatica\nEttore Picardi – Procuratore capo di Teramo\nDimitri Bosi – Patto per la Lettura di Teramo\nDino Pepe – Consigliere della Regione Abruzzo\nLuciano D’Alfonso – Deputato al Parlamento Italiano\n\n🎤 Interventi a cura di: \n\nLeandro Di Donato – Direttore collana Il gabbiero\nSilvia Elena Di Donato – Direttrice collana La carena\nPaola Tiberii – Direttrice collana I contemporanei del futuro\nValeria Di Felice – Editrice Di Felice Edizioni\n\n📚 Reading poetico: Laura Margherita Di Marco \n🎶 Intervento musicale alla chitarra: Antonio Di Silvestre \n✍️ Firmacopie con la partecipazione di numerosi autori della casa editrice \n🎙️ Presenta: Dorotea Mazzetta \n📌 Evento promosso dal Comune di Alba Adriatica\, in collaborazione con la Biblioteca Comunale “Domenico Pantone”\, Ubik Villa Rosa\, l’Istituto Internazionale del Teatro del Mediterraneo e La Compagnia dei Merli Bianchi. \nLa ‘Festa dei Lettori’ coinvolge cittadini e turisti in un grande abbraccio culturale sotto le stelle\, con letture sceniche\, musica e laboratori per grandi e piccoli.
URL:https://goalbaadriatica.it/eventi/festa-dei-lettori/
LOCATION:Biblioteca Villa Flaiani\, Via Roma 32\, Alba Adriatica\, 64011\, Italy
CATEGORIES:Cultura,Lettura
ATTACH;FMTTYPE=image/jpeg:https://goalbaadriatica.it/wp-content/uploads/2025/05/Festa-dei-Lettori.jpeg
END:VEVENT
BEGIN:VEVENT
DTSTART;TZID=Europe/Rome:20250728T213000
DTEND;TZID=Europe/Rome:20250728T213000
DTSTAMP:20260423T192222
CREATED:20250526T171009Z
LAST-MODIFIED:20250728T112100Z
UID:8040-1753738200-1753738200@goalbaadriatica.it
SUMMARY:Reflex\, Istantanee del pensiero contemporaneo – 6^ edizione
DESCRIPTION:28 luglio\, Auditorium Scuola E. Fermi – Via Duca d’Aosta\, Alba Adriatica \nOre 21:15 – Ingresso gratuito \nNuovo appuntamento con Reflex – Istantanee del pensiero contemporaneo\, la rassegna culturale promossa dal Comune di Alba Adriatica in collaborazione con le associazioni del territorio. \nSecondo dei tre appuntamenti\, con una voce autorevole del panorama culturale italiano\, per riflettere insieme su grandi temi della contemporaneità attraverso parole\, pensieri e storie. \nUn format che coniuga divulgazione\, partecipazione e pensiero critico\, ormai diventato un punto di riferimento nel calendario estivo. \nProgramma: \n\n\nLunedì 28 luglio 2025 \nVito Mancuso – “La coscienza” \n\n\nL’incontro si terrà presso l’Auditorium E. Fermi\, presso la Scuola secondaria in Via Duca d’Aosta con inizio alle ore 21:15. \nProssimo Incontro: \n\n\nMartedì 9 settembre 2025 \nGiordano Bruno Guerri – “Povera santa\, povero assassino” \n\n\nL’ingresso è gratuito fino a esaurimento posti.
URL:https://goalbaadriatica.it/eventi/reflex-6-edizione-28-luglio/
LOCATION:Auditorium Scuola “E. Fermi”\, Via Saffi\, Alba Adriatica\, 64011\, Italy
CATEGORIES:Cultura,Intrattenimento,Lettura
ATTACH;FMTTYPE=image/jpeg:https://goalbaadriatica.it/wp-content/uploads/2025/05/Reflex-28-luglio-cambio-sede2.jpg
END:VEVENT
END:VCALENDAR