BEGIN:VCALENDAR
VERSION:2.0
PRODID:-//Go AlbaAdriatica - ECPv6.9.1//NONSGML v1.0//EN
CALSCALE:GREGORIAN
METHOD:PUBLISH
X-WR-CALNAME:Go AlbaAdriatica
X-ORIGINAL-URL:https://goalbaadriatica.it
X-WR-CALDESC:Eventi per Go AlbaAdriatica
REFRESH-INTERVAL;VALUE=DURATION:PT1H
X-Robots-Tag:noindex
X-PUBLISHED-TTL:PT1H
BEGIN:VTIMEZONE
TZID:Europe/Rome
BEGIN:DAYLIGHT
TZOFFSETFROM:+0100
TZOFFSETTO:+0200
TZNAME:CEST
DTSTART:20250330T010000
END:DAYLIGHT
BEGIN:STANDARD
TZOFFSETFROM:+0200
TZOFFSETTO:+0100
TZNAME:CET
DTSTART:20251026T010000
END:STANDARD
END:VTIMEZONE
BEGIN:VEVENT
DTSTART;TZID=Europe/Rome:20251222T153000
DTEND;TZID=Europe/Rome:20251223T120000
DTSTAMP:20260423T115326
CREATED:20251208T202746Z
LAST-MODIFIED:20251208T202746Z
UID:9877-1766417400-1766491200@goalbaadriatica.it
SUMMARY:Chiamata alle Arti – Cantiere Artistico a Villa Flaiani
DESCRIPTION:Chiamata alle Arti – Cantiere Artistico a Villa Flaiani\nLunedi 22 e Martedi 23 dicembre 2025\, Villa Flaiani diventa un luogo di incontro creativo con “Chiamata alle Arti”\, un evento che unisce linguaggi diversi e offre al pubblico un vero cantiere artistico aperto\, vivo e partecipato. \nDue giornate dedicate all’arte in tutte le sue forme: scultura\, pittura\, musica\, danza\, poesia\, fotografia\, testimonianze e momenti di approfondimento. Un percorso Art in Progress che permetterà di assistere alle fasi di creazione\, dialogare con gli artisti e vivere da vicino un’esperienza culturale dinamica e inclusiva. \nProgramma\n\nLunedì 22 dicembre\, dalle ore 15:30\nMartedì 23 dicembre\, dalle ore 10:00\n\nDurante entrambe le giornate sarà presente un mercatino solidale e un aperitivo resistente\, organizzati in collaborazione con le realtà promotrici dell’iniziativa. \nIngresso Gratuito\nUn appuntamento da non perdere per chi ama l’arte\, la creatività e gli eventi culturali che mettono al centro la comunità.
URL:https://goalbaadriatica.it/eventi/chiamata-alle-arti-cantiere-artistico-a-villa-flaiani/
LOCATION:Parco Villa Flaiani\, Via Roma 32\, Alba Adriatica\, TE\, 64011
CATEGORIES:Cultura,Intrattenimento,Lettura,Mercatino,Musica,Sociale
ATTACH;FMTTYPE=image/jpeg:https://goalbaadriatica.it/wp-content/uploads/2025/12/Chiamata-alle-Arti.jpeg
END:VEVENT
END:VCALENDAR