BEGIN:VCALENDAR
VERSION:2.0
PRODID:-//Go AlbaAdriatica - ECPv6.9.1//NONSGML v1.0//EN
CALSCALE:GREGORIAN
METHOD:PUBLISH
X-ORIGINAL-URL:https://goalbaadriatica.it
X-WR-CALDESC:Eventi per Go AlbaAdriatica
REFRESH-INTERVAL;VALUE=DURATION:PT1H
X-Robots-Tag:noindex
X-PUBLISHED-TTL:PT1H
BEGIN:VTIMEZONE
TZID:Europe/Rome
BEGIN:DAYLIGHT
TZOFFSETFROM:+0100
TZOFFSETTO:+0200
TZNAME:CEST
DTSTART:20250330T010000
END:DAYLIGHT
BEGIN:STANDARD
TZOFFSETFROM:+0200
TZOFFSETTO:+0100
TZNAME:CET
DTSTART:20251026T010000
END:STANDARD
END:VTIMEZONE
BEGIN:VEVENT
DTSTART;TZID=Europe/Rome:20250215T100000
DTEND;TZID=Europe/Rome:20250215T100000
DTSTAMP:20260424T045013
CREATED:20250213T084703Z
LAST-MODIFIED:20250213T090529Z
UID:6976-1739613600-1739613600@goalbaadriatica.it
SUMMARY:Nati per Leggere Val Vibrata
DESCRIPTION:Nati per Leggere Val Vibrata – Letture per bambini 0-6 anni! \nUn’iniziativa speciale per stimolare la lettura fin da piccoli! Sabato 15 febbraio\, un evento gratuito dedicato a famiglie con bambini da 0 a 6 anni\, pensato per promuovere la lettura condivisa e la cultura del libro. \n\nQuando: Sabato 15 febbraio\, ore 10:00\nDove: Biblioteca Comunale\, Via Roma 32\, Alba Adriatica\n\nPrenotazione obbligatoria! Invia una mail a natiperleggerevalvibrata@gmail.com indicando il nome e l’età del bambino/a\, specificando la data e il luogo dell’evento nell’oggetto. \nUn’opportunità imperdibile per i più piccoli di scoprire il mondo dei libri in compagnia di mamma e papà\, in un ambiente accogliente e stimolante! Non mancare!
URL:https://goalbaadriatica.it/eventi/nati-per-leggere-val-vibrata/
LOCATION:Biblioteca Villa Flaiani\, Via Roma 32\, Alba Adriatica\, 64011\, Italy
CATEGORIES:Cultura,Intrattenimento,Lettura
ATTACH;FMTTYPE=image/jpeg:https://goalbaadriatica.it/wp-content/uploads/2025/02/NatiPerLeggere_15-02-25.jpeg
END:VEVENT
BEGIN:VEVENT
DTSTART;TZID=Europe/Rome:20250215T170000
DTEND;TZID=Europe/Rome:20250215T170000
DTSTAMP:20260424T045013
CREATED:20250213T084314Z
LAST-MODIFIED:20250213T085541Z
UID:6971-1739638800-1739638800@goalbaadriatica.it
SUMMARY:Chagall: L’Asino\, il Viandante… e l’Amore!
DESCRIPTION:Scopri Chagall: L’Asino\, il Viandante… e l’Amore! \nUn’opportunità imperdibile per gli amanti dell’arte e della cultura! Un viaggio alla scoperta di Marc Chagall\, uno dei più grandi pittori del XX secolo\, attraverso la conferenza illustrata di Alessandro Cherubini. \n\nQuando: Sabato 15 febbraio\, ore 17:00\nDove: Biblioteca Comunale Domenico Pantone\, Via Roma 32\, Alba Adriatica\n\nIngresso libero \nUn’occasione per immergersi nelle opere di Chagall\, simbolo di passione\, amore e surrealismo\, in un incontro che svelerà i segreti dietro le sue creazioni più celebri. Non perdere questo evento unico\, un’opportunità per esplorare l’arte e la bellezza attraverso le parole di un esperto. Vi aspettiamo numerosi!
URL:https://goalbaadriatica.it/eventi/chagall-lasino-il-viandante-e-lamore/
LOCATION:Biblioteca Villa Flaiani\, Via Roma 32\, Alba Adriatica\, 64011\, Italy
CATEGORIES:Cultura,Intrattenimento,Lettura
ATTACH;FMTTYPE=image/jpeg:https://goalbaadriatica.it/wp-content/uploads/2025/02/Chagale_15-02-25.jpeg
END:VEVENT
END:VCALENDAR