BEGIN:VCALENDAR
VERSION:2.0
PRODID:-//Go AlbaAdriatica - ECPv6.9.1//NONSGML v1.0//EN
CALSCALE:GREGORIAN
METHOD:PUBLISH
X-WR-CALNAME:Go AlbaAdriatica
X-ORIGINAL-URL:https://goalbaadriatica.it
X-WR-CALDESC:Eventi per Go AlbaAdriatica
REFRESH-INTERVAL;VALUE=DURATION:PT1H
X-Robots-Tag:noindex
X-PUBLISHED-TTL:PT1H
BEGIN:VTIMEZONE
TZID:Europe/Rome
BEGIN:DAYLIGHT
TZOFFSETFROM:+0100
TZOFFSETTO:+0200
TZNAME:CEST
DTSTART:20250330T010000
END:DAYLIGHT
BEGIN:STANDARD
TZOFFSETFROM:+0200
TZOFFSETTO:+0100
TZNAME:CET
DTSTART:20251026T010000
END:STANDARD
END:VTIMEZONE
BEGIN:VEVENT
DTSTART;TZID=Europe/Rome:20250531T170000
DTEND;TZID=Europe/Rome:20250531T170000
DTSTAMP:20260423T233259
CREATED:20250428T134707Z
LAST-MODIFIED:20250529T062837Z
UID:7592-1748710800-1748710800@goalbaadriatica.it
SUMMARY:Staffetta Letteraria – Evento conclusivo del mese
DESCRIPTION:Sabato 31 maggio 2025\, ore 17.00 – Villa Flaiani \nLa cultura corre… di mano in mano! Sabato 31 maggio\, alle ore 17.00\, Villa Flaiani ospita la Staffetta Letteraria\, evento promosso dall’associazione Donne in Alba. \nUn pomeriggio in cui libri\, parole e letture si alternano in una maratona di racconti\, riflessioni e condivisione. Un momento di comunità e partecipazione culturale\, per chi ama la lettura e crede nel potere delle storie.
URL:https://goalbaadriatica.it/eventi/staffetta-letteraria-evento-conclusivo-del-mese/
LOCATION:Biblioteca Villa Flaiani\, Via Roma 32\, Alba Adriatica\, 64011\, Italy
CATEGORIES:Cultura,Lettura
ATTACH;FMTTYPE=image/jpeg:https://goalbaadriatica.it/wp-content/uploads/2025/04/STAFFETTA-LETTERARIA.jpeg
END:VEVENT
END:VCALENDAR