BEGIN:VCALENDAR
VERSION:2.0
PRODID:-//Go AlbaAdriatica - ECPv6.9.1//NONSGML v1.0//EN
CALSCALE:GREGORIAN
METHOD:PUBLISH
X-WR-CALNAME:Go AlbaAdriatica
X-ORIGINAL-URL:https://goalbaadriatica.it
X-WR-CALDESC:Eventi per Go AlbaAdriatica
REFRESH-INTERVAL;VALUE=DURATION:PT1H
X-Robots-Tag:noindex
X-PUBLISHED-TTL:PT1H
BEGIN:VTIMEZONE
TZID:Europe/Rome
BEGIN:DAYLIGHT
TZOFFSETFROM:+0100
TZOFFSETTO:+0200
TZNAME:CEST
DTSTART:20240331T010000
END:DAYLIGHT
BEGIN:STANDARD
TZOFFSETFROM:+0200
TZOFFSETTO:+0100
TZNAME:CET
DTSTART:20241027T010000
END:STANDARD
END:VTIMEZONE
BEGIN:VEVENT
DTSTART;TZID=Europe/Rome:20241031T153000
DTEND;TZID=Europe/Rome:20241031T203000
DTSTAMP:20260423T180127
CREATED:20241025T075126Z
LAST-MODIFIED:20241106T091324Z
UID:4865-1730388600-1730406600@goalbaadriatica.it
SUMMARY:Halloween 2024 - Il Parco Stregato in Villa
DESCRIPTION:Si rinnova l’appuntamento con la notte più “paurosa” dell’anno con una festa dedicata ai più piccoli. \nAnimazione\, Spettacoli e Stand eno-gastronomici saranno i protagonisti del pomeriggio del 31 ottobre nella splendida cornice di Villa Flajani. \n\nProgramma: \n\nore 15:30: apertura Parco (Mostri\, Cimitero\, il carcere con gli Zombie\, la Strega Pazza\, il Macellaio\, Maleficient\, il Castello Maledetto\, la Sposa Cadavere\, IT);\nore 16:15: Animazione e Baby dance;\nore 17:30: Esibizione del Piccolo Coro Amadeus;\nore 18:15: Animazione e Baby dance;\nore 19:00: Parata dei personaggi “Horror”;\nore 19:15: Spettacolo di Fuoco.\n\nStand gastronomici con truckfood (Hamburger\, Frittelle farcite\, Patatine\, Birra\, Acqua \, Coca cola\, Zucchero filato\, Pop-corn). \nIn caso di maltempo\, l’evento si svolgerà domenica 3 novembre. \n\n 
URL:https://goalbaadriatica.it/eventi/halloween-2024-il-parco-stregato-in-villa/
LOCATION:Parco Villa Flaiani\, Via Roma 32\, Alba Adriatica\, TE\, 64011
CATEGORIES:Bambini,Intrattenimento,Musica
ATTACH;FMTTYPE=image/jpeg:https://goalbaadriatica.it/wp-content/uploads/2024/10/halloween-2024-locandina.jpeg
END:VEVENT
END:VCALENDAR