BEGIN:VCALENDAR
VERSION:2.0
PRODID:-//Go AlbaAdriatica - ECPv6.9.1//NONSGML v1.0//EN
CALSCALE:GREGORIAN
METHOD:PUBLISH
X-WR-CALNAME:Go AlbaAdriatica
X-ORIGINAL-URL:https://goalbaadriatica.it
X-WR-CALDESC:Eventi per Go AlbaAdriatica
REFRESH-INTERVAL;VALUE=DURATION:PT1H
X-Robots-Tag:noindex
X-PUBLISHED-TTL:PT1H
BEGIN:VTIMEZONE
TZID:Europe/Rome
BEGIN:DAYLIGHT
TZOFFSETFROM:+0100
TZOFFSETTO:+0200
TZNAME:CEST
DTSTART:20240331T010000
END:DAYLIGHT
BEGIN:STANDARD
TZOFFSETFROM:+0200
TZOFFSETTO:+0100
TZNAME:CET
DTSTART:20241027T010000
END:STANDARD
END:VTIMEZONE
BEGIN:VEVENT
DTSTART;TZID=Europe/Rome:20240825T211500
DTEND;TZID=Europe/Rome:20240825T211500
DTSTAMP:20260423T233229
CREATED:20240616T072201Z
LAST-MODIFIED:20240819T135436Z
UID:4271-1724620500-1724620500@goalbaadriatica.it
SUMMARY:Note d'in...Canto in Villa - AIDA
DESCRIPTION:L’Opera in Villa Flajani va in scena con l’AIDA\, opera in quattro atti di Giuseppe Verdi. \nCast \n\nAida (Soprano): PATRIZIA PEROZZI\nRadames (Tenore): TOMMASO MANIFESTA\nAmmeris (Mezzosoprano): VALENTINA COLETTI\nAmonasro (Baritono): FRANCO ALESSANDRINI\nRamfis/Re (Basso): DAVIDE BARTOLUCCI\n\nSi ringrazia \n\nCorpo di ballo: TOMMASO CLEMENTI e VALENTINA SOPRANZI\nPianoforte: DAVIDE MARTELLI\nNarrazione\, Regia e Costumi d’epoca: PAOLO SANTARELLI\nScenografia: LICEO ARTISTICO PREZIOTTI-LICINI\n\nIn collaborazione con C.L.I.O. (Compagnia Lirica Incontri d’Opera) \nLa Storia \nIsmail Pascià\, Vicerè d’Egitto\, commissionò a Giuseppe Verdi un inno da suonare in occasione delle celebrazioni per l’apertura del Canale di Suez avvenuta nel 1870.\nNonostante la grande passione del sovrano egizio per l’Opera Italiana\,  Verdi rifiutò\, rispondendo che mal gli si addiceva scrivere musica d’occasione. \nDa qui in poi la storia dell’Aida si mescola alla leggenda. Si narra infatti che il Vicerè fosse in procinto di affidare la scrittura dell’opera a Richard Wagner quando l’indiscrezione giunse alle orecchie di Verdi\, che  si affrettò a concludere la trattativa e accettò la proposta\, ponendo alcune condizioni irrinunciabili. \nL’ Aida fu rappresentata per la prima volta il 24 Dicembre 1871 al Teatro Nazionale del Cairo (inaugurato pochi mesi prima con il Rigoletto).\nL’opera ottenne da subito un enorme successo e ancora oggi continua ad essere una delle opere liriche più famose. \nIngresso gratuito. \n 
URL:https://goalbaadriatica.it/eventi/note-din-canto-in-villa-aida/
LOCATION:Parco Villa Flaiani\, Via Roma 32\, Alba Adriatica\, TE\, 64011
CATEGORIES:Concerti,Cultura,Musica
ATTACH;FMTTYPE=image/jpeg:https://goalbaadriatica.it/wp-content/uploads/2024/06/NOTE-DINCANTO_AIDA_18-agosto.jpeg
END:VEVENT
END:VCALENDAR