BEGIN:VCALENDAR
VERSION:2.0
PRODID:-//Go AlbaAdriatica - ECPv6.9.1//NONSGML v1.0//EN
CALSCALE:GREGORIAN
METHOD:PUBLISH
X-WR-CALNAME:Go AlbaAdriatica
X-ORIGINAL-URL:https://goalbaadriatica.it
X-WR-CALDESC:Eventi per Go AlbaAdriatica
REFRESH-INTERVAL;VALUE=DURATION:PT1H
X-Robots-Tag:noindex
X-PUBLISHED-TTL:PT1H
BEGIN:VTIMEZONE
TZID:Europe/Rome
BEGIN:DAYLIGHT
TZOFFSETFROM:+0100
TZOFFSETTO:+0200
TZNAME:CEST
DTSTART:20250330T010000
END:DAYLIGHT
BEGIN:STANDARD
TZOFFSETFROM:+0200
TZOFFSETTO:+0100
TZNAME:CET
DTSTART:20251026T010000
END:STANDARD
END:VTIMEZONE
BEGIN:VEVENT
DTSTART;TZID=Europe/Rome:20250301T150000
DTEND;TZID=Europe/Rome:20250301T150000
DTSTAMP:20260423T115854
CREATED:20250213T155345Z
LAST-MODIFIED:20250304T140051Z
UID:6993-1740841200-1740841200@goalbaadriatica.it
SUMMARY:Carnevale in Villa 2025
DESCRIPTION:  \nCarnevale in Villa – Sabato 1 Marzo \nVivi la magia del Carnevale con la festa in maschera per grandi e piccini! \nNon perdere la possibilità di partecipare a un evento colorato e divertente che si terrà sabato 1 marzo dalle 15:00 alle 22:00 presso Villa Flaiani\, Alba Adriatica. \nSarà premiata la maschera più bella! \n🎉 Programma dell’evento: \n\nOre 15:00: Apertura della festa con musica\, animazione e divertenti punti di intrattenimento in tutta la villa (truccabimbi\, animazione\, spettacoli e artisti di strada).\nOre 15:30: Show del Mago Ventriloquo “Alex”.\nOre 16:30: Continuano le magie con lo spettacolo del “Mago Ivan”.\nDalle 16:00 alle 21:00: Musica e DJ Set in Via Risorgimento nella zona “foodtruck”\, dove le famiglie possono gustare ottimo cibo e bevande.\nDalle 17:30 alle 18:30: Animazione e spettacolo di fachiro sul palco principale.\nOre 18:00: “Sweet zone” con zucchero filato in omaggio per tutti!\n\n🎶 Non mancare a questo evento unico che riunisce divertimento\, musica e magia\, con intrattenimenti per tutte le età! \nIn caso di maltempo\, la manifestazione si terrà martedì 4 marzo alle 15:00.
URL:https://goalbaadriatica.it/eventi/carnevale-in-villa-2025/
LOCATION:Parco Villa Flaiani\, Via Roma 32\, Alba Adriatica\, TE\, 64011
CATEGORIES:Ballo,Bambini,Intrattenimento,Musica
ATTACH;FMTTYPE=image/png:https://goalbaadriatica.it/wp-content/uploads/2025/02/Carnevale-in-Villa-2025-POST-1080x1350-1.png
END:VEVENT
END:VCALENDAR