BEGIN:VCALENDAR
VERSION:2.0
PRODID:-//Go AlbaAdriatica - ECPv6.9.1//NONSGML v1.0//EN
CALSCALE:GREGORIAN
METHOD:PUBLISH
X-WR-CALNAME:Go AlbaAdriatica
X-ORIGINAL-URL:https://goalbaadriatica.it
X-WR-CALDESC:Eventi per Go AlbaAdriatica
REFRESH-INTERVAL;VALUE=DURATION:PT1H
X-Robots-Tag:noindex
X-PUBLISHED-TTL:PT1H
BEGIN:VTIMEZONE
TZID:Europe/Rome
BEGIN:DAYLIGHT
TZOFFSETFROM:+0100
TZOFFSETTO:+0200
TZNAME:CEST
DTSTART:20240331T010000
END:DAYLIGHT
BEGIN:STANDARD
TZOFFSETFROM:+0200
TZOFFSETTO:+0100
TZNAME:CET
DTSTART:20241027T010000
END:STANDARD
END:VTIMEZONE
BEGIN:VEVENT
DTSTART;TZID=Europe/Rome:20240727T150000
DTEND;TZID=Europe/Rome:20240727T150000
DTSTAMP:20260426T024759
CREATED:20240616T073006Z
LAST-MODIFIED:20240723T174957Z
UID:4204-1722092400-1722092400@goalbaadriatica.it
SUMMARY:Carro Summer Cup - FootVolley
DESCRIPTION:Ad Alba Adriatica il “Carro Summer Cup” di foot volley un torneo a squadre con i campioni dello sport e vip dello spettacolo. \nIl torneo si svolgerà sabato 27 luglio dalle ore 15. Ci saranno tanti big del calcio italiano. Dagli allenatori Serse Cosmi\, Walter Novellino e Stefano Colantuono\, Antonio Chimenti\, David Di Michele\, Valeri Bogjinov\, Mauro Milanese\, Francesco Flachi\, Daniele Portanova\, Simone Pepe con Morris Carrozzieri che farà da padrone di casa. Inoltre ci sarà la presenza di Aida Yespica\, Matteo Ciprietti\, Edoardo D’Addazio\, Nicolo Schira de La Gazzetta dello Sport\, Maurizio Compagnoni di Sky\, Roberto Alessi di Novella 2000 e da “Temptation Island” e “La Pupa e il Secchione”ci sarà Francesco Chiofalo. \nLa manifestazione è organizzata dalla Beach Sport\, Più Salute ed Al Faro beach\, con il patrocinio dell’amministrazione comunale e rientra in quel contenitore di eventi che vogliono promuovere la Spiaggia d’Argento – Bandiera Blu. I partecipanti saranno ospitati tutto il week end ad Alba Adriatica.
URL:https://goalbaadriatica.it/eventi/carro-summer-cup-footvolley/
LOCATION:Spiaggia Libera tra Al Faro e le Hawaii – Arena Beach\, Via Lungomare Marconi 192\, Alba Adriatica\, TE\, 64011
CATEGORIES:Intrattenimento,Sport
ATTACH;FMTTYPE=image/png:https://goalbaadriatica.it/wp-content/uploads/2024/06/Carro-Summer-Cup_Locandina-A4_Def.png
END:VEVENT
END:VCALENDAR