BEGIN:VCALENDAR
VERSION:2.0
PRODID:-//Go AlbaAdriatica - ECPv6.9.1//NONSGML v1.0//EN
CALSCALE:GREGORIAN
METHOD:PUBLISH
X-ORIGINAL-URL:https://goalbaadriatica.it
X-WR-CALDESC:Eventi per Go AlbaAdriatica
REFRESH-INTERVAL;VALUE=DURATION:PT1H
X-Robots-Tag:noindex
X-PUBLISHED-TTL:PT1H
BEGIN:VTIMEZONE
TZID:Europe/Rome
BEGIN:DAYLIGHT
TZOFFSETFROM:+0100
TZOFFSETTO:+0200
TZNAME:CEST
DTSTART:20250330T010000
END:DAYLIGHT
BEGIN:STANDARD
TZOFFSETFROM:+0200
TZOFFSETTO:+0100
TZNAME:CET
DTSTART:20251026T010000
END:STANDARD
END:VTIMEZONE
BEGIN:VEVENT
DTSTART;TZID=Europe/Rome:20250501T090000
DTEND;TZID=Europe/Rome:20250504T180000
DTSTAMP:20260425T151738
CREATED:20250427T134312Z
LAST-MODIFIED:20250502T084744Z
UID:7550-1746090000-1746381600@goalbaadriatica.it
SUMMARY:Enjoy Cup – 7ª edizione. Torneo nazionale di calcio giovanile
DESCRIPTION:Da giovedì 1 a domenica 4 maggio 2025 – Campi sportivi V. Rosini e L. Vallese \nQuattro giorni di sport\, entusiasmo e passione per il calcio giovanile. Dal 1 al 4 maggio 2025 Alba Adriatica ospita la 7ª edizione dell’Enjoy Cup\, prestigioso torneo nazionale che coinvolgerà squadre provenienti da tutta Italia. \nLe partite si disputeranno presso i campi sportivi V. Rosini (Via degli Oleandri) e L. Vallese (SP9c\, 19)\, con categorie dai più piccoli agli under 17. Un’occasione per vivere il calcio come momento di aggregazione\, rispetto e crescita sportiva. L’ingresso è libero. \n\nScopri di più: https://sportintour.it/evento/torneo-enjoy-cup-7-edizione-2025/
URL:https://goalbaadriatica.it/eventi/enjoy-cup-7a-edizione-torneo-nazionale-calcio-giovanile/
LOCATION:Campo Sportivo Luca Vallese\, SP9c\, 19\, Alba Adriatica TE\, 64011\, Italy
CATEGORIES:Intrattenimento,Ragazzi,Sport
ATTACH;FMTTYPE=image/png:https://goalbaadriatica.it/wp-content/uploads/2025/04/enjoy-locandina-720x1024-1.png
END:VEVENT
BEGIN:VEVENT
DTSTART;TZID=Europe/Rome:20250504T090000
DTEND;TZID=Europe/Rome:20250504T160000
DTSTAMP:20260425T151738
CREATED:20250427T134936Z
LAST-MODIFIED:20250428T140327Z
UID:7563-1746349200-1746374400@goalbaadriatica.it
SUMMARY:I Love Rhythmic – Gara regionale di ginnastica ritmica amatoriale
DESCRIPTION:Domenica 4 maggio 2025\, dalle ore 9.00 alle 16.00 – Palazzetto dello Sport\, via degli Oleandri \nDomenica 4 maggio\, il palazzetto di Alba Adriatica si riempie di ritmo e passione con la gara regionale amatoriale “I Love Rhythmic”\, dedicata alle giovani promesse della ginnastica ritmica. \nUna giornata di sport e spettacolo\, in cui il movimento si fonde con la musica\, offrendo momenti di grande emozione e coinvolgimento. L’iniziativa è aperta al pubblico con ingresso gratuito.
URL:https://goalbaadriatica.it/eventi/i-love-rhythmic-gara-regionale-di-ginnastica-ritmica-amatoriale/
LOCATION:Palazzetto dello sport (Via degli Oleandri)\, Via degli Oleandri\, Alba Adriatica\, 64011\, Italy
CATEGORIES:Ballo,Fitness,Intrattenimento,Ragazzi,Sport
ATTACH;FMTTYPE=image/jpeg:https://goalbaadriatica.it/wp-content/uploads/2025/04/I-Love-Rhythmic.jpg
END:VEVENT
END:VCALENDAR