BEGIN:VCALENDAR
VERSION:2.0
PRODID:-//Go AlbaAdriatica - ECPv6.9.1//NONSGML v1.0//EN
CALSCALE:GREGORIAN
METHOD:PUBLISH
X-ORIGINAL-URL:https://goalbaadriatica.it
X-WR-CALDESC:Eventi per Go AlbaAdriatica
REFRESH-INTERVAL;VALUE=DURATION:PT1H
X-Robots-Tag:noindex
X-PUBLISHED-TTL:PT1H
BEGIN:VTIMEZONE
TZID:Europe/Rome
BEGIN:DAYLIGHT
TZOFFSETFROM:+0100
TZOFFSETTO:+0200
TZNAME:CEST
DTSTART:20250330T010000
END:DAYLIGHT
BEGIN:STANDARD
TZOFFSETFROM:+0200
TZOFFSETTO:+0100
TZNAME:CET
DTSTART:20251026T010000
END:STANDARD
END:VTIMEZONE
BEGIN:VEVENT
DTSTART;TZID=Europe/Rome:20250516T090000
DTEND;TZID=Europe/Rome:20250518T180000
DTSTAMP:20260425T151731
CREATED:20250427T135228Z
LAST-MODIFIED:20250428T135310Z
UID:7576-1747386000-1747591200@goalbaadriatica.it
SUMMARY:Torneo Regionale di Pallavolo
DESCRIPTION:Da venerdì 16 a domenica 18 maggio 2025 – Palazzetto dello Sport\, via degli Oleandri \nTre giorni di grande volley ad Alba Adriatica con il Torneo Regionale di Pallavolo\, in programma da venerdì 16 a domenica 18 maggio presso il Palazzetto dello Sport. \nUn appuntamento che vedrà in campo le migliori squadre giovanili abruzzesi\, pronte a darsi battaglia per il titolo regionale. Un’occasione per ammirare il talento delle nuove generazioni e vivere l’energia dello sport da bordo campo.
URL:https://goalbaadriatica.it/eventi/torneo-regionale-di-pallavolo/
LOCATION:Palazzetto dello sport (Via degli Oleandri)\, Via degli Oleandri\, Alba Adriatica\, 64011\, Italy
CATEGORIES:Fitness,Sport
ATTACH;FMTTYPE=image/jpeg:https://goalbaadriatica.it/wp-content/uploads/2025/04/finale-regionale-pallavolo.jpg
END:VEVENT
END:VCALENDAR