BEGIN:VCALENDAR
VERSION:2.0
PRODID:-//Go AlbaAdriatica - ECPv6.9.1//NONSGML v1.0//EN
CALSCALE:GREGORIAN
METHOD:PUBLISH
X-WR-CALNAME:Go AlbaAdriatica
X-ORIGINAL-URL:https://goalbaadriatica.it
X-WR-CALDESC:Eventi per Go AlbaAdriatica
REFRESH-INTERVAL;VALUE=DURATION:PT1H
X-Robots-Tag:noindex
X-PUBLISHED-TTL:PT1H
BEGIN:VTIMEZONE
TZID:Europe/Rome
BEGIN:DAYLIGHT
TZOFFSETFROM:+0100
TZOFFSETTO:+0200
TZNAME:CEST
DTSTART:20250330T010000
END:DAYLIGHT
BEGIN:STANDARD
TZOFFSETFROM:+0200
TZOFFSETTO:+0100
TZNAME:CET
DTSTART:20251026T010000
END:STANDARD
END:VTIMEZONE
BEGIN:VEVENT
DTSTART;TZID=Europe/Rome:20250607T090000
DTEND;TZID=Europe/Rome:20250608T180000
DTSTAMP:20260425T135038
CREATED:20250512T104417Z
LAST-MODIFIED:20250530T074449Z
UID:7724-1749286800-1749405600@goalbaadriatica.it
SUMMARY:Campionato Italiano Beach Volley – Serie B1
DESCRIPTION:Campionato Italiano Beach Volley – Serie B1\nSabato 7 e domenica 8 giugno 2025 – Arena Beach\, spiaggia libera (zona Chalet Faro) \nDue giorni di grande spettacolo sulla sabbia: sabato 7 e domenica 8 giugno 2025\, Alba Adriatica ospita una delle tappe del Campionato Italiano Beach Volley Serie B1\, maschile e femminile. \nL’evento si svolgerà presso l’Arena Beach\, allestita nella spiaggia libera tra gli chalet Faro e Hawaii con il coinvolgimento di squadre di alto livello provenienti da tutta Italia. \nLa tappa è organizzata da ASD Beach Sport in collaborazione con la Città di Alba Adriatica\, con il sostegno di partner locali e sponsor tecnici. \nPer info e iscrizioni: www.federvolley.it – www.beachsport.it
URL:https://goalbaadriatica.it/eventi/campionato-italiano-beach-volley-serie-b1/
LOCATION:Spiaggia Libera tra Al Faro e le Hawaii – Arena Beach\, Via Lungomare Marconi 192\, Alba Adriatica\, TE\, 64011
CATEGORIES:Fitness,Intrattenimento,Sport
ATTACH;FMTTYPE=image/jpeg:https://goalbaadriatica.it/wp-content/uploads/2025/05/beach-volley-7-8-giugno.jpg
END:VEVENT
END:VCALENDAR