BEGIN:VCALENDAR
VERSION:2.0
PRODID:-//Go AlbaAdriatica - ECPv6.9.1//NONSGML v1.0//EN
CALSCALE:GREGORIAN
METHOD:PUBLISH
X-WR-CALNAME:Go AlbaAdriatica
X-ORIGINAL-URL:https://goalbaadriatica.it
X-WR-CALDESC:Eventi per Go AlbaAdriatica
REFRESH-INTERVAL;VALUE=DURATION:PT1H
X-Robots-Tag:noindex
X-PUBLISHED-TTL:PT1H
BEGIN:VTIMEZONE
TZID:Europe/Rome
BEGIN:DAYLIGHT
TZOFFSETFROM:+0100
TZOFFSETTO:+0200
TZNAME:CEST
DTSTART:20240331T010000
END:DAYLIGHT
BEGIN:STANDARD
TZOFFSETFROM:+0200
TZOFFSETTO:+0100
TZNAME:CET
DTSTART:20241027T010000
END:STANDARD
END:VTIMEZONE
BEGIN:VEVENT
DTSTART;TZID=Europe/Rome:20241214T180000
DTEND;TZID=Europe/Rome:20241214T180000
DTSTAMP:20260423T060646
CREATED:20241205T164635Z
LAST-MODIFIED:20241207T081524Z
UID:5642-1734199200-1734199200@goalbaadriatica.it
SUMMARY:Presentazione del libro “La Notte dei Poeti” di Paolo Carlo Rosati
DESCRIPTION:📖✨ Presentazione del libro “La Notte dei Poeti” di Paolo Carlo Rosati ✨📖 \nSabato 14 dicembre 2024\, alle ore 18:00 presso Villa Flajani\, un evento speciale dedicato alla poesia e all’arte: \n\n🎤 Modera: Alessio Masciulli (Editore)\n🎶 Musiche: Nancy Fazzini (Cantante/Attrice)\n📖 Letture: Sara Palladini (Attrice)\n💃 Danza: Ilenia Molinis (Ballerina)\n\nSarà presente l’autore\, Paolo Carlo Rosati\, per raccontare il suo libro e condividere emozioni uniche. \nNon perdere questa serata di cultura e bellezza sotto il cielo stellato di Alba Adriatica! \n\n\n 
URL:https://goalbaadriatica.it/eventi/presentazione-del-libro-la-notte-dei-poeti-di-paolo-carlo-rosati/
LOCATION:Parco Villa Flaiani\, Via Roma 32\, Alba Adriatica\, TE\, 64011
CATEGORIES:Cultura,Intrattenimento,Teatro
ATTACH;FMTTYPE=image/jpeg:https://goalbaadriatica.it/wp-content/uploads/2024/12/2024-12-14_La-Notte-dei-Poeti.jpeg
END:VEVENT
END:VCALENDAR