BEGIN:VCALENDAR
VERSION:2.0
PRODID:-//Go AlbaAdriatica - ECPv6.9.1//NONSGML v1.0//EN
CALSCALE:GREGORIAN
METHOD:PUBLISH
X-ORIGINAL-URL:https://goalbaadriatica.it
X-WR-CALDESC:Eventi per Go AlbaAdriatica
REFRESH-INTERVAL;VALUE=DURATION:PT1H
X-Robots-Tag:noindex
X-PUBLISHED-TTL:PT1H
BEGIN:VTIMEZONE
TZID:Europe/Rome
BEGIN:DAYLIGHT
TZOFFSETFROM:+0100
TZOFFSETTO:+0200
TZNAME:CEST
DTSTART:20250330T010000
END:DAYLIGHT
BEGIN:STANDARD
TZOFFSETFROM:+0200
TZOFFSETTO:+0100
TZNAME:CET
DTSTART:20251026T010000
END:STANDARD
BEGIN:DAYLIGHT
TZOFFSETFROM:+0100
TZOFFSETTO:+0200
TZNAME:CEST
DTSTART:20260329T010000
END:DAYLIGHT
BEGIN:STANDARD
TZOFFSETFROM:+0200
TZOFFSETTO:+0100
TZNAME:CET
DTSTART:20261025T010000
END:STANDARD
END:VTIMEZONE
BEGIN:VEVENT
DTSTART;TZID=Europe/Rome:20251024T210000
DTEND;TZID=Europe/Rome:20251024T210000
DTSTAMP:20260423T004820
CREATED:20251023T191603Z
LAST-MODIFIED:20251023T191715Z
UID:9804-1761339600-1761339600@goalbaadriatica.it
SUMMARY:Stagione Concertistica d’Autunno 2025 – “Jazz Landscapes!”
DESCRIPTION:Venerdì 24 ottobre 2025\, alle ore 21:00\, presso l’Auditorium Istituto Comprensivo “E. Fermi” di Alba Adriatica\, prosegue la Stagione Concertistica d’Autunno 2025 dell’Orchestra da Camera “Benedetto Marcello”\, con un nuovo imperdibile appuntamento dedicato al jazz. \nSul palco dell’Auditorium dell’Istituto Comprensivo “E. Fermi” si esibirà il Sunrise String Jazz Quartet\, composto da: \n\nAnna Glibchuk – violino\nMarcello Maria Pozzi – violino\nDaniel Calzone – viola\nNicholas Stellati – violoncello\n\nLo spettacolo\, dal titolo “Jazz Landscapes!”\, condurrà il pubblico in un viaggio musicale attraverso i paesaggi sonori del jazz\, reinterpretati con eleganza e intensità dal quartetto d’archi. \nDirezione artistica a cura di Gianfranco Lupidii\, con il sostegno del Ministero della Cultura\, della Fondazione Tercas\, della Provincia di Teramo e della Città di Alba Adriatica. \n📞 Info: 334 8314329 – 📧 info@benedettomarcello.it – 🎟️ Ingresso €10 – Biglietti su ciaotickets.com \nUn concerto che unisce tecnica\, passione e improvvisazione\, per una serata di grande musica e suggestione.
URL:https://goalbaadriatica.it/eventi/stagione-concertistica-dautunno-2025-jazz-landscapes/
LOCATION:Auditorium Scuola “E. Fermi”\, Via Saffi\, Alba Adriatica\, 64011\, Italy
CATEGORIES:Concerti,Cultura,Intrattenimento,Musica,Teatro
ATTACH;FMTTYPE=image/jpeg:https://goalbaadriatica.it/wp-content/uploads/2025/10/Concerto-Jazz_Auditorium-Alba-Adriatica.jpg
END:VEVENT
BEGIN:VEVENT
DTSTART;TZID=Europe/Rome:20251214T160000
DTEND;TZID=Europe/Rome:20251214T160000
DTSTAMP:20260423T004820
CREATED:20251205T190957Z
LAST-MODIFIED:20251205T190957Z
UID:9857-1765728000-1765728000@goalbaadriatica.it
SUMMARY:Il Circo di Natale
DESCRIPTION:Il Circo di Natale – Show Family Edition\nDomenica 14 dicembre 2025\, ore 16:00 in Piazza del Popolo ad Alba Adriatica \nLuci natalizie\, acrobazie\, giocolieri\, ballerine e magia visiva: il Circo di Natale torna ad Alba Adriatica con uno spettacolo emozionante dedicato a grandi e piccoli. \nUn viaggio nel mondo circense\, con artisti pronti a regalare sorrisi\, stupore e un pomeriggio di festa nel centro cittadino. \nAtmosfera magica\, musica e performance coinvolgenti renderanno questo appuntamento uno dei momenti più attesi del Natale albense. \n✨ Evento gratuito
URL:https://goalbaadriatica.it/eventi/il-circo-di-natale/
LOCATION:Piazza del Popolo\, Piazza del Popolo\, Alba Adriatica\, TE\, 64011\, Italia
CATEGORIES:Bambini,Intrattenimento,Teatro
ATTACH;FMTTYPE=image/jpeg:https://goalbaadriatica.it/wp-content/uploads/2025/12/Circo-Natale-scaled.jpeg
END:VEVENT
BEGIN:VEVENT
DTSTART;TZID=Europe/Rome:20260104T210000
DTEND;TZID=Europe/Rome:20260104T210000
DTSTAMP:20260423T004820
CREATED:20251230T084918Z
LAST-MODIFIED:20251230T133843Z
UID:9897-1767560400-1767560400@goalbaadriatica.it
SUMMARY:Concerto “Aspettando i Re Magi”
DESCRIPTION:Concerto “Aspettando i Re Magi”\nDomenica 4 gennaio 2026 ore 21:00 Alba Adriatica ospita un appuntamento musicale di grande suggestione per accompagnare il pubblico verso l’Epifania. \nPresso la Parrocchia dell’Immacolata\, alle ore 21:00\, si terrà il concerto “Aspettando i Re Magi”\, a cura dell’Associazione Culturale Ars Nova\, con il patrocinio della Città di Alba Adriatica. \nProtagonista della serata sarà l’Ensemble I Giovani Musici\, diretto dal M° Lucia Valentino\, con la partecipazione del Coro della Scuola Musicale “Il Suono” di Giulianova e della voce solista M° Raffaele Di Nicola. \nIl programma propone un raffinato percorso musicale che spazia dal repertorio classico alle colonne sonore più celebri\, con musiche di Pietro Mascagni\, Joseph Haydn\, Nino Rota\, Ennio Morricone\, John Williams\, Johann Strauss\, fino ai più amati brani natalizi\, in un crescendo emozionale pensato per un pubblico di tutte le età. \nUn concerto che unisce tradizione\, spiritualità e grande musica\, ideale per chiudere le festività natalizie in un’atmosfera intensa e coinvolgente. \n🎶 Ingresso: libero
URL:https://goalbaadriatica.it/eventi/concerto-aspettando-i-re-magi/
LOCATION:Parrocchia Immacolata\, Via Monviso 1\, Alba Adriatrica\, 64011\, Italy
CATEGORIES:Concerti,Intrattenimento,Musica,Teatro
ATTACH;FMTTYPE=image/png:https://goalbaadriatica.it/wp-content/uploads/2025/12/BEFANA-CONCERTO-GRIGLIA_locandina.png
END:VEVENT
BEGIN:VEVENT
DTSTART;TZID=Europe/Rome:20260308T180000
DTEND;TZID=Europe/Rome:20260308T180000
DTSTAMP:20260423T004820
CREATED:20260306T094900Z
LAST-MODIFIED:20260306T094900Z
UID:9952-1772992800-1772992800@goalbaadriatica.it
SUMMARY:Opera in Jazz – Concerto ISA
DESCRIPTION:Domenica 8 marzo 2026\, alle ore 18:00 presso l’Auditorium Scuola Media “E. Fermi” – Alba Adriatica\, la stagione dei concerti dell’Istituzione Sinfonica Abruzzese farà tappa ad Alba Adriatica con un appuntamento musicale originale e coinvolgente: “Opera in Jazz”\, un progetto che unisce la grande tradizione operistica alla libertà espressiva del jazz. \nIl concerto propone una rilettura contemporanea delle più celebri melodie della musica lirica e sinfonica\, reinterpretate attraverso sonorità jazzistiche capaci di offrire nuove prospettive di ascolto. \nProtagonisti della serata saranno: \n\nEmanuele Pedrani – pianoforte\nGiuseppe Ettore – contrabbasso\nGiuseppe Cacciola – batteria\n\nIl programma attraversa alcune delle pagine più amate della musica classica e operistica\, con brani ispirati alle composizioni di Puccini\, Rossini\, Verdi\, Bizet\, Mozart e Gershwin\, accanto a composizioni originali. \nUn appuntamento che mette in dialogo tradizione e innovazione musicale\, offrendo al pubblico un’esperienza di ascolto raffinata e sorprendente.
URL:https://goalbaadriatica.it/eventi/opera-in-jazz-concerto-isa/
LOCATION:Auditorium Scuola “E. Fermi”\, Via Saffi\, Alba Adriatica\, 64011\, Italy
CATEGORIES:Concerti,Cultura,Intrattenimento,Musica,Teatro
ATTACH;FMTTYPE=image/jpeg:https://goalbaadriatica.it/wp-content/uploads/2026/03/Opera-in-jazz.jpeg
END:VEVENT
END:VCALENDAR