BEGIN:VCALENDAR
VERSION:2.0
PRODID:-//Go AlbaAdriatica - ECPv6.9.1//NONSGML v1.0//EN
CALSCALE:GREGORIAN
METHOD:PUBLISH
X-ORIGINAL-URL:https://goalbaadriatica.it
X-WR-CALDESC:Eventi per Go AlbaAdriatica
REFRESH-INTERVAL;VALUE=DURATION:PT1H
X-Robots-Tag:noindex
X-PUBLISHED-TTL:PT1H
BEGIN:VTIMEZONE
TZID:Europe/Rome
BEGIN:DAYLIGHT
TZOFFSETFROM:+0100
TZOFFSETTO:+0200
TZNAME:CEST
DTSTART:20250330T010000
END:DAYLIGHT
BEGIN:STANDARD
TZOFFSETFROM:+0200
TZOFFSETTO:+0100
TZNAME:CET
DTSTART:20251026T010000
END:STANDARD
END:VTIMEZONE
BEGIN:VEVENT
DTSTART;TZID=Europe/Rome:20250824T210000
DTEND;TZID=Europe/Rome:20250824T210000
DTSTAMP:20260422T203918
CREATED:20250616T153539Z
LAST-MODIFIED:20250823T130341Z
UID:8035-1756069200-1756069200@goalbaadriatica.it
SUMMARY:6ª Rassegna Teatro Dialettale – “Tutte chi na notte!”
DESCRIPTION:Teatro dialettale in piazza: “Tutte chi na notte”\n\n\nDomenica 24 agosto 2025 – Ore 21:00\, Piazza IV Novembre – Alba Adriatica \nUna serata all’insegna del teatro popolare con la compagnia La Bottega del Sorriso\, che porta in scena “Tutte chi na notte”\, una commedia gialla in dialetto\, scritta da Romina Candelori e Tonino Ranalli\, con la regia di Betty Gianforte. \nTra suspense\, ironia e colpi di scena\, lo spettacolo coinvolgerà il pubblico in un intreccio ricco di misteri e situazioni comiche. \nLe musiche sono a cura di Paolo Iacone e Luigi Candelori. \nUn appuntamento da non perdere nel cuore della città\, tra cultura e intrattenimento per tutte le età. Evento organizzato con il patrocinio del Comune di Alba Adriatica\, in collaborazione con la Federazione Italiana Teatro Amatori.
URL:https://goalbaadriatica.it/eventi/6a-rassegna-teatro-dialettale-tutte-chi-na-notte/
LOCATION:Piazza IV Novembre\, Piazza IV Novembre\, Alba Adriatica\, TE\, 64011\, Italia
CATEGORIES:Cultura,Intrattenimento,Teatro
ATTACH;FMTTYPE=image/jpeg:https://goalbaadriatica.it/wp-content/uploads/2025/05/b80e1a18-de2a-4887-b143-21e64b7c6a98.jpeg
END:VEVENT
END:VCALENDAR