BEGIN:VCALENDAR
VERSION:2.0
PRODID:-//Go AlbaAdriatica - ECPv6.9.1//NONSGML v1.0//EN
CALSCALE:GREGORIAN
METHOD:PUBLISH
X-ORIGINAL-URL:https://goalbaadriatica.it
X-WR-CALDESC:Eventi per Go AlbaAdriatica
REFRESH-INTERVAL;VALUE=DURATION:PT1H
X-Robots-Tag:noindex
X-PUBLISHED-TTL:PT1H
BEGIN:VTIMEZONE
TZID:Europe/Rome
BEGIN:DAYLIGHT
TZOFFSETFROM:+0100
TZOFFSETTO:+0200
TZNAME:CEST
DTSTART:20260329T010000
END:DAYLIGHT
BEGIN:STANDARD
TZOFFSETFROM:+0200
TZOFFSETTO:+0100
TZNAME:CET
DTSTART:20261025T010000
END:STANDARD
END:VTIMEZONE
BEGIN:VEVENT
DTSTART;TZID=Europe/Rome:20260321T173000
DTEND;TZID=Europe/Rome:20260321T173000
DTSTAMP:20260423T132634
CREATED:20260319T181901Z
LAST-MODIFIED:20260319T181901Z
UID:10024-1774114200-1774114200@goalbaadriatica.it
SUMMARY:Giornata Mondiale della Poesia - Incontro culturale e letture poetiche
DESCRIPTION:In occasione della Giornata Mondiale della Poesia\, Sabato 21 marzo Alba Adriatica ospita un appuntamento dedicato alla forza della parola e al valore civile della poesia. \nAl centro dell’incontro il volume “Resistenze Poetiche – Poeti contro il colonialismo e il totalitarismo”\, un’opera che racconta la poesia come strumento di impegno\, memoria e resistenza. \nL’evento vedrà i saluti istituzionali della Sindaca Antonietta Casciotti e dell’Assessora alla Cultura Francesca Di Matteo\, seguiti dagli interventi di studiosi e relatori che approfondiranno il tema della poesia come voce libera e consapevole. \nIntervengono: \n\nValeria Di Felice\nLeandro Di Donato\nGilda Traini\nLuisa Serroni\nLuigi Rossi\n\nLetture a cura di: \nLaura Margherita Di Marco (Compagnia dei Merli Bianchi) \nL’iniziativa si svolge con la partecipazione del Centro Studi Internazionale Joyce Lussu\, contribuendo a valorizzare una riflessione contemporanea sulla poesia come strumento di testimonianza e cambiamento. \nUn momento aperto alla cittadinanza per riscoprire il potere delle parole e il loro ruolo nella società. \nCi vediamo sabato 21 marzo alle ore 17:30\, presso Villa Flaiani – Biblioteca Comunale “Domenico Pantone”
URL:https://goalbaadriatica.it/eventi/giornata-mondiale-della-poesia-incontro-culturale-e-letture-poetiche/
LOCATION:Biblioteca Villa Flaiani\, Via Roma 32\, Alba Adriatica\, 64011\, Italy
CATEGORIES:Cultura,Intrattenimento,Lettura,Sociale
ATTACH;FMTTYPE=image/jpeg:https://goalbaadriatica.it/wp-content/uploads/2026/03/Giornata-Mondfiale-della-Poesia.jpg
END:VEVENT
BEGIN:VEVENT
DTSTART;TZID=Europe/Rome:20260322T090000
DTEND;TZID=Europe/Rome:20260322T090000
DTSTAMP:20260423T132634
CREATED:20260316T110721Z
LAST-MODIFIED:20260316T111617Z
UID:9965-1774170000-1774170000@goalbaadriatica.it
SUMMARY:Campionato Regionale Abruzzo di Ginnastica Ritmica – Élite
DESCRIPTION:Domenica 22 marzo 2026\, dalle ore 9:00 presso il Palazzetto dello Sport di Alba Adriatica ospita una giornata dedicata alla grande ginnastica ritmica con il Campionato Regionale Abruzzo – categoria Élite. \nL’evento riunirà le migliori atlete della regione che si confronteranno in esercizi individuali e coreografie spettacolari\, mettendo in mostra tecnica\, eleganza e coordinazione in una disciplina che unisce sport e arte. \nUna manifestazione che rappresenta un importante momento di competizione sportiva ma anche un’occasione per il pubblico di assistere da vicino alle performance di ginnaste di alto livello. \n🎟️ Evento aperto al pubblico
URL:https://goalbaadriatica.it/eventi/campionato-regionale-abruzzo-di-ginnastica-ritmica-elite/
LOCATION:Palazzetto dello sport (Via degli Oleandri)\, Via degli Oleandri\, Alba Adriatica\, 64011\, Italy
CATEGORIES:Ballo,Fitness,Intrattenimento,Ragazzi,Sport
ATTACH;FMTTYPE=image/jpeg:https://goalbaadriatica.it/wp-content/uploads/2026/03/Campionato-Regionale-Ginnastica-Ritmica_22-marzo-26_ok.jpeg
END:VEVENT
BEGIN:VEVENT
DTSTART;TZID=Europe/Rome:20260325T183000
DTEND;TZID=Europe/Rome:20260325T183000
DTSTAMP:20260423T132634
CREATED:20260316T042908Z
LAST-MODIFIED:20260324T143606Z
UID:10028-1774463400-1774463400@goalbaadriatica.it
SUMMARY:Gruppo di Lettura in Biblioteca – Incontri su giovani autrici
DESCRIPTION:Proseguono gli incontri del Gruppo di Lettura in Biblioteca\, promossi dall’associazione Donne in Alba e dedicati alle giovani autrici contemporanee. \nUn ciclo di appuntamenti pensato come spazio libero di confronto\, dove condividere idee\, impressioni e punti di vista\, senza formalità. \nNon è necessario aver letto i libri proposti: il gruppo nasce proprio come momento di dialogo aperto\, in cui ogni partecipante può portare la propria esperienza e contribuire alla discussione\, che spesso si allarga anche oltre i temi del romanzo. \nProssimo appuntamento: Mercoledì 25 marzo 2026\, alle ore 18:30\, presso la Biblioteca Comunale “D. Pantone” – Villa Flaiani \nLibro in discussione: Il mio anno di riposo e oblio di Ottessa Moshfegh \nLa partecipazione è libera\, gratuita e senza prenotazione. \nIl gruppo di lettura si inserisce all’interno di un progetto culturale più ampio\, in fase di sviluppo\, che arricchirà ulteriormente le attività della biblioteca. \nUn invito semplice: vieni\, ascolta\, partecipa. Anche solo per curiosità.
URL:https://goalbaadriatica.it/eventi/gruppo-di-lettura-in-biblioteca-incontri-su-giovani-autrici/
LOCATION:Biblioteca Villa Flaiani\, Via Roma 32\, Alba Adriatica\, 64011\, Italy
CATEGORIES:Cultura,Intrattenimento,Lettura,Sociale
ATTACH;FMTTYPE=image/jpeg:https://goalbaadriatica.it/wp-content/uploads/2026/03/Gruppo-di-Lettura.jpg
END:VEVENT
BEGIN:VEVENT
DTSTART;TZID=Europe/Rome:20260328T173000
DTEND;TZID=Europe/Rome:20260328T173000
DTSTAMP:20260423T132634
CREATED:20260316T050056Z
LAST-MODIFIED:20260324T143619Z
UID:10032-1774719000-1774719000@goalbaadriatica.it
SUMMARY:Arte e Sogno – Conferenza illustrata
DESCRIPTION:Un viaggio tra immaginazione e creatività\, dove l’arte incontra il sogno. \nSabato 28 marzo 2026\, alle ore 17:30\, la Biblioteca Comunale “D. Pantone” di Alba Adriatica ospita “Arte e Sogno”\, conferenza illustrata a cura di Alessandro Cherubini. \nUn appuntamento dedicato a tutti gli appassionati d’arte e curiosi\, per esplorare il legame profondo tra espressione artistica e dimensione onirica\, tra visione e interpretazione. \nUn’occasione per lasciarsi guidare in un percorso suggestivo fatto di immagini\, riflessioni e stimoli culturali\, in un contesto accogliente e aperto alla partecipazione. \n🎟️ Ingresso libero
URL:https://goalbaadriatica.it/eventi/arte-e-sogno-conferenza-illustrata/
LOCATION:Biblioteca Villa Flaiani\, Via Roma 32\, Alba Adriatica\, 64011\, Italy
CATEGORIES:Cultura,Intrattenimento,Lettura,Sociale
ATTACH;FMTTYPE=image/jpeg:https://goalbaadriatica.it/wp-content/uploads/2026/03/Arte-e-Sogno.jpg
END:VEVENT
BEGIN:VEVENT
DTSTART;TZID=Europe/Rome:20260405T183000
DTEND;TZID=Europe/Rome:20260407T233000
DTSTAMP:20260423T132634
CREATED:20260316T171510Z
LAST-MODIFIED:20260402T132006Z
UID:10019-1775413800-1775604600@goalbaadriatica.it
SUMMARY:Festa d’lu Casò – 3 giorni di tradizione\, musica e divertimento
DESCRIPTION:Dal 5 al 7 aprile 2026 torna ad Alba Adriatica\, in Via del Vecchio Forte\, la Festa d’lu Casò\, uno degli appuntamenti più autentici e sentiti del territorio. \nTre giorni all’insegna della tradizione\, della convivialità e dello spettacolo\, con un programma ricco di eventi per tutte le età. \n🍝 Stand gastronomici con specialità locali \n🎶 Musica dal vivo e spettacoli \n🎭 Teatro dialettale e intrattenimento \n🎡 Area giochi per bambini \n🏠 Spazi al coperto \n  \nIl programma: \nDomenica 5 aprile \n\nOre 18:30 – Apertura stand gastronomici\nOre 20:30 – Spettacolo teatrale dialettale “Che scè benedette sti badante”\n\nLunedì 6 aprile \n\nDalle ore 09:00 – Apertura stand e DJ set\nOre 09:30 – Cammino delle Due Chiese (👇 clicca sull’immagine per ingrandire)\n\n \n\nOre 12:00 – Santa Messa\nOre 14:00 – Villaggio dei bambini\nOre 15:00 – Concerto “Direzione Parallele”\nOre 17:00 – Duo comico Lando & Dino\nOre 21:00 – Magia 90 – Viva l’Italia Dance\n\n  \nMartedì 7 aprile \n\nOre 12:30 – Apertura stand\nOre 14:00 – Gara di briscola\nOre 15:00 – Caccia alle uova\nOre 17:30 – Banda musicale\nOre 18:30 – Santa Messa e processione\nOre 20:30 – Concerto Pooh Tribute Band “I Palasport”\nOre 23:30 – Estrazione lotteria\nUn evento che unisce tradizione\, comunità e divertimento\, perfetto per vivere Alba Adriatica in un’atmosfera autentica.
URL:https://goalbaadriatica.it/eventi/festa-dlu-caso-3-giorni-di-tradizione-musica-e-divertimento/
LOCATION:Contrada Casasanta\, Via del Vecchio Forte\, Alba Adriatica\, 64011\, Italy
CATEGORIES:Ballo,Concerti,Cultura,Intrattenimento,Musica,Sagra,Sport
ATTACH;FMTTYPE=image/jpeg:https://goalbaadriatica.it/wp-content/uploads/2026/03/6_Locandina_Festa-d-lu-Caso.jpeg
END:VEVENT
BEGIN:VEVENT
DTSTART;TZID=Europe/Rome:20260418T180000
DTEND;TZID=Europe/Rome:20260418T180000
DTSTAMP:20260423T132634
CREATED:20260316T051735Z
LAST-MODIFIED:20260415T094352Z
UID:10119-1776535200-1776535200@goalbaadriatica.it
SUMMARY:Ritratti e Poetiche: Storie di Donne – Emily Dickinson
DESCRIPTION:Sabato 18 aprile 2026\, alle ore 18:00\, presso la Biblioteca Comunale “D. Pantone” in Villa Flaiani\, un nuovo appuntamento dedicato alla poesia e alle grandi figure femminili della letteratura con “Ritratti e Poetiche: Storie di Donne”\, il ciclo di incontri promosso dall’associazione Donne in Alba. \nProtagonista della serata sarà Emily Dickinson\, tra le voci più intense e originali della poesia mondiale\, raccontata attraverso parole\, immagini e suggestioni artistiche. \nUn evento che intreccia poesia e arte\, con l’intervento della poetessa Paola Loreto\, accompagnato dai quadri dell’artista Joanna Austin e da momenti di lettura ad alta voce\, per un’esperienza coinvolgente e immersiva. \n🎟️ Ingresso libero \nUn’occasione per avvicinarsi alla poesia e riscoprire il valore della parola attraverso lo sguardo di una delle più grandi autrici di sempre.
URL:https://goalbaadriatica.it/eventi/ritratti-e-poetiche-storie-di-donne-emily-dickinson/
LOCATION:Biblioteca Villa Flaiani\, Via Roma 32\, Alba Adriatica\, 64011\, Italy
CATEGORIES:Cultura,Intrattenimento,Lettura,Sociale
ATTACH;FMTTYPE=image/jpeg:https://goalbaadriatica.it/wp-content/uploads/2026/04/Emily-Dickinson.jpeg
END:VEVENT
BEGIN:VEVENT
DTSTART;TZID=Europe/Rome:20260419T090000
DTEND;TZID=Europe/Rome:20260419T090000
DTSTAMP:20260423T132634
CREATED:20260316T051940Z
LAST-MODIFIED:20260415T162149Z
UID:9964-1776589200-1776589200@goalbaadriatica.it
SUMMARY:I Love Rhythmic – Trofeo Amatoriale di Ginnastica Ritmica
DESCRIPTION:Domenica 19 aprile 2026\, alle ore 09:00\, presso il Palazzetto dello Sport – Via degli Oleandri\, Alba Adriatica\, una giornata all’insegna dello sport e della passione per la ginnastica ritmica con il Trofeo Amatoriale “I Love Rhythmic”\, organizzato dalla società Dimensione Fitness. \nIl torneo vedrà la partecipazione di numerose giovani ginnaste impegnate in esercizi con attrezzi e coreografie che esprimono armonia\, movimento e creatività. L’evento rappresenta un’importante occasione di incontro e crescita sportiva per le atlete e un momento di festa per famiglie e appassionati. \nUna giornata di sport dedicata alla ginnastica ritmica\, tra talento\, impegno e spettacolo.
URL:https://goalbaadriatica.it/eventi/i-love-rhythmic-trofeo-amatoriale-di-ginnastica-ritmica/
LOCATION:Palazzetto dello sport (Via degli Oleandri)\, Via degli Oleandri\, Alba Adriatica\, 64011\, Italy
CATEGORIES:Ballo,Fitness,Intrattenimento,Ragazzi,Sport
ATTACH;FMTTYPE=image/jpeg:https://goalbaadriatica.it/wp-content/uploads/2026/03/I-Love-Rhytmic_19-Aprile-26_V2.jpeg
END:VEVENT
BEGIN:VEVENT
DTSTART;TZID=Europe/Rome:20260423T210000
DTEND;TZID=Europe/Rome:20260423T210000
DTSTAMP:20260423T132634
CREATED:20260422T141550Z
LAST-MODIFIED:20260422T143122Z
UID:10144-1776978000-1776978000@goalbaadriatica.it
SUMMARY:Shakespeare Amore Mio
DESCRIPTION:Una serata dedicata al fascino senza tempo della drammaturgia shakespeariana. \nGiovedì 23 aprile 2026\, alle ore 21:00\, presso  l’Auditorium della Scuola Media “E. Fermi” ospita “Shakespeare Amore Mio”\, uno spettacolo teatrale che accompagna il pubblico in un percorso emozionale tra amore\, ironia e passione. \nAttraverso un dialogo evocativo e coinvolgente\, lo spettacolo esplora le mille sfumature dell’amore nella produzione di William Shakespeare\, alternando momenti brillanti e intensi. \nIn scena Maria Egle Spotorno\, Luigi Falconi e Alessandro Mergola\, per una performance capace di avvicinare il pubblico alla grande letteratura in modo accessibile e coinvolgente. \n🎟️ Ingresso gratuito \nUn appuntamento imperdibile per gli amanti del teatro e della cultura.
URL:https://goalbaadriatica.it/eventi/shakespeare-amore-mio/
LOCATION:Auditorium Scuola “E. Fermi”\, Via Saffi\, Alba Adriatica\, 64011\, Italy
CATEGORIES:Cultura,Lettura
ATTACH;FMTTYPE=image/jpeg:https://goalbaadriatica.it/wp-content/uploads/2026/04/Shakespeare.jpg
END:VEVENT
BEGIN:VEVENT
DTSTART;TZID=Europe/Rome:20260424T130000
DTEND;TZID=Europe/Rome:20260426T130000
DTSTAMP:20260423T132634
CREATED:20260422T142028Z
LAST-MODIFIED:20260422T142844Z
UID:10141-1777035600-1777208400@goalbaadriatica.it
SUMMARY:“Sport Senza Confini” – Coppa Costa dei Parchi 2026
DESCRIPTION:Alba Adriatica torna ad essere protagonista dello sport giovanile con la Coppa Costa dei Parchi 2026\, uno degli eventi più attesi del circuito Sport Senza Confini. \nDa venerdi 24 a domenica 26 aprile\, presso i Campi sportivi\, la città ospiterà tre giornate intense di competizione\, passione e condivisione\, coinvolgendo squadre provenienti da tutta Italia in un’esperienza che va oltre il campo da gioco. \nTra partite\, momenti di squadra e la suggestiva sfilata inaugurale\, il torneo rappresenta un’occasione unica per vivere lo sport in un clima di amicizia e fair play. \n\nIL PROGRAMMA UFFICIALE\n\n\n VENERDÌ 24 APRILE\nAccoglienza e primi momenti di squadra:\n\nCheck-in in hotel (13:00 – 15:00)\nOre 17:30 riunione tecnica e consegna calendari\nOre 18:00 sfilata inaugurale: emozioni\, colori e orgoglio di squadra\nOre 19:30 cena\n\n\n\n SABATO 25 APRILE\nSi entra nel vivo della competizione:\n\nMattina: gare di qualificazione (09:00 – 12:30)\nOre 13:30 pranzo\nPomeriggio: semifinali (15:00 – 19:00)\nOre 19:30 cena\n\n\n\n DOMENICA 26 APRILE\nIl giorno delle decisioni:\n\nFinali e premiazioni (09:00 – 13:00)\nOre 13:00 pranzo\nA seguire… saluti e partenze\n\n\nUn evento che unisce sport e turismo\, portando in città energia\, entusiasmo e tante emozioni.
URL:https://goalbaadriatica.it/eventi/sport-senza-confini-coppa-costa-dei-parchi-2026/
LOCATION:Campo Sportivo Luca Vallese\, SP9c\, 19\, Alba Adriatica TE\, 64011\, Italy
CATEGORIES:Fitness,Intrattenimento,Sport
ATTACH;FMTTYPE=image/jpeg:https://goalbaadriatica.it/wp-content/uploads/2026/04/Sport-senza-Confini.jpg
END:VEVENT
BEGIN:VEVENT
DTSTART;TZID=Europe/Rome:20260426T080000
DTEND;TZID=Europe/Rome:20260426T200000
DTSTAMP:20260423T132634
CREATED:20260422T142243Z
LAST-MODIFIED:20260422T142549Z
UID:10134-1777190400-1777233600@goalbaadriatica.it
SUMMARY:Mercatino Arte e Sapori – VII edizione
DESCRIPTION:Torna ad Alba Adriatica uno degli appuntamenti più amati della primavera: il Mercatino Arte e Sapori\, giunto alla sua settima edizione. \nDomenica 26 aprile 2026\, dalle ore 08:00 il Lungomare Nord si trasforma in un vivace percorso tra colori\, profumi e tradizioni\, dove sarà possibile passeggiare tra stand di artigianato\, prodotti tipici\, dolciumi e curiosità. \nUn’occasione perfetta per vivere la città all’aria aperta\, tra shopping\, relax e atmosfera di festa\, a pochi passi dal mare. \nIdeale per tutta la famiglia\, tra gusto\, creatività e primavera sul mare.
URL:https://goalbaadriatica.it/eventi/mercatino-arte-e-sapori-vii-edizione/
LOCATION:Lungomare Marconi Nord (angolo via Turati)\, Via Lungomare Marconi 7\, Alba Adriatica\, TE\, 64011\, Italia
CATEGORIES:Mercatino,Shopping
ATTACH;FMTTYPE=image/png:https://goalbaadriatica.it/wp-content/uploads/2026/04/Mercatino.png
END:VEVENT
END:VCALENDAR